BEGIN:VCALENDAR
VERSION:2.0
PRODID:-//Nico&#039;s Kailua - ECPv6.15.20//NONSGML v1.0//EN
CALSCALE:GREGORIAN
METHOD:PUBLISH
X-WR-CALNAME:Nico&#039;s Kailua
X-ORIGINAL-URL:https://nicoskailua.com
X-WR-CALDESC:Events for Nico&#039;s Kailua
REFRESH-INTERVAL;VALUE=DURATION:PT1H
X-Robots-Tag:noindex
X-PUBLISHED-TTL:PT1H
BEGIN:VTIMEZONE
TZID:UTC
BEGIN:STANDARD
TZOFFSETFROM:+0000
TZOFFSETTO:+0000
TZNAME:UTC
DTSTART:20240101T000000
END:STANDARD
END:VTIMEZONE
BEGIN:VTIMEZONE
TZID:Pacific/Honolulu
BEGIN:STANDARD
TZOFFSETFROM:-1000
TZOFFSETTO:-1000
TZNAME:HST
DTSTART:20240101T000000
END:STANDARD
END:VTIMEZONE
BEGIN:VEVENT
DTSTART;VALUE=DATE:20250317
DTEND;VALUE=DATE:20250318
DTSTAMP:20260423T070855
CREATED:20250225T235752Z
LAST-MODIFIED:20250225T235752Z
UID:8187-1742169600-1742255999@nicoskailua.com
SUMMARY:-CLOSED ALL DAY-
DESCRIPTION:
URL:https://nicoskailua.com/music/closed-all-day-65/
END:VEVENT
BEGIN:VEVENT
DTSTART;TZID=Pacific/Honolulu:20250317T153000
DTEND;TZID=Pacific/Honolulu:20250317T210000
DTSTAMP:20260423T070855
CREATED:20250306T230910Z
LAST-MODIFIED:20250306T230910Z
UID:8344-1742225400-1742245200@nicoskailua.com
SUMMARY:OPEN FOR ST PATTY'S
DESCRIPTION:Open from 3:30 pm till 9 pm. Lounge and bar area open only!! Come join us for some bar and menu specials! Dinner menu not available on this night.
URL:https://nicoskailua.com/music/open-for-st-pattys/
END:VEVENT
END:VCALENDAR