BEGIN:VCALENDAR
VERSION:2.0
PRODID:-//Nico&#039;s Kailua - ECPv6.15.20//NONSGML v1.0//EN
CALSCALE:GREGORIAN
METHOD:PUBLISH
X-ORIGINAL-URL:https://nicoskailua.com
X-WR-CALDESC:Events for Nico&#039;s Kailua
REFRESH-INTERVAL;VALUE=DURATION:PT1H
X-Robots-Tag:noindex
X-PUBLISHED-TTL:PT1H
BEGIN:VTIMEZONE
TZID:UTC
BEGIN:STANDARD
TZOFFSETFROM:+0000
TZOFFSETTO:+0000
TZNAME:UTC
DTSTART:20250101T000000
END:STANDARD
END:VTIMEZONE
BEGIN:VEVENT
DTSTART;TZID=UTC:20260405T180000
DTEND;TZID=UTC:20260405T200000
DTSTAMP:20260422T021617
CREATED:20260330T220652Z
LAST-MODIFIED:20260330T220652Z
UID:12881-1775412000-1775419200@nicoskailua.com
SUMMARY:Kawika Kahi'apo
DESCRIPTION:With a laundry list of accomplishments (multiple Hoku Hanohano awardee and Grammy Award winner to name a few)\, this full-blooded Hawaiian needs no further introduction… Gracing us with his presence is Kawika Kahi’apo.
URL:https://nicoskailua.com/music/kawika-kahiapo-20/
END:VEVENT
END:VCALENDAR