BEGIN:VCALENDAR
VERSION:2.0
PRODID:-//Nico&#039;s Kailua - ECPv6.15.20//NONSGML v1.0//EN
CALSCALE:GREGORIAN
METHOD:PUBLISH
X-WR-CALNAME:Nico&#039;s Kailua
X-ORIGINAL-URL:https://nicoskailua.com
X-WR-CALDESC:Events for Nico&#039;s Kailua
REFRESH-INTERVAL;VALUE=DURATION:PT1H
X-Robots-Tag:noindex
X-PUBLISHED-TTL:PT1H
BEGIN:VTIMEZONE
TZID:UTC
BEGIN:STANDARD
TZOFFSETFROM:+0000
TZOFFSETTO:+0000
TZNAME:UTC
DTSTART:20250101T000000
END:STANDARD
END:VTIMEZONE
BEGIN:VEVENT
DTSTART;TZID=UTC:20260417T180000
DTEND;TZID=UTC:20260417T200000
DTSTAMP:20260422T021152
CREATED:20260330T220247Z
LAST-MODIFIED:20260330T220247Z
UID:12869-1776448800-1776456000@nicoskailua.com
SUMMARY:Kama Kakaio
DESCRIPTION:Please welcome\, Kama Kakaio! Contemporary music to match the onolicious grindz.
URL:https://nicoskailua.com/music/kama-kakaio-111/
END:VEVENT
END:VCALENDAR