BEGIN:VCALENDAR
VERSION:2.0
PRODID:-//Nico&#039;s Kailua - ECPv6.15.20//NONSGML v1.0//EN
CALSCALE:GREGORIAN
METHOD:PUBLISH
X-WR-CALNAME:Nico&#039;s Kailua
X-ORIGINAL-URL:https://nicoskailua.com
X-WR-CALDESC:Events for Nico&#039;s Kailua
REFRESH-INTERVAL;VALUE=DURATION:PT1H
X-Robots-Tag:noindex
X-PUBLISHED-TTL:PT1H
BEGIN:VTIMEZONE
TZID:UTC
BEGIN:STANDARD
TZOFFSETFROM:+0000
TZOFFSETTO:+0000
TZNAME:UTC
DTSTART:20240101T000000
END:STANDARD
END:VTIMEZONE
BEGIN:VEVENT
DTSTART;TZID=UTC:20250321T180000
DTEND;TZID=UTC:20250321T200000
DTSTAMP:20260423T015847
CREATED:20250226T002054Z
LAST-MODIFIED:20250303T231858Z
UID:8205-1742580000-1742587200@nicoskailua.com
SUMMARY:Kama Kakaio
DESCRIPTION:Please welcome\, Kama Kakaio! Contemporary music to match with the onolicious grindz.
URL:https://nicoskailua.com/music/kama-kakaio-62/
END:VEVENT
BEGIN:VEVENT
DTSTART;TZID=UTC:20250322T180000
DTEND;TZID=UTC:20250322T200000
DTSTAMP:20260423T015847
CREATED:20250226T003515Z
LAST-MODIFIED:20250303T231515Z
UID:8223-1742666400-1742673600@nicoskailua.com
SUMMARY:Walt Keale
DESCRIPTION:Keale is nephew to the Hawaiian music legend\, Uncle Moe Keale\, and first-cousin to Skippy and Israel IZ Kamakawiwo’ole. His music brings forward the legacy of the Keale family.
URL:https://nicoskailua.com/music/walt-keale-55/
END:VEVENT
BEGIN:VEVENT
DTSTART;TZID=UTC:20250323T180000
DTEND;TZID=UTC:20250323T200000
DTSTAMP:20260423T015847
CREATED:20250303T234023Z
LAST-MODIFIED:20250303T234023Z
UID:8294-1742752800-1742760000@nicoskailua.com
SUMMARY:Blaine Kia
DESCRIPTION:Blaine Kia of Kamanawa joins us tonight sharing vast repertoire of songs ranging from traditional Hawaiian to Classic Rock and beyond!
URL:https://nicoskailua.com/music/blaine-kia-17/
END:VEVENT
BEGIN:VEVENT
DTSTART;VALUE=DATE:20250324
DTEND;VALUE=DATE:20250325
DTSTAMP:20260423T015847
CREATED:20250225T235815Z
LAST-MODIFIED:20250225T235815Z
UID:8189-1742774400-1742860799@nicoskailua.com
SUMMARY:-CLOSED ALL DAY-
DESCRIPTION:
URL:https://nicoskailua.com/music/closed-all-day-66/
END:VEVENT
BEGIN:VEVENT
DTSTART;TZID=UTC:20250325T180000
DTEND;TZID=UTC:20250325T200000
DTSTAMP:20260423T015847
CREATED:20250226T000605Z
LAST-MODIFIED:20250303T231515Z
UID:8199-1742925600-1742932800@nicoskailua.com
SUMMARY:Hōkū Zuttermeister
DESCRIPTION:Hōkū Zuttermeister was born and raised in Kāne‘ohe\, Hawai‘i\, to parents Carl and Susan Zuttermeister. As Hōkū grew into his musical abilities\, he and his friends found an innate desire to play the music that their kūpuna listened to and performed; the music of the Hawaiian Renaissance as broadcast on the old KCCN 1420AM.    It is from this following that word of Hōkū’s talent started to spread throughout the islands\, as well as the Mainland US and Asia.
URL:https://nicoskailua.com/music/hoku-zuttermeister-57/
END:VEVENT
BEGIN:VEVENT
DTSTART;TZID=UTC:20250326T180000
DTEND;TZID=UTC:20250326T200000
DTSTAMP:20260423T015847
CREATED:20250303T233328Z
LAST-MODIFIED:20250303T233328Z
UID:8286-1743012000-1743019200@nicoskailua.com
SUMMARY:Anthony Pfluke
DESCRIPTION:Born and raised in Maui\, Anthony has been rooted in Hawaiian music from an early age\, forging an original path perpetuating the music of his home. Writing and performing Hawaiian\, contemporary\, and reggae-influenced music
URL:https://nicoskailua.com/music/anthony-pfluke-6/
END:VEVENT
BEGIN:VEVENT
DTSTART;TZID=UTC:20250327T180000
DTEND;TZID=UTC:20250327T200000
DTSTAMP:20260423T015847
CREATED:20250226T002801Z
LAST-MODIFIED:20250303T231516Z
UID:8215-1743098400-1743105600@nicoskailua.com
SUMMARY:Greg and Darrel
DESCRIPTION:“ Hawaii born and raised\, Greg Sardinha\, is a talented and veteran steel guitar player.  He has played many genre’s of music but his passion is sharing the music of  the Hawaiian Steel Guitar.  Greg\, has won the 2018 Na Hoku Hanohano Instrumental Album\, with his collaboration with Jeff Peterson and Tsun-Hui Hung\, as well as\, the 2014 Na Hoku Hanohano award for Instrumental Album of the Year for his solo release “Stainless.” ” \n  \n– gregsardinha.com (source)
URL:https://nicoskailua.com/music/greg-and-darrel-63/
END:VEVENT
BEGIN:VEVENT
DTSTART;TZID=UTC:20250328T180000
DTEND;TZID=UTC:20250328T200000
DTSTAMP:20260423T015847
CREATED:20250226T002128Z
LAST-MODIFIED:20250303T231943Z
UID:8207-1743184800-1743192000@nicoskailua.com
SUMMARY:Kama Kakaio
DESCRIPTION:Please welcome\, Kama Kakaio! Contemporary music to match with the onolicious grindz.
URL:https://nicoskailua.com/music/kama-kakaio-63/
END:VEVENT
BEGIN:VEVENT
DTSTART;TZID=UTC:20250329T180000
DTEND;TZID=UTC:20250329T200000
DTSTAMP:20260423T015847
CREATED:20250226T003549Z
LAST-MODIFIED:20250303T231515Z
UID:8225-1743271200-1743278400@nicoskailua.com
SUMMARY:Walt Keale
DESCRIPTION:Keale is nephew to the Hawaiian music legend\, Uncle Moe Keale\, and first-cousin to Skippy and Israel IZ Kamakawiwo’ole. His music brings forward the legacy of the Keale family.
URL:https://nicoskailua.com/music/walt-keale-56/
END:VEVENT
BEGIN:VEVENT
DTSTART;TZID=UTC:20250330T180000
DTEND;TZID=UTC:20250330T200000
DTSTAMP:20260423T015847
CREATED:20250303T233617Z
LAST-MODIFIED:20250303T233617Z
UID:8290-1743357600-1743364800@nicoskailua.com
SUMMARY:Chris Rego
DESCRIPTION:Chis Rego will entertain you with a wide variety of music\, Ki ho alu (slack-key)\, Hawaiian\, American roots (Blues-Folk-Bluegrass)\, International Brazilian\, Spanish (flamenco)\, and finally Rock and Contemporary Songs. Chris’s professional career began when he joined the Hawaiian music group Kaleo o Kalani.
URL:https://nicoskailua.com/music/chris-rego-31/
END:VEVENT
BEGIN:VEVENT
DTSTART;VALUE=DATE:20250331
DTEND;VALUE=DATE:20250401
DTSTAMP:20260423T015847
CREATED:20250225T235936Z
LAST-MODIFIED:20250225T235936Z
UID:8191-1743379200-1743465599@nicoskailua.com
SUMMARY:-CLOSED ALL DAY-
DESCRIPTION:
URL:https://nicoskailua.com/music/closed-all-day-67/
END:VEVENT
BEGIN:VEVENT
DTSTART;TZID=UTC:20250401T180000
DTEND;TZID=UTC:20250401T200000
DTSTAMP:20260423T015847
CREATED:20250324T211851Z
LAST-MODIFIED:20250401T215401Z
UID:8527-1743530400-1743537600@nicoskailua.com
SUMMARY:Hōkū Zuttermeister
DESCRIPTION:Hōkū Zuttermeister was born and raised in Kāne‘ohe\, Hawai‘i\, to parents Carl and Susan Zuttermeister. As Hōkū grew into his musical abilities\, he and his friends found an innate desire to play the music that their kūpuna listened to and performed; the music of the Hawaiian Renaissance as broadcast on the old KCCN 1420AM.    It is from this following that word of Hōkū’s talent started to spread throughout the islands\, as well as the Mainland US and Asia.
URL:https://nicoskailua.com/music/hoku-zuttermeister-58/
END:VEVENT
BEGIN:VEVENT
DTSTART;TZID=UTC:20250402T180000
DTEND;TZID=UTC:20250402T200000
DTSTAMP:20260423T015847
CREATED:20250401T215530Z
LAST-MODIFIED:20250401T215530Z
UID:8636-1743616800-1743624000@nicoskailua.com
SUMMARY:Mark Yim
DESCRIPTION:A long-time member of the Peter Moon Band\, Mark Yim plays all the Hawaii classics
URL:https://nicoskailua.com/music/mark-yim-6/
END:VEVENT
BEGIN:VEVENT
DTSTART;TZID=UTC:20250403T180000
DTEND;TZID=UTC:20250403T200000
DTSTAMP:20260423T015847
CREATED:20250324T214700Z
LAST-MODIFIED:20250401T215350Z
UID:8547-1743703200-1743710400@nicoskailua.com
SUMMARY:Greg and Darrel
DESCRIPTION:“ Hawaii born and raised\, Greg Sardinha\, is a talented and veteran steel guitar player.  He has played many genre’s of music but his passion is sharing the music of  the Hawaiian Steel Guitar.  Greg\, has won the 2018 Na Hoku Hanohano Instrumental Album\, with his collaboration with Jeff Peterson and Tsun-Hui Hung\, as well as\, the 2014 Na Hoku Hanohano award for Instrumental Album of the Year for his solo release “Stainless.” ” \n  \n– gregsardinha.com (source)
URL:https://nicoskailua.com/music/greg-and-darrel-64/
END:VEVENT
BEGIN:VEVENT
DTSTART;TZID=UTC:20250404T180000
DTEND;TZID=UTC:20250404T200000
DTSTAMP:20260423T015847
CREATED:20250324T221056Z
LAST-MODIFIED:20250401T215350Z
UID:8555-1743789600-1743796800@nicoskailua.com
SUMMARY:Kama Kakaio
DESCRIPTION:Please welcome\, Kama Kakaio! Contemporary music to match with the onolicious grindz.
URL:https://nicoskailua.com/music/kama-kakaio-64/
END:VEVENT
BEGIN:VEVENT
DTSTART;TZID=UTC:20250405T180000
DTEND;TZID=UTC:20250405T200000
DTSTAMP:20260423T015847
CREATED:20250324T221408Z
LAST-MODIFIED:20250401T215350Z
UID:8564-1743876000-1743883200@nicoskailua.com
SUMMARY:Walt Keale
DESCRIPTION:Keale is nephew to the Hawaiian music legend\, Uncle Moe Keale\, and first-cousin to Skippy and Israel IZ Kamakawiwo’ole. His music brings forward the legacy of the Keale family.
URL:https://nicoskailua.com/music/walt-keale-57/
END:VEVENT
BEGIN:VEVENT
DTSTART;TZID=UTC:20250406T180000
DTEND;TZID=UTC:20250406T200000
DTSTAMP:20260423T015847
CREATED:20250327T222142Z
LAST-MODIFIED:20250401T215350Z
UID:8598-1743962400-1743969600@nicoskailua.com
SUMMARY:Blaine Kia
DESCRIPTION:Blaine Kia of Kamanawa joins us tonight sharing vast repertoire of songs ranging from traditional Hawaiian to Classic Rock and beyond!
URL:https://nicoskailua.com/music/blaine-kia-18/
END:VEVENT
BEGIN:VEVENT
DTSTART;VALUE=DATE:20250407
DTEND;VALUE=DATE:20250408
DTSTAMP:20260423T015847
CREATED:20250324T211519Z
LAST-MODIFIED:20250324T211519Z
UID:8519-1743984000-1744070399@nicoskailua.com
SUMMARY:-CLOSED ALL DAY-
DESCRIPTION:
URL:https://nicoskailua.com/music/closed-all-day-68/
END:VEVENT
BEGIN:VEVENT
DTSTART;TZID=UTC:20250408T180000
DTEND;TZID=UTC:20250408T200000
DTSTAMP:20260423T015847
CREATED:20250324T211923Z
LAST-MODIFIED:20250401T215350Z
UID:8529-1744135200-1744142400@nicoskailua.com
SUMMARY:Hōkū Zuttermeister
DESCRIPTION:Hōkū Zuttermeister was born and raised in Kāne‘ohe\, Hawai‘i\, to parents Carl and Susan Zuttermeister. As Hōkū grew into his musical abilities\, he and his friends found an innate desire to play the music that their kūpuna listened to and performed; the music of the Hawaiian Renaissance as broadcast on the old KCCN 1420AM.    It is from this following that word of Hōkū’s talent started to spread throughout the islands\, as well as the Mainland US and Asia.
URL:https://nicoskailua.com/music/hoku-zuttermeister-59/
END:VEVENT
BEGIN:VEVENT
DTSTART;TZID=UTC:20250409T180000
DTEND;TZID=UTC:20250409T200000
DTSTAMP:20260423T015847
CREATED:20250401T215552Z
LAST-MODIFIED:20250401T215552Z
UID:8638-1744221600-1744228800@nicoskailua.com
SUMMARY:Mark Yim
DESCRIPTION:A long-time member of the Peter Moon Band\, Mark Yim plays all the Hawaii classics
URL:https://nicoskailua.com/music/mark-yim-7/
END:VEVENT
BEGIN:VEVENT
DTSTART;TZID=UTC:20250410T180000
DTEND;TZID=UTC:20250410T200000
DTSTAMP:20260423T015847
CREATED:20250324T214931Z
LAST-MODIFIED:20250401T215350Z
UID:8549-1744308000-1744315200@nicoskailua.com
SUMMARY:Greg and Darrel
DESCRIPTION:“ Hawaii born and raised\, Greg Sardinha\, is a talented and veteran steel guitar player.  He has played many genre’s of music but his passion is sharing the music of  the Hawaiian Steel Guitar.  Greg\, has won the 2018 Na Hoku Hanohano Instrumental Album\, with his collaboration with Jeff Peterson and Tsun-Hui Hung\, as well as\, the 2014 Na Hoku Hanohano award for Instrumental Album of the Year for his solo release “Stainless.” ” \n  \n– gregsardinha.com (source)
URL:https://nicoskailua.com/music/greg-and-darrel-65/
END:VEVENT
BEGIN:VEVENT
DTSTART;TZID=UTC:20250411T180000
DTEND;TZID=UTC:20250411T200000
DTSTAMP:20260423T015847
CREATED:20250324T221154Z
LAST-MODIFIED:20250401T215350Z
UID:8558-1744394400-1744401600@nicoskailua.com
SUMMARY:Kama Kakaio
DESCRIPTION:Please welcome\, Kama Kakaio! Contemporary music to match with the onolicious grindz.
URL:https://nicoskailua.com/music/kama-kakaio-65/
END:VEVENT
BEGIN:VEVENT
DTSTART;TZID=UTC:20250412T180000
DTEND;TZID=UTC:20250412T200000
DTSTAMP:20260423T015847
CREATED:20250324T221645Z
LAST-MODIFIED:20250401T215350Z
UID:8566-1744480800-1744488000@nicoskailua.com
SUMMARY:Walt Keale
DESCRIPTION:Keale is nephew to the Hawaiian music legend\, Uncle Moe Keale\, and first-cousin to Skippy and Israel IZ Kamakawiwo’ole. His music brings forward the legacy of the Keale family.
URL:https://nicoskailua.com/music/walt-keale-58/
END:VEVENT
BEGIN:VEVENT
DTSTART;TZID=UTC:20250413T180000
DTEND;TZID=UTC:20250413T200000
DTSTAMP:20260423T015847
CREATED:20250401T215650Z
LAST-MODIFIED:20250401T215650Z
UID:8640-1744567200-1744574400@nicoskailua.com
SUMMARY:Chris Rego
DESCRIPTION:Chis Rego will entertain you with a wide variety of music\, Ki ho alu (slack-key)\, Hawaiian\, American roots (Blues-Folk-Bluegrass)\, International Brazilian\, Spanish (flamenco)\, and finally Rock and Contemporary Songs. Chris’s professional career began when he joined the Hawaiian music group Kaleo o Kalani.
URL:https://nicoskailua.com/music/chris-rego-33/
END:VEVENT
BEGIN:VEVENT
DTSTART;VALUE=DATE:20250414
DTEND;VALUE=DATE:20250415
DTSTAMP:20260423T015847
CREATED:20250324T211549Z
LAST-MODIFIED:20250324T211549Z
UID:8521-1744588800-1744675199@nicoskailua.com
SUMMARY:-CLOSED ALL DAY-
DESCRIPTION:
URL:https://nicoskailua.com/music/closed-all-day-69/
END:VEVENT
BEGIN:VEVENT
DTSTART;TZID=UTC:20250415T180000
DTEND;TZID=UTC:20250415T200000
DTSTAMP:20260423T015847
CREATED:20250324T212458Z
LAST-MODIFIED:20250401T215350Z
UID:8531-1744740000-1744747200@nicoskailua.com
SUMMARY:Hōkū Zuttermeister
DESCRIPTION:Hōkū Zuttermeister was born and raised in Kāne‘ohe\, Hawai‘i\, to parents Carl and Susan Zuttermeister. As Hōkū grew into his musical abilities\, he and his friends found an innate desire to play the music that their kūpuna listened to and performed; the music of the Hawaiian Renaissance as broadcast on the old KCCN 1420AM.    It is from this following that word of Hōkū’s talent started to spread throughout the islands\, as well as the Mainland US and Asia.
URL:https://nicoskailua.com/music/hoku-zuttermeister-60/
END:VEVENT
BEGIN:VEVENT
DTSTART;TZID=UTC:20250416T180000
DTEND;TZID=UTC:20250416T200000
DTSTAMP:20260423T015847
CREATED:20250324T214527Z
LAST-MODIFIED:20250401T215350Z
UID:8541-1744826400-1744833600@nicoskailua.com
SUMMARY:Anthony Pfluke
DESCRIPTION:Born and raised in Maui\, Anthony has been rooted in Hawaiian music from an early age\, forging an original path perpetuating the music of his home. Writing and performing Hawaiian\, contemporary\, and reggae-influenced music
URL:https://nicoskailua.com/music/anthony-pfluke-9/
END:VEVENT
BEGIN:VEVENT
DTSTART;TZID=UTC:20250417T180000
DTEND;TZID=UTC:20250417T200000
DTSTAMP:20260423T015847
CREATED:20250324T214958Z
LAST-MODIFIED:20250401T215350Z
UID:8551-1744912800-1744920000@nicoskailua.com
SUMMARY:Greg and Darrel
DESCRIPTION:“ Hawaii born and raised\, Greg Sardinha\, is a talented and veteran steel guitar player.  He has played many genre’s of music but his passion is sharing the music of  the Hawaiian Steel Guitar.  Greg\, has won the 2018 Na Hoku Hanohano Instrumental Album\, with his collaboration with Jeff Peterson and Tsun-Hui Hung\, as well as\, the 2014 Na Hoku Hanohano award for Instrumental Album of the Year for his solo release “Stainless.” ” \n  \n– gregsardinha.com (source)
URL:https://nicoskailua.com/music/greg-and-darrel-66/
END:VEVENT
BEGIN:VEVENT
DTSTART;TZID=UTC:20250418T180000
DTEND;TZID=UTC:20250418T200000
DTSTAMP:20260423T015847
CREATED:20250324T221229Z
LAST-MODIFIED:20250401T215350Z
UID:8560-1744999200-1745006400@nicoskailua.com
SUMMARY:Kama Kakaio
DESCRIPTION:Please welcome\, Kama Kakaio! Contemporary music to match with the onolicious grindz.
URL:https://nicoskailua.com/music/kama-kakaio-66/
END:VEVENT
BEGIN:VEVENT
DTSTART;TZID=UTC:20250419T180000
DTEND;TZID=UTC:20250419T200000
DTSTAMP:20260423T015847
CREATED:20250324T222014Z
LAST-MODIFIED:20250401T215350Z
UID:8568-1745085600-1745092800@nicoskailua.com
SUMMARY:Walt Keale
DESCRIPTION:Keale is nephew to the Hawaiian music legend\, Uncle Moe Keale\, and first-cousin to Skippy and Israel IZ Kamakawiwo’ole. His music brings forward the legacy of the Keale family.
URL:https://nicoskailua.com/music/walt-keale-59/
END:VEVENT
END:VCALENDAR