BEGIN:VCALENDAR
VERSION:2.0
PRODID:-//Nico&#039;s Kailua - ECPv6.15.20//NONSGML v1.0//EN
CALSCALE:GREGORIAN
METHOD:PUBLISH
X-WR-CALNAME:Nico&#039;s Kailua
X-ORIGINAL-URL:https://nicoskailua.com
X-WR-CALDESC:Events for Nico&#039;s Kailua
REFRESH-INTERVAL;VALUE=DURATION:PT1H
X-Robots-Tag:noindex
X-PUBLISHED-TTL:PT1H
BEGIN:VTIMEZONE
TZID:Pacific/Honolulu
BEGIN:STANDARD
TZOFFSETFROM:-1000
TZOFFSETTO:-1000
TZNAME:HST
DTSTART:20240101T000000
END:STANDARD
END:VTIMEZONE
BEGIN:VTIMEZONE
TZID:UTC
BEGIN:STANDARD
TZOFFSETFROM:+0000
TZOFFSETTO:+0000
TZNAME:UTC
DTSTART:20240101T000000
END:STANDARD
END:VTIMEZONE
BEGIN:VEVENT
DTSTART;TZID=Pacific/Honolulu:20250514T180000
DTEND;TZID=Pacific/Honolulu:20250514T200000
DTSTAMP:20260422T011804
CREATED:20250506T015714Z
LAST-MODIFIED:20250506T015714Z
UID:9078-1747245600-1747252800@nicoskailua.com
SUMMARY:Kealohamele Music
DESCRIPTION:Vaughn Henry “Kealohamele” Claude Kalawa is a Hawaii Grown native Hawaiian. Raised in a family of Musicians\, vocalists\, and entertainers. As you can see\, his given Hawaiian name Kealohamele (To love music) tells a story on its own. \nRelocating to Las Vegas wasn’t an option\, but it became a learning experience. Being able to share his talent of Traditional and Contemporary Hawaiian Music on the mainland and around the world. \nRecently returned to Hawaii to continue in his family’s tradition. Rooting back to the Culture of Hawaii through music\, dance\, and language. \nThe love of music begins here!
URL:https://nicoskailua.com/music/kealohamele-music-4/
END:VEVENT
BEGIN:VEVENT
DTSTART;TZID=UTC:20250513T180000
DTEND;TZID=UTC:20250513T200000
DTSTAMP:20260422T011804
CREATED:20250425T004926Z
LAST-MODIFIED:20250430T215919Z
UID:8894-1747159200-1747166400@nicoskailua.com
SUMMARY:Hōkū Zuttermeister
DESCRIPTION:Hōkū Zuttermeister was born and raised in Kāne‘ohe\, Hawai‘i\, to parents Carl and Susan Zuttermeister. As Hōkū grew into his musical abilities\, he and his friends found an innate desire to play the music that their kūpuna listened to and performed; the music of the Hawaiian Renaissance as broadcast on the old KCCN 1420AM.    It is from this following that word of Hōkū’s talent started to spread throughout the islands\, as well as the Mainland US and Asia.
URL:https://nicoskailua.com/music/hoku-zuttermeister-63/
END:VEVENT
BEGIN:VEVENT
DTSTART;VALUE=DATE:20250512
DTEND;VALUE=DATE:20250513
DTSTAMP:20260422T011804
CREATED:20250424T235533Z
LAST-MODIFIED:20250424T235533Z
UID:8880-1747008000-1747094399@nicoskailua.com
SUMMARY:-CLOSED ALL DAY-
DESCRIPTION:
URL:https://nicoskailua.com/music/closed-all-day-73/
END:VEVENT
BEGIN:VEVENT
DTSTART;TZID=UTC:20250511T180000
DTEND;TZID=UTC:20250511T200000
DTSTAMP:20260422T011804
CREATED:20250425T000432Z
LAST-MODIFIED:20250430T215919Z
UID:8888-1746986400-1746993600@nicoskailua.com
SUMMARY:Chris Rego
DESCRIPTION:Chis Rego will entertain you with a wide variety of music\, Ki ho alu (slack-key)\, Hawaiian\, American roots (Blues-Folk-Bluegrass)\, International Brazilian\, Spanish (flamenco)\, and finally Rock and Contemporary Songs. Chris’s professional career began when he joined the Hawaiian music group Kaleo o Kalani.
URL:https://nicoskailua.com/music/chris-rego-36/
END:VEVENT
BEGIN:VEVENT
DTSTART;TZID=UTC:20250510T180000
DTEND;TZID=UTC:20250510T200000
DTSTAMP:20260422T011804
CREATED:20250425T014406Z
LAST-MODIFIED:20250430T215919Z
UID:8928-1746900000-1746907200@nicoskailua.com
SUMMARY:Walt Keale
DESCRIPTION:Keale is nephew to the Hawaiian music legend\, Uncle Moe Keale\, and first-cousin to Skippy and Israel IZ Kamakawiwo’ole. His music brings forward the legacy of the Keale family.
URL:https://nicoskailua.com/music/walt-keale-61/
END:VEVENT
BEGIN:VEVENT
DTSTART;TZID=UTC:20250509T180000
DTEND;TZID=UTC:20250509T200000
DTSTAMP:20260422T011804
CREATED:20250425T013753Z
LAST-MODIFIED:20250430T215919Z
UID:8920-1746813600-1746820800@nicoskailua.com
SUMMARY:Kama Kakaio
DESCRIPTION:Please welcome\, Kama Kakaio! Contemporary music to match with the onolicious grindz.
URL:https://nicoskailua.com/music/kama-kakaio-69/
END:VEVENT
BEGIN:VEVENT
DTSTART;TZID=UTC:20250508T180000
DTEND;TZID=UTC:20250508T200000
DTSTAMP:20260422T011804
CREATED:20250425T012521Z
LAST-MODIFIED:20250430T215932Z
UID:8910-1746727200-1746734400@nicoskailua.com
SUMMARY:Greg and Darrel
DESCRIPTION:“ Hawaii born and raised\, Greg Sardinha\, is a talented and veteran steel guitar player.  He has played many genre’s of music but his passion is sharing the music of  the Hawaiian Steel Guitar.  Greg\, has won the 2018 Na Hoku Hanohano Instrumental Album\, with his collaboration with Jeff Peterson and Tsun-Hui Hung\, as well as\, the 2014 Na Hoku Hanohano award for Instrumental Album of the Year for his solo release “Stainless.” ” \n  \n– gregsardinha.com (source)
URL:https://nicoskailua.com/music/greg-and-darrel-69/
END:VEVENT
BEGIN:VEVENT
DTSTART;TZID=Pacific/Honolulu:20250507T180000
DTEND;TZID=Pacific/Honolulu:20250507T200000
DTSTAMP:20260422T011804
CREATED:20250506T015656Z
LAST-MODIFIED:20250506T015656Z
UID:9076-1746640800-1746648000@nicoskailua.com
SUMMARY:Kealohamele Music
DESCRIPTION:Vaughn Henry “Kealohamele” Claude Kalawa is a Hawaii Grown native Hawaiian. Raised in a family of Musicians\, vocalists\, and entertainers. As you can see\, his given Hawaiian name Kealohamele (To love music) tells a story on its own. \nRelocating to Las Vegas wasn’t an option\, but it became a learning experience. Being able to share his talent of Traditional and Contemporary Hawaiian Music on the mainland and around the world. \nRecently returned to Hawaii to continue in his family’s tradition. Rooting back to the Culture of Hawaii through music\, dance\, and language. \nThe love of music begins here!
URL:https://nicoskailua.com/music/kealohamele-music-3/
END:VEVENT
BEGIN:VEVENT
DTSTART;TZID=UTC:20250506T180000
DTEND;TZID=UTC:20250506T200000
DTSTAMP:20260422T011804
CREATED:20250425T001121Z
LAST-MODIFIED:20250430T215932Z
UID:8892-1746554400-1746561600@nicoskailua.com
SUMMARY:Hōkū Zuttermeister
DESCRIPTION:Hōkū Zuttermeister was born and raised in Kāne‘ohe\, Hawai‘i\, to parents Carl and Susan Zuttermeister. As Hōkū grew into his musical abilities\, he and his friends found an innate desire to play the music that their kūpuna listened to and performed; the music of the Hawaiian Renaissance as broadcast on the old KCCN 1420AM.    It is from this following that word of Hōkū’s talent started to spread throughout the islands\, as well as the Mainland US and Asia.
URL:https://nicoskailua.com/music/hoku-zuttermeister-61/
END:VEVENT
BEGIN:VEVENT
DTSTART;VALUE=DATE:20250505
DTEND;VALUE=DATE:20250506
DTSTAMP:20260422T011804
CREATED:20250424T235503Z
LAST-MODIFIED:20250424T235503Z
UID:8878-1746403200-1746489599@nicoskailua.com
SUMMARY:-CLOSED ALL DAY-
DESCRIPTION:
URL:https://nicoskailua.com/music/closed-all-day-72/
END:VEVENT
BEGIN:VEVENT
DTSTART;TZID=UTC:20250504T180000
DTEND;TZID=UTC:20250504T200000
DTSTAMP:20260422T011804
CREATED:20250425T000331Z
LAST-MODIFIED:20250430T215932Z
UID:8886-1746381600-1746388800@nicoskailua.com
SUMMARY:Chris Rego
DESCRIPTION:Chis Rego will entertain you with a wide variety of music\, Ki ho alu (slack-key)\, Hawaiian\, American roots (Blues-Folk-Bluegrass)\, International Brazilian\, Spanish (flamenco)\, and finally Rock and Contemporary Songs. Chris’s professional career began when he joined the Hawaiian music group Kaleo o Kalani.
URL:https://nicoskailua.com/music/chris-rego-35/
END:VEVENT
BEGIN:VEVENT
DTSTART;TZID=Pacific/Honolulu:20250503T180000
DTEND;TZID=Pacific/Honolulu:20250503T200000
DTSTAMP:20260422T011804
CREATED:20250430T005646Z
LAST-MODIFIED:20250430T215932Z
UID:9014-1746295200-1746302400@nicoskailua.com
SUMMARY:Kealohamele Music
DESCRIPTION:Vaughn Henry “Kealohamele” Claude Kalawa is a Hawaii Grown native Hawaiian. Raised in a family of Musicians\, vocalists\, and entertainers. As you can see\, his given Hawaiian name Kealohamele (To love music) tells a story on its own. \nRelocating to Las Vegas wasn’t an option\, but it became a learning experience. Being able to share his talent of Traditional and Contemporary Hawaiian Music on the mainland and around the world. \nRecently returned to Hawaii to continue in his family’s tradition. Rooting back to the Culture of Hawaii through music\, dance\, and language. \nThe love of music begins here!
URL:https://nicoskailua.com/music/kealohamele-music-2/
END:VEVENT
BEGIN:VEVENT
DTSTART;TZID=UTC:20250502T180000
DTEND;TZID=UTC:20250502T200000
DTSTAMP:20260422T011804
CREATED:20250425T013654Z
LAST-MODIFIED:20250430T215932Z
UID:8918-1746208800-1746216000@nicoskailua.com
SUMMARY:Kama Kakaio
DESCRIPTION:Please welcome\, Kama Kakaio! Contemporary music to match with the onolicious grindz.
URL:https://nicoskailua.com/music/kama-kakaio-68/
END:VEVENT
BEGIN:VEVENT
DTSTART;TZID=UTC:20250501T180000
DTEND;TZID=UTC:20250501T200000
DTSTAMP:20260422T011804
CREATED:20250425T012359Z
LAST-MODIFIED:20250430T215932Z
UID:8908-1746122400-1746129600@nicoskailua.com
SUMMARY:Greg and Darrel
DESCRIPTION:“ Hawaii born and raised\, Greg Sardinha\, is a talented and veteran steel guitar player.  He has played many genre’s of music but his passion is sharing the music of  the Hawaiian Steel Guitar.  Greg\, has won the 2018 Na Hoku Hanohano Instrumental Album\, with his collaboration with Jeff Peterson and Tsun-Hui Hung\, as well as\, the 2014 Na Hoku Hanohano award for Instrumental Album of the Year for his solo release “Stainless.” ” \n  \n– gregsardinha.com (source)
URL:https://nicoskailua.com/music/greg-and-darrel-68/
END:VEVENT
BEGIN:VEVENT
DTSTART;TZID=UTC:20250430T180000
DTEND;TZID=UTC:20250430T200000
DTSTAMP:20260422T011804
CREATED:20250324T214616Z
LAST-MODIFIED:20250401T215350Z
UID:8545-1746036000-1746043200@nicoskailua.com
SUMMARY:Anthony Pfluke
DESCRIPTION:Born and raised in Maui\, Anthony has been rooted in Hawaiian music from an early age\, forging an original path perpetuating the music of his home. Writing and performing Hawaiian\, contemporary\, and reggae-influenced music
URL:https://nicoskailua.com/music/anthony-pfluke-11/
END:VEVENT
BEGIN:VEVENT
DTSTART;TZID=UTC:20250429T180000
DTEND;TZID=UTC:20250429T200000
DTSTAMP:20260422T011804
CREATED:20250324T212627Z
LAST-MODIFIED:20250401T215350Z
UID:8534-1745949600-1745956800@nicoskailua.com
SUMMARY:Hōkū Zuttermeister
DESCRIPTION:Hōkū Zuttermeister was born and raised in Kāne‘ohe\, Hawai‘i\, to parents Carl and Susan Zuttermeister. As Hōkū grew into his musical abilities\, he and his friends found an innate desire to play the music that their kūpuna listened to and performed; the music of the Hawaiian Renaissance as broadcast on the old KCCN 1420AM.    It is from this following that word of Hōkū’s talent started to spread throughout the islands\, as well as the Mainland US and Asia.
URL:https://nicoskailua.com/music/hoku-zuttermeister-62/
END:VEVENT
BEGIN:VEVENT
DTSTART;VALUE=DATE:20250428
DTEND;VALUE=DATE:20250429
DTSTAMP:20260422T011804
CREATED:20250324T211726Z
LAST-MODIFIED:20250324T211726Z
UID:8525-1745798400-1745884799@nicoskailua.com
SUMMARY:-CLOSED ALL DAY-
DESCRIPTION:
URL:https://nicoskailua.com/music/closed-all-day-71/
END:VEVENT
BEGIN:VEVENT
DTSTART;TZID=UTC:20250427T180000
DTEND;TZID=UTC:20250427T200000
DTSTAMP:20260422T011804
CREATED:20250327T222313Z
LAST-MODIFIED:20250327T222313Z
UID:8600-1745776800-1745784000@nicoskailua.com
SUMMARY:Kawika Kahi'apo
DESCRIPTION:With a laundry list of accomplishments (multiple Hoku Hanohano awardee and Grammy Award winner to name a few)\, this full-blooded Hawaiian needs no further introduction… Gracing us with his presence is Kawika Kahi’apo.
URL:https://nicoskailua.com/music/kawika-kahiapo-11/
END:VEVENT
BEGIN:VEVENT
DTSTART;TZID=UTC:20250426T180000
DTEND;TZID=UTC:20250426T200000
DTSTAMP:20260422T011804
CREATED:20250324T222120Z
LAST-MODIFIED:20250401T215350Z
UID:8570-1745690400-1745697600@nicoskailua.com
SUMMARY:Walt Keale
DESCRIPTION:Keale is nephew to the Hawaiian music legend\, Uncle Moe Keale\, and first-cousin to Skippy and Israel IZ Kamakawiwo’ole. His music brings forward the legacy of the Keale family.
URL:https://nicoskailua.com/music/walt-keale-60/
END:VEVENT
BEGIN:VEVENT
DTSTART;TZID=UTC:20250425T180000
DTEND;TZID=UTC:20250425T200000
DTSTAMP:20260422T011804
CREATED:20250324T221332Z
LAST-MODIFIED:20250401T215350Z
UID:8562-1745604000-1745611200@nicoskailua.com
SUMMARY:Kama Kakaio
DESCRIPTION:Please welcome\, Kama Kakaio! Contemporary music to match with the onolicious grindz.
URL:https://nicoskailua.com/music/kama-kakaio-67/
END:VEVENT
BEGIN:VEVENT
DTSTART;TZID=UTC:20250424T180000
DTEND;TZID=UTC:20250424T200000
DTSTAMP:20260422T011804
CREATED:20250324T215032Z
LAST-MODIFIED:20250401T215350Z
UID:8553-1745517600-1745524800@nicoskailua.com
SUMMARY:Greg and Darrel
DESCRIPTION:“ Hawaii born and raised\, Greg Sardinha\, is a talented and veteran steel guitar player.  He has played many genre’s of music but his passion is sharing the music of  the Hawaiian Steel Guitar.  Greg\, has won the 2018 Na Hoku Hanohano Instrumental Album\, with his collaboration with Jeff Peterson and Tsun-Hui Hung\, as well as\, the 2014 Na Hoku Hanohano award for Instrumental Album of the Year for his solo release “Stainless.” ” \n  \n– gregsardinha.com (source)
URL:https://nicoskailua.com/music/greg-and-darrel-67/
END:VEVENT
BEGIN:VEVENT
DTSTART;TZID=UTC:20250423T180000
DTEND;TZID=UTC:20250423T200000
DTSTAMP:20260422T011804
CREATED:20250324T214552Z
LAST-MODIFIED:20250401T215350Z
UID:8543-1745431200-1745438400@nicoskailua.com
SUMMARY:Anthony Pfluke
DESCRIPTION:Born and raised in Maui\, Anthony has been rooted in Hawaiian music from an early age\, forging an original path perpetuating the music of his home. Writing and performing Hawaiian\, contemporary\, and reggae-influenced music
URL:https://nicoskailua.com/music/anthony-pfluke-10/
END:VEVENT
BEGIN:VEVENT
DTSTART;TZID=Pacific/Honolulu:20250422T180000
DTEND;TZID=Pacific/Honolulu:20250422T200000
DTSTAMP:20260422T011804
CREATED:20250416T212055Z
LAST-MODIFIED:20250416T212055Z
UID:8768-1745344800-1745352000@nicoskailua.com
SUMMARY:Kealohamele Music
DESCRIPTION:Vaughn Henry “Kealohamele” Claude Kalawa is a Hawaii Grown native Hawaiian. Raised in a family of Musicians\, vocalists\, and entertainers. As you can see\, his given Hawaiian name Kealohamele (To love music) tells a story on its own. \nRelocating to Las Vegas wasn’t an option\, but it became a learning experience. Being able to share his talent of Traditional and Contemporary Hawaiian Music on the mainland and around the world. \nRecently returned to Hawaii to continue in his family’s tradition. Rooting back to the Culture of Hawaii through music\, dance\, and language. \nThe love of music begins here!
URL:https://nicoskailua.com/music/kealohamele-music/
END:VEVENT
BEGIN:VEVENT
DTSTART;VALUE=DATE:20250421
DTEND;VALUE=DATE:20250422
DTSTAMP:20260422T011804
CREATED:20250324T211634Z
LAST-MODIFIED:20250324T211634Z
UID:8523-1745193600-1745279999@nicoskailua.com
SUMMARY:-CLOSED ALL DAY-
DESCRIPTION:
URL:https://nicoskailua.com/music/closed-all-day-70/
END:VEVENT
BEGIN:VEVENT
DTSTART;TZID=UTC:20250420T180000
DTEND;TZID=UTC:20250420T200000
DTSTAMP:20260422T011804
CREATED:20250401T215711Z
LAST-MODIFIED:20250401T215711Z
UID:8642-1745172000-1745179200@nicoskailua.com
SUMMARY:Chris Rego
DESCRIPTION:Chis Rego will entertain you with a wide variety of music\, Ki ho alu (slack-key)\, Hawaiian\, American roots (Blues-Folk-Bluegrass)\, International Brazilian\, Spanish (flamenco)\, and finally Rock and Contemporary Songs. Chris’s professional career began when he joined the Hawaiian music group Kaleo o Kalani.
URL:https://nicoskailua.com/music/chris-rego-34/
END:VEVENT
BEGIN:VEVENT
DTSTART;TZID=UTC:20250419T180000
DTEND;TZID=UTC:20250419T200000
DTSTAMP:20260422T011804
CREATED:20250324T222014Z
LAST-MODIFIED:20250401T215350Z
UID:8568-1745085600-1745092800@nicoskailua.com
SUMMARY:Walt Keale
DESCRIPTION:Keale is nephew to the Hawaiian music legend\, Uncle Moe Keale\, and first-cousin to Skippy and Israel IZ Kamakawiwo’ole. His music brings forward the legacy of the Keale family.
URL:https://nicoskailua.com/music/walt-keale-59/
END:VEVENT
BEGIN:VEVENT
DTSTART;TZID=UTC:20250418T180000
DTEND;TZID=UTC:20250418T200000
DTSTAMP:20260422T011804
CREATED:20250324T221229Z
LAST-MODIFIED:20250401T215350Z
UID:8560-1744999200-1745006400@nicoskailua.com
SUMMARY:Kama Kakaio
DESCRIPTION:Please welcome\, Kama Kakaio! Contemporary music to match with the onolicious grindz.
URL:https://nicoskailua.com/music/kama-kakaio-66/
END:VEVENT
BEGIN:VEVENT
DTSTART;TZID=UTC:20250417T180000
DTEND;TZID=UTC:20250417T200000
DTSTAMP:20260422T011804
CREATED:20250324T214958Z
LAST-MODIFIED:20250401T215350Z
UID:8551-1744912800-1744920000@nicoskailua.com
SUMMARY:Greg and Darrel
DESCRIPTION:“ Hawaii born and raised\, Greg Sardinha\, is a talented and veteran steel guitar player.  He has played many genre’s of music but his passion is sharing the music of  the Hawaiian Steel Guitar.  Greg\, has won the 2018 Na Hoku Hanohano Instrumental Album\, with his collaboration with Jeff Peterson and Tsun-Hui Hung\, as well as\, the 2014 Na Hoku Hanohano award for Instrumental Album of the Year for his solo release “Stainless.” ” \n  \n– gregsardinha.com (source)
URL:https://nicoskailua.com/music/greg-and-darrel-66/
END:VEVENT
BEGIN:VEVENT
DTSTART;TZID=UTC:20250416T180000
DTEND;TZID=UTC:20250416T200000
DTSTAMP:20260422T011804
CREATED:20250324T214527Z
LAST-MODIFIED:20250401T215350Z
UID:8541-1744826400-1744833600@nicoskailua.com
SUMMARY:Anthony Pfluke
DESCRIPTION:Born and raised in Maui\, Anthony has been rooted in Hawaiian music from an early age\, forging an original path perpetuating the music of his home. Writing and performing Hawaiian\, contemporary\, and reggae-influenced music
URL:https://nicoskailua.com/music/anthony-pfluke-9/
END:VEVENT
BEGIN:VEVENT
DTSTART;TZID=UTC:20250415T180000
DTEND;TZID=UTC:20250415T200000
DTSTAMP:20260422T011804
CREATED:20250324T212458Z
LAST-MODIFIED:20250401T215350Z
UID:8531-1744740000-1744747200@nicoskailua.com
SUMMARY:Hōkū Zuttermeister
DESCRIPTION:Hōkū Zuttermeister was born and raised in Kāne‘ohe\, Hawai‘i\, to parents Carl and Susan Zuttermeister. As Hōkū grew into his musical abilities\, he and his friends found an innate desire to play the music that their kūpuna listened to and performed; the music of the Hawaiian Renaissance as broadcast on the old KCCN 1420AM.    It is from this following that word of Hōkū’s talent started to spread throughout the islands\, as well as the Mainland US and Asia.
URL:https://nicoskailua.com/music/hoku-zuttermeister-60/
END:VEVENT
END:VCALENDAR