BEGIN:VCALENDAR
VERSION:2.0
PRODID:-//Nico&#039;s Kailua - ECPv6.15.20//NONSGML v1.0//EN
CALSCALE:GREGORIAN
METHOD:PUBLISH
X-WR-CALNAME:Nico&#039;s Kailua
X-ORIGINAL-URL:https://nicoskailua.com
X-WR-CALDESC:Events for Nico&#039;s Kailua
REFRESH-INTERVAL;VALUE=DURATION:PT1H
X-Robots-Tag:noindex
X-PUBLISHED-TTL:PT1H
BEGIN:VTIMEZONE
TZID:UTC
BEGIN:STANDARD
TZOFFSETFROM:+0000
TZOFFSETTO:+0000
TZNAME:UTC
DTSTART:20250101T000000
END:STANDARD
END:VTIMEZONE
BEGIN:VTIMEZONE
TZID:Pacific/Honolulu
BEGIN:STANDARD
TZOFFSETFROM:-1000
TZOFFSETTO:-1000
TZNAME:HST
DTSTART:20250101T000000
END:STANDARD
END:VTIMEZONE
BEGIN:VEVENT
DTSTART;TZID=UTC:20260320T180000
DTEND;TZID=UTC:20260320T200000
DTSTAMP:20260422T010932
CREATED:20260228T012410Z
LAST-MODIFIED:20260228T012410Z
UID:12558-1774029600-1774036800@nicoskailua.com
SUMMARY:Kama Kakaio
DESCRIPTION:Please welcome\, Kama Kakaio! Contemporary music to match the onolicious grindz.
URL:https://nicoskailua.com/music/kama-kakaio-107/
END:VEVENT
BEGIN:VEVENT
DTSTART;TZID=Pacific/Honolulu:20260321T180000
DTEND;TZID=Pacific/Honolulu:20260321T200000
DTSTAMP:20260422T010932
CREATED:20260228T013058Z
LAST-MODIFIED:20260228T013058Z
UID:12568-1774116000-1774123200@nicoskailua.com
SUMMARY:Robbie Kelly
DESCRIPTION:Robbie Kelly is a musician from O’ahu\, Hawaii\, known as the frontman\, lead singer\, and rhythm guitarist for the rising rock/country-rock band Twin Fin\, blending nostalgic melodies with classic rock\, country\, and surf vibes\, stemming from North Shore jam sessions\, and also performs solo with heartfelt storytelling\, often seen at local spots like The Velvet Monkey.
URL:https://nicoskailua.com/music/robbie-kelly/
END:VEVENT
BEGIN:VEVENT
DTSTART;TZID=UTC:20260322T180000
DTEND;TZID=UTC:20260322T200000
DTSTAMP:20260422T010932
CREATED:20260228T014053Z
LAST-MODIFIED:20260228T014053Z
UID:12576-1774202400-1774209600@nicoskailua.com
SUMMARY:Blaine Kia
DESCRIPTION:Blaine Kia of Kamanawa joins us tonight sharing vast repertoire of songs ranging from traditional Hawaiian to Classic Rock and beyond!
URL:https://nicoskailua.com/music/blaine-kia-26/
END:VEVENT
BEGIN:VEVENT
DTSTART;VALUE=DATE:20260323
DTEND;VALUE=DATE:20260324
DTSTAMP:20260422T010932
CREATED:20260228T004503Z
LAST-MODIFIED:20260228T004503Z
UID:12528-1774224000-1774310399@nicoskailua.com
SUMMARY:-CLOSED ALL DAY-
DESCRIPTION:
URL:https://nicoskailua.com/music/closed-all-day-118/
END:VEVENT
BEGIN:VEVENT
DTSTART;TZID=UTC:20260324T180000
DTEND;TZID=UTC:20260324T200000
DTSTAMP:20260422T010932
CREATED:20260228T005323Z
LAST-MODIFIED:20260228T005323Z
UID:12534-1774375200-1774382400@nicoskailua.com
SUMMARY:Hōkū Zuttermeister
DESCRIPTION:Hōkū Zuttermeister was born and raised in Kāne‘ohe\, Hawai‘i\, to parents Carl and Susan Zuttermeister. As Hōkū grew into his musical abilities\, he and his friends found an innate desire to play the music that their kūpuna listened to and performed; the music of the Hawaiian Renaissance as broadcast on the old KCCN 1420AM.    It is from this following that word of Hōkū’s talent started to spread throughout the islands\, as well as the Mainland US and Asia.
URL:https://nicoskailua.com/music/hoku-zuttermeister-97/
END:VEVENT
BEGIN:VEVENT
DTSTART;TZID=Pacific/Honolulu:20260325T180000
DTEND;TZID=Pacific/Honolulu:20260325T200000
DTSTAMP:20260422T010932
CREATED:20260228T011622Z
LAST-MODIFIED:20260228T011622Z
UID:12544-1774461600-1774468800@nicoskailua.com
SUMMARY:Jesse Kaawa
DESCRIPTION:Providing Professional Local Music; Smoothing Falsettos\, Traditional Favorites\, Contemporary Hits\, and much more
URL:https://nicoskailua.com/music/jesse-kaawa-30/
END:VEVENT
BEGIN:VEVENT
DTSTART;TZID=UTC:20260326T180000
DTEND;TZID=UTC:20260326T200000
DTSTAMP:20260422T010932
CREATED:20260228T012008Z
LAST-MODIFIED:20260228T012008Z
UID:12552-1774548000-1774555200@nicoskailua.com
SUMMARY:Greg and Darrel
DESCRIPTION:“ Hawaii born and raised\, Greg Sardinha\, is a talented and veteran steel guitar player.  He has played many genre’s of music but his passion is sharing the music of  the Hawaiian Steel Guitar.  Greg\, has won the 2018 Na Hoku Hanohano Instrumental Album\, with his collaboration with Jeff Peterson and Tsun-Hui Hung\, as well as\, the 2014 Na Hoku Hanohano award for Instrumental Album of the Year for his solo release “Stainless.” ” \n  \n– gregsardinha.com (source)
URL:https://nicoskailua.com/music/greg-and-darrel-110/
END:VEVENT
BEGIN:VEVENT
DTSTART;TZID=UTC:20260327T180000
DTEND;TZID=UTC:20260327T200000
DTSTAMP:20260422T010932
CREATED:20260228T012538Z
LAST-MODIFIED:20260228T012538Z
UID:12560-1774634400-1774641600@nicoskailua.com
SUMMARY:Kama Kakaio
DESCRIPTION:Please welcome\, Kama Kakaio! Contemporary music to match the onolicious grindz.
URL:https://nicoskailua.com/music/kama-kakaio-108/
END:VEVENT
BEGIN:VEVENT
DTSTART;TZID=UTC:20260329T180000
DTEND;TZID=UTC:20260329T200000
DTSTAMP:20260422T010932
CREATED:20260228T013419Z
LAST-MODIFIED:20260228T013419Z
UID:12572-1774807200-1774814400@nicoskailua.com
SUMMARY:Chris Rego
DESCRIPTION:Chis Rego will entertain you with a wide variety of music\, Ki ho alu (slack-key)\, Hawaiian\, American roots (Blues-Folk-Bluegrass)\, International Brazilian\, Spanish (flamenco)\, and finally Rock and Contemporary Songs. Chris’s professional career began when he joined the Hawaiian music group Kaleo o Kalani.
URL:https://nicoskailua.com/music/chris-rego-48/
END:VEVENT
BEGIN:VEVENT
DTSTART;VALUE=DATE:20260330
DTEND;VALUE=DATE:20260331
DTSTAMP:20260422T010932
CREATED:20260228T004642Z
LAST-MODIFIED:20260228T004642Z
UID:12530-1774828800-1774915199@nicoskailua.com
SUMMARY:-CLOSED ALL DAY-
DESCRIPTION:
URL:https://nicoskailua.com/music/closed-all-day-119/
END:VEVENT
BEGIN:VEVENT
DTSTART;TZID=UTC:20260331T180000
DTEND;TZID=UTC:20260331T200000
DTSTAMP:20260422T010932
CREATED:20260228T005509Z
LAST-MODIFIED:20260228T005509Z
UID:12536-1774980000-1774987200@nicoskailua.com
SUMMARY:Hōkū Zuttermeister
DESCRIPTION:Hōkū Zuttermeister was born and raised in Kāne‘ohe\, Hawai‘i\, to parents Carl and Susan Zuttermeister. As Hōkū grew into his musical abilities\, he and his friends found an innate desire to play the music that their kūpuna listened to and performed; the music of the Hawaiian Renaissance as broadcast on the old KCCN 1420AM.    It is from this following that word of Hōkū’s talent started to spread throughout the islands\, as well as the Mainland US and Asia.
URL:https://nicoskailua.com/music/hoku-zuttermeister-98/
END:VEVENT
BEGIN:VEVENT
DTSTART;TZID=Pacific/Honolulu:20260401T180000
DTEND;TZID=Pacific/Honolulu:20260401T200000
DTSTAMP:20260422T010932
CREATED:20260330T214752Z
LAST-MODIFIED:20260330T214752Z
UID:12845-1775066400-1775073600@nicoskailua.com
SUMMARY:Jesse Kaawa
DESCRIPTION:Providing Professional Local Music; Smoothing Falsettos\, Traditional Favorites\, Contemporary Hits\, and much more
URL:https://nicoskailua.com/music/jesse-kaawa-31/
END:VEVENT
BEGIN:VEVENT
DTSTART;TZID=UTC:20260402T180000
DTEND;TZID=UTC:20260402T200000
DTSTAMP:20260422T010932
CREATED:20260330T215424Z
LAST-MODIFIED:20260330T215424Z
UID:12855-1775152800-1775160000@nicoskailua.com
SUMMARY:Greg and Darrel
DESCRIPTION:“ Hawaii born and raised\, Greg Sardinha\, is a talented and veteran steel guitar player.  He has played many genre’s of music but his passion is sharing the music of  the Hawaiian Steel Guitar.  Greg\, has won the 2018 Na Hoku Hanohano Instrumental Album\, with his collaboration with Jeff Peterson and Tsun-Hui Hung\, as well as\, the 2014 Na Hoku Hanohano award for Instrumental Album of the Year for his solo release “Stainless.” ” \n  \n– gregsardinha.com (source)
URL:https://nicoskailua.com/music/greg-and-darrel-111/
END:VEVENT
BEGIN:VEVENT
DTSTART;TZID=UTC:20260403T180000
DTEND;TZID=UTC:20260403T200000
DTSTAMP:20260422T010932
CREATED:20260330T220048Z
LAST-MODIFIED:20260330T220048Z
UID:12865-1775239200-1775246400@nicoskailua.com
SUMMARY:Kama Kakaio
DESCRIPTION:Please welcome\, Kama Kakaio! Contemporary music to match the onolicious grindz.
URL:https://nicoskailua.com/music/kama-kakaio-109/
END:VEVENT
BEGIN:VEVENT
DTSTART;TZID=UTC:20260404T180000
DTEND;TZID=UTC:20260404T200000
DTSTAMP:20260422T010932
CREATED:20260330T220416Z
LAST-MODIFIED:20260330T220416Z
UID:12873-1775325600-1775332800@nicoskailua.com
SUMMARY:Walt Keale
DESCRIPTION:Keale is nephew to the Hawaiian music legend\, Uncle Moe Keale\, and first-cousin to Skippy and Israel IZ Kamakawiwo’ole. His music brings forward the legacy of the Keale family.
URL:https://nicoskailua.com/music/walt-keale-98/
END:VEVENT
BEGIN:VEVENT
DTSTART;TZID=UTC:20260405T180000
DTEND;TZID=UTC:20260405T200000
DTSTAMP:20260422T010932
CREATED:20260330T220652Z
LAST-MODIFIED:20260330T220652Z
UID:12881-1775412000-1775419200@nicoskailua.com
SUMMARY:Kawika Kahi'apo
DESCRIPTION:With a laundry list of accomplishments (multiple Hoku Hanohano awardee and Grammy Award winner to name a few)\, this full-blooded Hawaiian needs no further introduction… Gracing us with his presence is Kawika Kahi’apo.
URL:https://nicoskailua.com/music/kawika-kahiapo-20/
END:VEVENT
BEGIN:VEVENT
DTSTART;VALUE=DATE:20260406
DTEND;VALUE=DATE:20260407
DTSTAMP:20260422T010932
CREATED:20260330T214246Z
LAST-MODIFIED:20260330T214246Z
UID:12829-1775433600-1775519999@nicoskailua.com
SUMMARY:-CLOSED ALL DAY-
DESCRIPTION:
URL:https://nicoskailua.com/music/closed-all-day-120/
END:VEVENT
BEGIN:VEVENT
DTSTART;TZID=UTC:20260407T180000
DTEND;TZID=UTC:20260407T200000
DTSTAMP:20260422T010932
CREATED:20260406T211608Z
LAST-MODIFIED:20260406T211608Z
UID:12942-1775584800-1775592000@nicoskailua.com
SUMMARY:Chris Rego
DESCRIPTION:Chis Rego will entertain you with a wide variety of music\, Ki ho alu (slack-key)\, Hawaiian\, American roots (Blues-Folk-Bluegrass)\, International Brazilian\, Spanish (flamenco)\, and finally Rock and Contemporary Songs. Chris’s professional career began when he joined the Hawaiian music group Kaleo o Kalani.
URL:https://nicoskailua.com/music/chris-rego-50/
END:VEVENT
BEGIN:VEVENT
DTSTART;TZID=Pacific/Honolulu:20260408T180000
DTEND;TZID=Pacific/Honolulu:20260408T200000
DTSTAMP:20260422T010932
CREATED:20260330T214946Z
LAST-MODIFIED:20260330T214946Z
UID:12847-1775671200-1775678400@nicoskailua.com
SUMMARY:Jesse Kaawa
DESCRIPTION:Providing Professional Local Music; Smoothing Falsettos\, Traditional Favorites\, Contemporary Hits\, and much more
URL:https://nicoskailua.com/music/jesse-kaawa-32/
END:VEVENT
BEGIN:VEVENT
DTSTART;TZID=UTC:20260409T180000
DTEND;TZID=UTC:20260409T200000
DTSTAMP:20260422T010932
CREATED:20260330T215549Z
LAST-MODIFIED:20260330T215549Z
UID:12857-1775757600-1775764800@nicoskailua.com
SUMMARY:Greg and Darrel
DESCRIPTION:“ Hawaii born and raised\, Greg Sardinha\, is a talented and veteran steel guitar player.  He has played many genre’s of music but his passion is sharing the music of  the Hawaiian Steel Guitar.  Greg\, has won the 2018 Na Hoku Hanohano Instrumental Album\, with his collaboration with Jeff Peterson and Tsun-Hui Hung\, as well as\, the 2014 Na Hoku Hanohano award for Instrumental Album of the Year for his solo release “Stainless.” ” \n  \n– gregsardinha.com (source)
URL:https://nicoskailua.com/music/greg-and-darrel-112/
END:VEVENT
BEGIN:VEVENT
DTSTART;TZID=UTC:20260410T180000
DTEND;TZID=UTC:20260410T200000
DTSTAMP:20260422T010932
CREATED:20260330T220214Z
LAST-MODIFIED:20260330T220214Z
UID:12867-1775844000-1775851200@nicoskailua.com
SUMMARY:Kama Kakaio
DESCRIPTION:Please welcome\, Kama Kakaio! Contemporary music to match the onolicious grindz.
URL:https://nicoskailua.com/music/kama-kakaio-110/
END:VEVENT
BEGIN:VEVENT
DTSTART;TZID=UTC:20260411T180000
DTEND;TZID=UTC:20260411T200000
DTSTAMP:20260422T010932
CREATED:20260330T220450Z
LAST-MODIFIED:20260330T220450Z
UID:12875-1775930400-1775937600@nicoskailua.com
SUMMARY:Walt Keale
DESCRIPTION:Keale is nephew to the Hawaiian music legend\, Uncle Moe Keale\, and first-cousin to Skippy and Israel IZ Kamakawiwo’ole. His music brings forward the legacy of the Keale family.
URL:https://nicoskailua.com/music/walt-keale-99/
END:VEVENT
BEGIN:VEVENT
DTSTART;VALUE=DATE:20260413
DTEND;VALUE=DATE:20260414
DTSTAMP:20260422T010932
CREATED:20260330T214332Z
LAST-MODIFIED:20260330T214332Z
UID:12831-1776038400-1776124799@nicoskailua.com
SUMMARY:-CLOSED ALL DAY-
DESCRIPTION:
URL:https://nicoskailua.com/music/closed-all-day-121/
END:VEVENT
BEGIN:VEVENT
DTSTART;TZID=UTC:20260414T180000
DTEND;TZID=UTC:20260414T200000
DTSTAMP:20260422T010932
CREATED:20260330T214546Z
LAST-MODIFIED:20260330T214546Z
UID:12839-1776189600-1776196800@nicoskailua.com
SUMMARY:Hōkū Zuttermeister
DESCRIPTION:Hōkū Zuttermeister was born and raised in Kāne‘ohe\, Hawai‘i\, to parents Carl and Susan Zuttermeister. As Hōkū grew into his musical abilities\, he and his friends found an innate desire to play the music that their kūpuna listened to and performed; the music of the Hawaiian Renaissance as broadcast on the old KCCN 1420AM.    It is from this following that word of Hōkū’s talent started to spread throughout the islands\, as well as the Mainland US and Asia.
URL:https://nicoskailua.com/music/hoku-zuttermeister-100/
END:VEVENT
BEGIN:VEVENT
DTSTART;TZID=Pacific/Honolulu:20260415T180000
DTEND;TZID=Pacific/Honolulu:20260415T200000
DTSTAMP:20260422T010932
CREATED:20260330T215151Z
LAST-MODIFIED:20260330T215151Z
UID:12849-1776276000-1776283200@nicoskailua.com
SUMMARY:Jesse Kaawa
DESCRIPTION:Providing Professional Local Music; Smoothing Falsettos\, Traditional Favorites\, Contemporary Hits\, and much more
URL:https://nicoskailua.com/music/jesse-kaawa-33/
END:VEVENT
BEGIN:VEVENT
DTSTART;TZID=UTC:20260416T180000
DTEND;TZID=UTC:20260416T200000
DTSTAMP:20260422T010932
CREATED:20260330T215643Z
LAST-MODIFIED:20260330T215643Z
UID:12859-1776362400-1776369600@nicoskailua.com
SUMMARY:Greg and Darrel
DESCRIPTION:“ Hawaii born and raised\, Greg Sardinha\, is a talented and veteran steel guitar player.  He has played many genre’s of music but his passion is sharing the music of  the Hawaiian Steel Guitar.  Greg\, has won the 2018 Na Hoku Hanohano Instrumental Album\, with his collaboration with Jeff Peterson and Tsun-Hui Hung\, as well as\, the 2014 Na Hoku Hanohano award for Instrumental Album of the Year for his solo release “Stainless.” ” \n  \n– gregsardinha.com (source)
URL:https://nicoskailua.com/music/greg-and-darrel-113/
END:VEVENT
BEGIN:VEVENT
DTSTART;TZID=UTC:20260417T180000
DTEND;TZID=UTC:20260417T200000
DTSTAMP:20260422T010932
CREATED:20260330T220247Z
LAST-MODIFIED:20260330T220247Z
UID:12869-1776448800-1776456000@nicoskailua.com
SUMMARY:Kama Kakaio
DESCRIPTION:Please welcome\, Kama Kakaio! Contemporary music to match the onolicious grindz.
URL:https://nicoskailua.com/music/kama-kakaio-111/
END:VEVENT
BEGIN:VEVENT
DTSTART;TZID=UTC:20260418T180000
DTEND;TZID=UTC:20260418T200000
DTSTAMP:20260422T010932
CREATED:20260330T220518Z
LAST-MODIFIED:20260330T220518Z
UID:12877-1776535200-1776542400@nicoskailua.com
SUMMARY:Walt Keale
DESCRIPTION:Keale is nephew to the Hawaiian music legend\, Uncle Moe Keale\, and first-cousin to Skippy and Israel IZ Kamakawiwo’ole. His music brings forward the legacy of the Keale family.
URL:https://nicoskailua.com/music/walt-keale-100/
END:VEVENT
BEGIN:VEVENT
DTSTART;TZID=UTC:20260419T180000
DTEND;TZID=UTC:20260419T200000
DTSTAMP:20260422T010932
CREATED:20260406T211453Z
LAST-MODIFIED:20260406T211453Z
UID:12938-1776621600-1776628800@nicoskailua.com
SUMMARY:Chris Rego
DESCRIPTION:Chis Rego will entertain you with a wide variety of music\, Ki ho alu (slack-key)\, Hawaiian\, American roots (Blues-Folk-Bluegrass)\, International Brazilian\, Spanish (flamenco)\, and finally Rock and Contemporary Songs. Chris’s professional career began when he joined the Hawaiian music group Kaleo o Kalani.
URL:https://nicoskailua.com/music/chris-rego-49/
END:VEVENT
BEGIN:VEVENT
DTSTART;VALUE=DATE:20260420
DTEND;VALUE=DATE:20260421
DTSTAMP:20260422T010932
CREATED:20260330T214401Z
LAST-MODIFIED:20260330T214401Z
UID:12833-1776643200-1776729599@nicoskailua.com
SUMMARY:-CLOSED ALL DAY-
DESCRIPTION:
URL:https://nicoskailua.com/music/closed-all-day-122/
END:VEVENT
END:VCALENDAR