BEGIN:VCALENDAR
VERSION:2.0
PRODID:-//Nico&#039;s Kailua - ECPv6.15.20//NONSGML v1.0//EN
CALSCALE:GREGORIAN
METHOD:PUBLISH
X-WR-CALNAME:Nico&#039;s Kailua
X-ORIGINAL-URL:https://nicoskailua.com
X-WR-CALDESC:Events for Nico&#039;s Kailua
REFRESH-INTERVAL;VALUE=DURATION:PT1H
X-Robots-Tag:noindex
X-PUBLISHED-TTL:PT1H
BEGIN:VTIMEZONE
TZID:UTC
BEGIN:STANDARD
TZOFFSETFROM:+0000
TZOFFSETTO:+0000
TZNAME:UTC
DTSTART:20240101T000000
END:STANDARD
END:VTIMEZONE
BEGIN:VTIMEZONE
TZID:Pacific/Honolulu
BEGIN:STANDARD
TZOFFSETFROM:-1000
TZOFFSETTO:-1000
TZNAME:HST
DTSTART:20240101T000000
END:STANDARD
END:VTIMEZONE
BEGIN:VEVENT
DTSTART;TZID=UTC:20250226T180000
DTEND;TZID=UTC:20250226T200000
DTSTAMP:20260423T064211
CREATED:20250124T223926Z
LAST-MODIFIED:20250130T223619Z
UID:7479-1740592800-1740600000@nicoskailua.com
SUMMARY:Kama Kakaio
DESCRIPTION:Please welcome\, Kama Kakaio! Contemporary music to match with the onolicious grindz.
URL:https://nicoskailua.com/music/kama-kakaio-59/
END:VEVENT
BEGIN:VEVENT
DTSTART;TZID=UTC:20250225T180000
DTEND;TZID=UTC:20250225T200000
DTSTAMP:20260423T064211
CREATED:20250124T222626Z
LAST-MODIFIED:20250130T223619Z
UID:7469-1740506400-1740513600@nicoskailua.com
SUMMARY:Hōkū Zuttermeister
DESCRIPTION:Hōkū Zuttermeister was born and raised in Kāne‘ohe\, Hawai‘i\, to parents Carl and Susan Zuttermeister. As Hōkū grew into his musical abilities\, he and his friends found an innate desire to play the music that their kūpuna listened to and performed; the music of the Hawaiian Renaissance as broadcast on the old KCCN 1420AM.    It is from this following that word of Hōkū’s talent started to spread throughout the islands\, as well as the Mainland US and Asia.
URL:https://nicoskailua.com/music/hoku-zuttermeister-53/
END:VEVENT
BEGIN:VEVENT
DTSTART;VALUE=DATE:20250224
DTEND;VALUE=DATE:20250225
DTSTAMP:20260423T064211
CREATED:20250124T221643Z
LAST-MODIFIED:20250124T221643Z
UID:7463-1740355200-1740441599@nicoskailua.com
SUMMARY:-CLOSED ALL DAY-
DESCRIPTION:
URL:https://nicoskailua.com/music/closed-all-day-62/
END:VEVENT
BEGIN:VEVENT
DTSTART;TZID=UTC:20250223T180000
DTEND;TZID=UTC:20250223T200000
DTSTAMP:20260423T064211
CREATED:20250124T221448Z
LAST-MODIFIED:20250130T223619Z
UID:7455-1740333600-1740340800@nicoskailua.com
SUMMARY:Blaine Kia
DESCRIPTION:Blaine Kia of Kamanawa joins us tonight sharing vast repertoire of songs ranging from traditional Hawaiian to Classic Rock and beyond!
URL:https://nicoskailua.com/music/blaine-kia-16/
END:VEVENT
BEGIN:VEVENT
DTSTART;TZID=UTC:20250222T180000
DTEND;TZID=UTC:20250222T200000
DTSTAMP:20260423T064211
CREATED:20250124T230125Z
LAST-MODIFIED:20250130T223619Z
UID:7499-1740247200-1740254400@nicoskailua.com
SUMMARY:Walt Keale
DESCRIPTION:Keale is nephew to the Hawaiian music legend\, Uncle Moe Keale\, and first-cousin to Skippy and Israel IZ Kamakawiwo’ole. His music brings forward the legacy of the Keale family.
URL:https://nicoskailua.com/music/walt-keale-51/
END:VEVENT
BEGIN:VEVENT
DTSTART;TZID=UTC:20250221T180000
DTEND;TZID=UTC:20250221T200000
DTSTAMP:20260423T064211
CREATED:20250124T225625Z
LAST-MODIFIED:20250130T223619Z
UID:7491-1740160800-1740168000@nicoskailua.com
SUMMARY:Kree Kahoa and Malik P
DESCRIPTION:Kree Kahoa and Malik P! Singer/Songwriter from Kaneohe\, sharing her story one lyric at a time.
URL:https://nicoskailua.com/music/kree-kahoa-and-malik-p-47/
END:VEVENT
BEGIN:VEVENT
DTSTART;TZID=UTC:20250220T180000
DTEND;TZID=UTC:20250220T200000
DTSTAMP:20260423T064211
CREATED:20250124T224736Z
LAST-MODIFIED:20250130T223619Z
UID:7485-1740074400-1740081600@nicoskailua.com
SUMMARY:Greg and Darrel
DESCRIPTION:“ Hawaii born and raised\, Greg Sardinha\, is a talented and veteran steel guitar player.  He has played many genre’s of music but his passion is sharing the music of  the Hawaiian Steel Guitar.  Greg\, has won the 2018 Na Hoku Hanohano Instrumental Album\, with his collaboration with Jeff Peterson and Tsun-Hui Hung\, as well as\, the 2014 Na Hoku Hanohano award for Instrumental Album of the Year for his solo release “Stainless.” ” \n  \n– gregsardinha.com (source)
URL:https://nicoskailua.com/music/greg-and-darrel-58/
END:VEVENT
BEGIN:VEVENT
DTSTART;TZID=UTC:20250219T180000
DTEND;TZID=UTC:20250219T200000
DTSTAMP:20260423T064211
CREATED:20250124T223902Z
LAST-MODIFIED:20250130T223619Z
UID:7477-1739988000-1739995200@nicoskailua.com
SUMMARY:Kama Kakaio
DESCRIPTION:Please welcome\, Kama Kakaio! Contemporary music to match with the onolicious grindz.
URL:https://nicoskailua.com/music/kama-kakaio-58/
END:VEVENT
BEGIN:VEVENT
DTSTART;TZID=Pacific/Honolulu:20250218T180000
DTEND;TZID=Pacific/Honolulu:20250218T200000
DTSTAMP:20260423T064211
CREATED:20250130T224653Z
LAST-MODIFIED:20250130T224653Z
UID:7569-1739901600-1739908800@nicoskailua.com
SUMMARY:Kamaka Camarillo
DESCRIPTION:Kamaka is a Kīhei native who descends from a strong line of musical entertainers and educators. Also\, Kamaka’s aunty is none other than Lehua Kalima\, a singer from the Nā Hōkū Hanohano award-winning group\, Nā Leo Pilimehana.
URL:https://nicoskailua.com/music/kamaka-camarillo-2/
END:VEVENT
BEGIN:VEVENT
DTSTART;VALUE=DATE:20250217
DTEND;VALUE=DATE:20250218
DTSTAMP:20260423T064211
CREATED:20250124T221622Z
LAST-MODIFIED:20250124T221622Z
UID:7461-1739750400-1739836799@nicoskailua.com
SUMMARY:-CLOSED ALL DAY-
DESCRIPTION:
URL:https://nicoskailua.com/music/closed-all-day-61/
END:VEVENT
BEGIN:VEVENT
DTSTART;TZID=UTC:20250216T180000
DTEND;TZID=UTC:20250216T200000
DTSTAMP:20260423T064211
CREATED:20250130T223347Z
LAST-MODIFIED:20250130T223347Z
UID:7565-1739728800-1739736000@nicoskailua.com
SUMMARY:Chris Rego
DESCRIPTION:Chis Rego will entertain you with a wide variety of music\, Ki ho alu (slack-key)\, Hawaiian\, American roots (Blues-Folk-Bluegrass)\, International Brazilian\, Spanish (flamenco)\, and finally Rock and Contemporary Songs. Chris’s professional career began when he joined the Hawaiian music group Kaleo o Kalani.
URL:https://nicoskailua.com/music/chris-rego-29/
END:VEVENT
BEGIN:VEVENT
DTSTART;TZID=UTC:20250215T180000
DTEND;TZID=UTC:20250215T200000
DTSTAMP:20260423T064211
CREATED:20250124T230055Z
LAST-MODIFIED:20250130T223619Z
UID:7497-1739642400-1739649600@nicoskailua.com
SUMMARY:Walt Keale
DESCRIPTION:Keale is nephew to the Hawaiian music legend\, Uncle Moe Keale\, and first-cousin to Skippy and Israel IZ Kamakawiwo’ole. His music brings forward the legacy of the Keale family.
URL:https://nicoskailua.com/music/walt-keale-50/
END:VEVENT
BEGIN:VEVENT
DTSTART;TZID=UTC:20250214T180000
DTEND;TZID=UTC:20250214T200000
DTSTAMP:20260423T064211
CREATED:20250130T223143Z
LAST-MODIFIED:20250130T223143Z
UID:7561-1739556000-1739563200@nicoskailua.com
SUMMARY:Mark Yim
DESCRIPTION:A long-time member of the Peter Moon Band\, Mark Yim plays all the Hawaii classics
URL:https://nicoskailua.com/music/mark-yim-5/
END:VEVENT
BEGIN:VEVENT
DTSTART;TZID=UTC:20250213T180000
DTEND;TZID=UTC:20250213T200000
DTSTAMP:20260423T064211
CREATED:20250124T224652Z
LAST-MODIFIED:20250130T223620Z
UID:7483-1739469600-1739476800@nicoskailua.com
SUMMARY:Greg and Darrel
DESCRIPTION:“ Hawaii born and raised\, Greg Sardinha\, is a talented and veteran steel guitar player.  He has played many genre’s of music but his passion is sharing the music of  the Hawaiian Steel Guitar.  Greg\, has won the 2018 Na Hoku Hanohano Instrumental Album\, with his collaboration with Jeff Peterson and Tsun-Hui Hung\, as well as\, the 2014 Na Hoku Hanohano award for Instrumental Album of the Year for his solo release “Stainless.” ” \n  \n– gregsardinha.com (source)
URL:https://nicoskailua.com/music/greg-and-darrel-57/
END:VEVENT
BEGIN:VEVENT
DTSTART;TZID=UTC:20250212T180000
DTEND;TZID=UTC:20250212T200000
DTSTAMP:20260423T064211
CREATED:20250124T223835Z
LAST-MODIFIED:20250130T223620Z
UID:7475-1739383200-1739390400@nicoskailua.com
SUMMARY:Kama Kakaio
DESCRIPTION:Please welcome\, Kama Kakaio! Contemporary music to match with the onolicious grindz.
URL:https://nicoskailua.com/music/kama-kakaio-57/
END:VEVENT
BEGIN:VEVENT
DTSTART;TZID=Pacific/Honolulu:20250211T180000
DTEND;TZID=Pacific/Honolulu:20250211T200000
DTSTAMP:20260423T064211
CREATED:20250130T224614Z
LAST-MODIFIED:20250130T224614Z
UID:7567-1739296800-1739304000@nicoskailua.com
SUMMARY:Kamaka Camarillo
DESCRIPTION:Kamaka is a Kīhei native who descends from a strong line of musical entertainers and educators. Also\, Kamaka’s aunty is none other than Lehua Kalima\, a singer from the Nā Hōkū Hanohano award-winning group\, Nā Leo Pilimehana.
URL:https://nicoskailua.com/music/kamaka-camarillo/
END:VEVENT
BEGIN:VEVENT
DTSTART;VALUE=DATE:20250210
DTEND;VALUE=DATE:20250211
DTSTAMP:20260423T064211
CREATED:20250124T221601Z
LAST-MODIFIED:20250124T221601Z
UID:7459-1739145600-1739231999@nicoskailua.com
SUMMARY:-CLOSED ALL DAY-
DESCRIPTION:
URL:https://nicoskailua.com/music/closed-all-day-60/
END:VEVENT
BEGIN:VEVENT
DTSTART;VALUE=DATE:20250209
DTEND;VALUE=DATE:20250210
DTSTAMP:20260423T064211
CREATED:20250130T222826Z
LAST-MODIFIED:20250130T222826Z
UID:7557-1739059200-1739145599@nicoskailua.com
SUMMARY:-CLOSED ALL DAY FOR SUPER BOWL SUNDAY-
DESCRIPTION:CLOSED ALL DAY FOR SUPERBOWL SUNDAY. MAHALO FOR YOUR KOKUA!
URL:https://nicoskailua.com/music/closed-all-day-for-super-bowl-sunday/
END:VEVENT
BEGIN:VEVENT
DTSTART;TZID=UTC:20250208T180000
DTEND;TZID=UTC:20250208T200000
DTSTAMP:20260423T064211
CREATED:20250124T230026Z
LAST-MODIFIED:20250130T223620Z
UID:7495-1739037600-1739044800@nicoskailua.com
SUMMARY:Walt Keale
DESCRIPTION:Keale is nephew to the Hawaiian music legend\, Uncle Moe Keale\, and first-cousin to Skippy and Israel IZ Kamakawiwo’ole. His music brings forward the legacy of the Keale family.
URL:https://nicoskailua.com/music/walt-keale-49/
END:VEVENT
BEGIN:VEVENT
DTSTART;TZID=UTC:20250207T180000
DTEND;TZID=UTC:20250207T200000
DTSTAMP:20260423T064211
CREATED:20250124T225053Z
LAST-MODIFIED:20250130T223620Z
UID:7489-1738951200-1738958400@nicoskailua.com
SUMMARY:Kree Kahoa and Malik P
DESCRIPTION:Kree Kahoa and Malik P! Singer/Songwriter from Kaneohe\, sharing her story one lyric at a time.
URL:https://nicoskailua.com/music/kree-kahoa-and-malik-p-46/
END:VEVENT
BEGIN:VEVENT
DTSTART;TZID=UTC:20250206T180000
DTEND;TZID=UTC:20250206T200000
DTSTAMP:20260423T064211
CREATED:20250124T224250Z
LAST-MODIFIED:20250130T223620Z
UID:7481-1738864800-1738872000@nicoskailua.com
SUMMARY:Greg and Darrel
DESCRIPTION:“ Hawaii born and raised\, Greg Sardinha\, is a talented and veteran steel guitar player.  He has played many genre’s of music but his passion is sharing the music of  the Hawaiian Steel Guitar.  Greg\, has won the 2018 Na Hoku Hanohano Instrumental Album\, with his collaboration with Jeff Peterson and Tsun-Hui Hung\, as well as\, the 2014 Na Hoku Hanohano award for Instrumental Album of the Year for his solo release “Stainless.” ” \n  \n– gregsardinha.com (source)
URL:https://nicoskailua.com/music/greg-and-darrel-56/
END:VEVENT
BEGIN:VEVENT
DTSTART;TZID=UTC:20250205T180000
DTEND;TZID=UTC:20250205T200000
DTSTAMP:20260423T064211
CREATED:20250124T223802Z
LAST-MODIFIED:20250130T223620Z
UID:7473-1738778400-1738785600@nicoskailua.com
SUMMARY:Kama Kakaio
DESCRIPTION:Please welcome\, Kama Kakaio! Contemporary music to match with the onolicious grindz.
URL:https://nicoskailua.com/music/kama-kakaio-56/
END:VEVENT
BEGIN:VEVENT
DTSTART;TZID=UTC:20250204T180000
DTEND;TZID=UTC:20250204T200000
DTSTAMP:20260423T064211
CREATED:20250124T222550Z
LAST-MODIFIED:20250130T223620Z
UID:7467-1738692000-1738699200@nicoskailua.com
SUMMARY:Hōkū Zuttermeister
DESCRIPTION:Hōkū Zuttermeister was born and raised in Kāne‘ohe\, Hawai‘i\, to parents Carl and Susan Zuttermeister. As Hōkū grew into his musical abilities\, he and his friends found an innate desire to play the music that their kūpuna listened to and performed; the music of the Hawaiian Renaissance as broadcast on the old KCCN 1420AM.    It is from this following that word of Hōkū’s talent started to spread throughout the islands\, as well as the Mainland US and Asia.
URL:https://nicoskailua.com/music/hoku-zuttermeister-52/
END:VEVENT
BEGIN:VEVENT
DTSTART;VALUE=DATE:20250203
DTEND;VALUE=DATE:20250204
DTSTAMP:20260423T064211
CREATED:20250124T221543Z
LAST-MODIFIED:20250124T221544Z
UID:7457-1738540800-1738627199@nicoskailua.com
SUMMARY:-CLOSED ALL DAY-
DESCRIPTION:
URL:https://nicoskailua.com/music/closed-all-day-59/
END:VEVENT
BEGIN:VEVENT
DTSTART;TZID=UTC:20250202T180000
DTEND;TZID=UTC:20250202T200000
DTSTAMP:20260423T064211
CREATED:20250130T223239Z
LAST-MODIFIED:20250130T223239Z
UID:7563-1738519200-1738526400@nicoskailua.com
SUMMARY:Chris Rego
DESCRIPTION:Chis Rego will entertain you with a wide variety of music\, Ki ho alu (slack-key)\, Hawaiian\, American roots (Blues-Folk-Bluegrass)\, International Brazilian\, Spanish (flamenco)\, and finally Rock and Contemporary Songs. Chris’s professional career began when he joined the Hawaiian music group Kaleo o Kalani.
URL:https://nicoskailua.com/music/chris-rego-28/
END:VEVENT
BEGIN:VEVENT
DTSTART;TZID=UTC:20250201T180000
DTEND;TZID=UTC:20250201T200000
DTSTAMP:20260423T064211
CREATED:20250130T222942Z
LAST-MODIFIED:20250130T224720Z
UID:7559-1738432800-1738440000@nicoskailua.com
SUMMARY:Mark Yim
DESCRIPTION:A long-time member of the Peter Moon Band\, Mark Yim plays all the Hawaii classics
URL:https://nicoskailua.com/music/mark-yim-4/
END:VEVENT
BEGIN:VEVENT
DTSTART;TZID=UTC:20250131T180000
DTEND;TZID=UTC:20250131T200000
DTSTAMP:20260423T064211
CREATED:20241227T232745Z
LAST-MODIFIED:20250101T003149Z
UID:7221-1738346400-1738353600@nicoskailua.com
SUMMARY:Kree Kahoa and Malik P
DESCRIPTION:Kree Kahoa and Malik P! Singer/Songwriter from Kaneohe\, sharing her story one lyric at a time.
URL:https://nicoskailua.com/music/kree-kahoa-and-malik-p-49/
END:VEVENT
BEGIN:VEVENT
DTSTART;TZID=UTC:20250130T180000
DTEND;TZID=UTC:20250130T200000
DTSTAMP:20260423T064211
CREATED:20241227T232411Z
LAST-MODIFIED:20250101T003149Z
UID:7211-1738260000-1738267200@nicoskailua.com
SUMMARY:Greg and Darrel
DESCRIPTION:“ Hawaii born and raised\, Greg Sardinha\, is a talented and veteran steel guitar player.  He has played many genre’s of music but his passion is sharing the music of  the Hawaiian Steel Guitar.  Greg\, has won the 2018 Na Hoku Hanohano Instrumental Album\, with his collaboration with Jeff Peterson and Tsun-Hui Hung\, as well as\, the 2014 Na Hoku Hanohano award for Instrumental Album of the Year for his solo release “Stainless.” ” \n  \n– gregsardinha.com (source)
URL:https://nicoskailua.com/music/greg-and-darrel-55/
END:VEVENT
BEGIN:VEVENT
DTSTART;TZID=UTC:20250129T180000
DTEND;TZID=UTC:20250129T200000
DTSTAMP:20260423T064211
CREATED:20241227T013002Z
LAST-MODIFIED:20250101T003149Z
UID:7193-1738173600-1738180800@nicoskailua.com
SUMMARY:Kama Kakaio
DESCRIPTION:Please welcome\, Kama Kakaio! Contemporary music to match with the onolicious grindz.
URL:https://nicoskailua.com/music/kama-kakaio-55/
END:VEVENT
BEGIN:VEVENT
DTSTART;TZID=UTC:20250128T180000
DTEND;TZID=UTC:20250128T200000
DTSTAMP:20260423T064211
CREATED:20241225T012105Z
LAST-MODIFIED:20250101T003149Z
UID:7179-1738087200-1738094400@nicoskailua.com
SUMMARY:Hōkū Zuttermeister
DESCRIPTION:Hōkū Zuttermeister was born and raised in Kāne‘ohe\, Hawai‘i\, to parents Carl and Susan Zuttermeister. As Hōkū grew into his musical abilities\, he and his friends found an innate desire to play the music that their kūpuna listened to and performed; the music of the Hawaiian Renaissance as broadcast on the old KCCN 1420AM.    It is from this following that word of Hōkū’s talent started to spread throughout the islands\, as well as the Mainland US and Asia.
URL:https://nicoskailua.com/music/hoku-zuttermeister-51/
END:VEVENT
END:VCALENDAR