BEGIN:VCALENDAR
VERSION:2.0
PRODID:-//Nico&#039;s Kailua - ECPv6.15.20//NONSGML v1.0//EN
CALSCALE:GREGORIAN
METHOD:PUBLISH
X-WR-CALNAME:Nico&#039;s Kailua
X-ORIGINAL-URL:https://nicoskailua.com
X-WR-CALDESC:Events for Nico&#039;s Kailua
REFRESH-INTERVAL;VALUE=DURATION:PT1H
X-Robots-Tag:noindex
X-PUBLISHED-TTL:PT1H
BEGIN:VTIMEZONE
TZID:UTC
BEGIN:STANDARD
TZOFFSETFROM:+0000
TZOFFSETTO:+0000
TZNAME:UTC
DTSTART:20250101T000000
END:STANDARD
END:VTIMEZONE
BEGIN:VTIMEZONE
TZID:Pacific/Honolulu
BEGIN:STANDARD
TZOFFSETFROM:-1000
TZOFFSETTO:-1000
TZNAME:HST
DTSTART:20250101T000000
END:STANDARD
END:VTIMEZONE
BEGIN:VEVENT
DTSTART;VALUE=DATE:20260209
DTEND;VALUE=DATE:20260210
DTSTAMP:20260422T041119
CREATED:20260126T214236Z
LAST-MODIFIED:20260126T214236Z
UID:12160-1770595200-1770681599@nicoskailua.com
SUMMARY:-CLOSED ALL DAY-
DESCRIPTION:
URL:https://nicoskailua.com/music/closed-all-day-112/
END:VEVENT
BEGIN:VEVENT
DTSTART;VALUE=DATE:20260208
DTEND;VALUE=DATE:20260209
DTSTAMP:20260422T041119
CREATED:20260126T215426Z
LAST-MODIFIED:20260126T215426Z
UID:12200-1770508800-1770595199@nicoskailua.com
SUMMARY:-CLOSED ALL DAY FOR SUPER BOWL SUNDAY-
DESCRIPTION:CLOSED ALL DAY FOR SUPERBOWL SUNDAY. MAHALO FOR YOUR KOKUA!
URL:https://nicoskailua.com/music/closed-all-day-for-super-bowl-sunday-2/
END:VEVENT
BEGIN:VEVENT
DTSTART;TZID=UTC:20260207T180000
DTEND;TZID=UTC:20260207T200000
DTSTAMP:20260422T041119
CREATED:20260126T215110Z
LAST-MODIFIED:20260126T215110Z
UID:12190-1770487200-1770494400@nicoskailua.com
SUMMARY:Walt Keale
DESCRIPTION:Keale is nephew to the Hawaiian music legend\, Uncle Moe Keale\, and first-cousin to Skippy and Israel IZ Kamakawiwo’ole. His music brings forward the legacy of the Keale family.
URL:https://nicoskailua.com/music/walt-keale-92/
END:VEVENT
BEGIN:VEVENT
DTSTART;TZID=UTC:20260206T180000
DTEND;TZID=UTC:20260206T200000
DTSTAMP:20260422T041119
CREATED:20260126T214851Z
LAST-MODIFIED:20260126T214851Z
UID:12182-1770400800-1770408000@nicoskailua.com
SUMMARY:Kama Kakaio
DESCRIPTION:Please welcome\, Kama Kakaio! Contemporary music to match the onolicious grindz.
URL:https://nicoskailua.com/music/kama-kakaio-101/
END:VEVENT
BEGIN:VEVENT
DTSTART;TZID=UTC:20260205T180000
DTEND;TZID=UTC:20260205T200000
DTSTAMP:20260422T041119
CREATED:20260126T214621Z
LAST-MODIFIED:20260126T214621Z
UID:12174-1770314400-1770321600@nicoskailua.com
SUMMARY:Greg and Darrel
DESCRIPTION:“ Hawaii born and raised\, Greg Sardinha\, is a talented and veteran steel guitar player.  He has played many genre’s of music but his passion is sharing the music of  the Hawaiian Steel Guitar.  Greg\, has won the 2018 Na Hoku Hanohano Instrumental Album\, with his collaboration with Jeff Peterson and Tsun-Hui Hung\, as well as\, the 2014 Na Hoku Hanohano award for Instrumental Album of the Year for his solo release “Stainless.” ” \n  \n– gregsardinha.com (source)
URL:https://nicoskailua.com/music/greg-and-darrel-103/
END:VEVENT
BEGIN:VEVENT
DTSTART;TZID=Pacific/Honolulu:20260204T180000
DTEND;TZID=Pacific/Honolulu:20260204T200000
DTSTAMP:20260422T041119
CREATED:20260126T214422Z
LAST-MODIFIED:20260126T214422Z
UID:12166-1770228000-1770235200@nicoskailua.com
SUMMARY:Jesse Kaawa
DESCRIPTION:Providing Professional Local Music; Smoothing Falsettos\, Traditional Favorites\, Contemporary Hits\, and much more
URL:https://nicoskailua.com/music/jesse-kaawa-23/
END:VEVENT
BEGIN:VEVENT
DTSTART;TZID=UTC:20260203T180000
DTEND;TZID=UTC:20260203T200000
DTSTAMP:20260422T041119
CREATED:20260126T214011Z
LAST-MODIFIED:20260126T214011Z
UID:12150-1770141600-1770148800@nicoskailua.com
SUMMARY:Hōkū Zuttermeister
DESCRIPTION:Hōkū Zuttermeister was born and raised in Kāne‘ohe\, Hawai‘i\, to parents Carl and Susan Zuttermeister. As Hōkū grew into his musical abilities\, he and his friends found an innate desire to play the music that their kūpuna listened to and performed; the music of the Hawaiian Renaissance as broadcast on the old KCCN 1420AM.    It is from this following that word of Hōkū’s talent started to spread throughout the islands\, as well as the Mainland US and Asia.
URL:https://nicoskailua.com/music/hoku-zuttermeister-92/
END:VEVENT
BEGIN:VEVENT
DTSTART;VALUE=DATE:20260202
DTEND;VALUE=DATE:20260203
DTSTAMP:20260422T041119
CREATED:20260126T214212Z
LAST-MODIFIED:20260126T214212Z
UID:12158-1769990400-1770076799@nicoskailua.com
SUMMARY:-CLOSED ALL DAY-
DESCRIPTION:
URL:https://nicoskailua.com/music/closed-all-day-111/
END:VEVENT
BEGIN:VEVENT
DTSTART;TZID=UTC:20260131T180000
DTEND;TZID=UTC:20260131T200000
DTSTAMP:20260422T041119
CREATED:20251231T232752Z
LAST-MODIFIED:20251231T232752Z
UID:11906-1769882400-1769889600@nicoskailua.com
SUMMARY:Walt Keale
DESCRIPTION:Keale is nephew to the Hawaiian music legend\, Uncle Moe Keale\, and first-cousin to Skippy and Israel IZ Kamakawiwo’ole. His music brings forward the legacy of the Keale family.
URL:https://nicoskailua.com/music/walt-keale-91/
END:VEVENT
BEGIN:VEVENT
DTSTART;TZID=UTC:20260130T180000
DTEND;TZID=UTC:20260130T200000
DTSTAMP:20260422T041119
CREATED:20251231T231924Z
LAST-MODIFIED:20251231T231924Z
UID:11896-1769796000-1769803200@nicoskailua.com
SUMMARY:Kama Kakaio
DESCRIPTION:Please welcome\, Kama Kakaio! Contemporary music to match the onolicious grindz.
URL:https://nicoskailua.com/music/kama-kakaio-100/
END:VEVENT
BEGIN:VEVENT
DTSTART;TZID=UTC:20260129T180000
DTEND;TZID=UTC:20260129T200000
DTSTAMP:20260422T041119
CREATED:20251231T230756Z
LAST-MODIFIED:20251231T230756Z
UID:11886-1769709600-1769716800@nicoskailua.com
SUMMARY:Greg and Darrel
DESCRIPTION:“ Hawaii born and raised\, Greg Sardinha\, is a talented and veteran steel guitar player.  He has played many genre’s of music but his passion is sharing the music of  the Hawaiian Steel Guitar.  Greg\, has won the 2018 Na Hoku Hanohano Instrumental Album\, with his collaboration with Jeff Peterson and Tsun-Hui Hung\, as well as\, the 2014 Na Hoku Hanohano award for Instrumental Album of the Year for his solo release “Stainless.” ” \n  \n– gregsardinha.com (source)
URL:https://nicoskailua.com/music/greg-and-darrel-102/
END:VEVENT
BEGIN:VEVENT
DTSTART;TZID=Pacific/Honolulu:20260128T180000
DTEND;TZID=Pacific/Honolulu:20260128T200000
DTSTAMP:20260422T041119
CREATED:20251231T225910Z
LAST-MODIFIED:20251231T225910Z
UID:11874-1769623200-1769630400@nicoskailua.com
SUMMARY:Jesse Kaawa
DESCRIPTION:Providing Professional Local Music; Smoothing Falsettos\, Traditional Favorites\, Contemporary Hits\, and much more
URL:https://nicoskailua.com/music/jesse-kaawa-21/
END:VEVENT
BEGIN:VEVENT
DTSTART;TZID=UTC:20260127T180000
DTEND;TZID=UTC:20260127T200000
DTSTAMP:20260422T041119
CREATED:20251231T225249Z
LAST-MODIFIED:20251231T225249Z
UID:11868-1769536800-1769544000@nicoskailua.com
SUMMARY:Hōkū Zuttermeister
DESCRIPTION:Hōkū Zuttermeister was born and raised in Kāne‘ohe\, Hawai‘i\, to parents Carl and Susan Zuttermeister. As Hōkū grew into his musical abilities\, he and his friends found an innate desire to play the music that their kūpuna listened to and performed; the music of the Hawaiian Renaissance as broadcast on the old KCCN 1420AM.    It is from this following that word of Hōkū’s talent started to spread throughout the islands\, as well as the Mainland US and Asia.
URL:https://nicoskailua.com/music/hoku-zuttermeister-91/
END:VEVENT
BEGIN:VEVENT
DTSTART;VALUE=DATE:20260126
DTEND;VALUE=DATE:20260127
DTSTAMP:20260422T041119
CREATED:20251231T224048Z
LAST-MODIFIED:20251231T224048Z
UID:11860-1769385600-1769471999@nicoskailua.com
SUMMARY:-CLOSED ALL DAY-
DESCRIPTION:
URL:https://nicoskailua.com/music/closed-all-day-110/
END:VEVENT
BEGIN:VEVENT
DTSTART;TZID=UTC:20260125T180000
DTEND;TZID=UTC:20260125T200000
DTSTAMP:20260422T041119
CREATED:20251231T234901Z
LAST-MODIFIED:20251231T234901Z
UID:11911-1769364000-1769371200@nicoskailua.com
SUMMARY:Blaine Kia
DESCRIPTION:Blaine Kia of Kamanawa joins us tonight sharing vast repertoire of songs ranging from traditional Hawaiian to Classic Rock and beyond!
URL:https://nicoskailua.com/music/blaine-kia-24/
END:VEVENT
BEGIN:VEVENT
DTSTART;TZID=UTC:20260124T180000
DTEND;TZID=UTC:20260124T200000
DTSTAMP:20260422T041119
CREATED:20251231T232621Z
LAST-MODIFIED:20251231T232621Z
UID:11904-1769277600-1769284800@nicoskailua.com
SUMMARY:Walt Keale
DESCRIPTION:Keale is nephew to the Hawaiian music legend\, Uncle Moe Keale\, and first-cousin to Skippy and Israel IZ Kamakawiwo’ole. His music brings forward the legacy of the Keale family.
URL:https://nicoskailua.com/music/walt-keale-90/
END:VEVENT
BEGIN:VEVENT
DTSTART;TZID=UTC:20260123T180000
DTEND;TZID=UTC:20260123T200000
DTSTAMP:20260422T041119
CREATED:20251231T231742Z
LAST-MODIFIED:20251231T231742Z
UID:11894-1769191200-1769198400@nicoskailua.com
SUMMARY:Kama Kakaio
DESCRIPTION:Please welcome\, Kama Kakaio! Contemporary music to match the onolicious grindz.
URL:https://nicoskailua.com/music/kama-kakaio-99/
END:VEVENT
BEGIN:VEVENT
DTSTART;TZID=UTC:20260122T180000
DTEND;TZID=UTC:20260122T200000
DTSTAMP:20260422T041119
CREATED:20251231T230654Z
LAST-MODIFIED:20251231T230654Z
UID:11884-1769104800-1769112000@nicoskailua.com
SUMMARY:Greg and Darrel
DESCRIPTION:“ Hawaii born and raised\, Greg Sardinha\, is a talented and veteran steel guitar player.  He has played many genre’s of music but his passion is sharing the music of  the Hawaiian Steel Guitar.  Greg\, has won the 2018 Na Hoku Hanohano Instrumental Album\, with his collaboration with Jeff Peterson and Tsun-Hui Hung\, as well as\, the 2014 Na Hoku Hanohano award for Instrumental Album of the Year for his solo release “Stainless.” ” \n  \n– gregsardinha.com (source)
URL:https://nicoskailua.com/music/greg-and-darrel-101/
END:VEVENT
BEGIN:VEVENT
DTSTART;TZID=Pacific/Honolulu:20260121T180000
DTEND;TZID=Pacific/Honolulu:20260121T200000
DTSTAMP:20260422T041119
CREATED:20251231T225646Z
LAST-MODIFIED:20251231T225757Z
UID:11872-1769018400-1769025600@nicoskailua.com
SUMMARY:Jesse Kaawa
DESCRIPTION:Providing Professional Local Music; Smoothing Falsettos\, Traditional Favorites\, Contemporary Hits\, and much more
URL:https://nicoskailua.com/music/jesse-kaawa-20/
END:VEVENT
BEGIN:VEVENT
DTSTART;TZID=UTC:20260120T180000
DTEND;TZID=UTC:20260120T200000
DTSTAMP:20260422T041119
CREATED:20251231T225050Z
LAST-MODIFIED:20251231T225050Z
UID:11866-1768932000-1768939200@nicoskailua.com
SUMMARY:Hōkū Zuttermeister
DESCRIPTION:Hōkū Zuttermeister was born and raised in Kāne‘ohe\, Hawai‘i\, to parents Carl and Susan Zuttermeister. As Hōkū grew into his musical abilities\, he and his friends found an innate desire to play the music that their kūpuna listened to and performed; the music of the Hawaiian Renaissance as broadcast on the old KCCN 1420AM.    It is from this following that word of Hōkū’s talent started to spread throughout the islands\, as well as the Mainland US and Asia.
URL:https://nicoskailua.com/music/hoku-zuttermeister-90/
END:VEVENT
BEGIN:VEVENT
DTSTART;VALUE=DATE:20260119
DTEND;VALUE=DATE:20260120
DTSTAMP:20260422T041119
CREATED:20251231T223922Z
LAST-MODIFIED:20251231T223922Z
UID:11858-1768780800-1768867199@nicoskailua.com
SUMMARY:-CLOSED ALL DAY-
DESCRIPTION:
URL:https://nicoskailua.com/music/closed-all-day-109/
END:VEVENT
BEGIN:VEVENT
DTSTART;TZID=UTC:20260118T180000
DTEND;TZID=UTC:20260118T200000
DTSTAMP:20260422T041119
CREATED:20251231T235142Z
LAST-MODIFIED:20251231T235142Z
UID:11915-1768759200-1768766400@nicoskailua.com
SUMMARY:Kawika Kahi'apo
DESCRIPTION:With a laundry list of accomplishments (multiple Hoku Hanohano awardee and Grammy Award winner to name a few)\, this full-blooded Hawaiian needs no further introduction… Gracing us with his presence is Kawika Kahi’apo.
URL:https://nicoskailua.com/music/kawika-kahiapo-18/
END:VEVENT
BEGIN:VEVENT
DTSTART;TZID=UTC:20260117T180000
DTEND;TZID=UTC:20260117T200000
DTSTAMP:20260422T041119
CREATED:20251231T232528Z
LAST-MODIFIED:20251231T232528Z
UID:11902-1768672800-1768680000@nicoskailua.com
SUMMARY:Walt Keale
DESCRIPTION:Keale is nephew to the Hawaiian music legend\, Uncle Moe Keale\, and first-cousin to Skippy and Israel IZ Kamakawiwo’ole. His music brings forward the legacy of the Keale family.
URL:https://nicoskailua.com/music/walt-keale-89/
END:VEVENT
BEGIN:VEVENT
DTSTART;TZID=UTC:20260116T180000
DTEND;TZID=UTC:20260116T200000
DTSTAMP:20260422T041119
CREATED:20251231T231559Z
LAST-MODIFIED:20251231T231559Z
UID:11892-1768586400-1768593600@nicoskailua.com
SUMMARY:Kama Kakaio
DESCRIPTION:Please welcome\, Kama Kakaio! Contemporary music to match the onolicious grindz.
URL:https://nicoskailua.com/music/kama-kakaio-98/
END:VEVENT
BEGIN:VEVENT
DTSTART;TZID=UTC:20260115T180000
DTEND;TZID=UTC:20260115T200000
DTSTAMP:20260422T041119
CREATED:20251231T230523Z
LAST-MODIFIED:20251231T230523Z
UID:11882-1768500000-1768507200@nicoskailua.com
SUMMARY:Greg and Darrel
DESCRIPTION:“ Hawaii born and raised\, Greg Sardinha\, is a talented and veteran steel guitar player.  He has played many genre’s of music but his passion is sharing the music of  the Hawaiian Steel Guitar.  Greg\, has won the 2018 Na Hoku Hanohano Instrumental Album\, with his collaboration with Jeff Peterson and Tsun-Hui Hung\, as well as\, the 2014 Na Hoku Hanohano award for Instrumental Album of the Year for his solo release “Stainless.” ” \n  \n– gregsardinha.com (source)
URL:https://nicoskailua.com/music/greg-and-darrel-100/
END:VEVENT
BEGIN:VEVENT
DTSTART;TZID=Pacific/Honolulu:20260114T180000
DTEND;TZID=Pacific/Honolulu:20260114T200000
DTSTAMP:20260422T041119
CREATED:20251231T230011Z
LAST-MODIFIED:20251231T230011Z
UID:11876-1768413600-1768420800@nicoskailua.com
SUMMARY:Jesse Kaawa
DESCRIPTION:Providing Professional Local Music; Smoothing Falsettos\, Traditional Favorites\, Contemporary Hits\, and much more
URL:https://nicoskailua.com/music/jesse-kaawa-22/
END:VEVENT
BEGIN:VEVENT
DTSTART;TZID=UTC:20260113T180000
DTEND;TZID=UTC:20260113T200000
DTSTAMP:20260422T041119
CREATED:20251231T224749Z
LAST-MODIFIED:20251231T224749Z
UID:11864-1768327200-1768334400@nicoskailua.com
SUMMARY:Hōkū Zuttermeister
DESCRIPTION:Hōkū Zuttermeister was born and raised in Kāne‘ohe\, Hawai‘i\, to parents Carl and Susan Zuttermeister. As Hōkū grew into his musical abilities\, he and his friends found an innate desire to play the music that their kūpuna listened to and performed; the music of the Hawaiian Renaissance as broadcast on the old KCCN 1420AM.    It is from this following that word of Hōkū’s talent started to spread throughout the islands\, as well as the Mainland US and Asia.
URL:https://nicoskailua.com/music/hoku-zuttermeister-89/
END:VEVENT
BEGIN:VEVENT
DTSTART;VALUE=DATE:20260112
DTEND;VALUE=DATE:20260113
DTSTAMP:20260422T041119
CREATED:20251231T223807Z
LAST-MODIFIED:20251231T223807Z
UID:11856-1768176000-1768262399@nicoskailua.com
SUMMARY:-CLOSED ALL DAY-
DESCRIPTION:
URL:https://nicoskailua.com/music/closed-all-day-108/
END:VEVENT
BEGIN:VEVENT
DTSTART;TZID=UTC:20260111T180000
DTEND;TZID=UTC:20260111T200000
DTSTAMP:20260422T041119
CREATED:20251231T235048Z
LAST-MODIFIED:20251231T235048Z
UID:11913-1768154400-1768161600@nicoskailua.com
SUMMARY:Chris Rego
DESCRIPTION:Chis Rego will entertain you with a wide variety of music\, Ki ho alu (slack-key)\, Hawaiian\, American roots (Blues-Folk-Bluegrass)\, International Brazilian\, Spanish (flamenco)\, and finally Rock and Contemporary Songs. Chris’s professional career began when he joined the Hawaiian music group Kaleo o Kalani.
URL:https://nicoskailua.com/music/chris-rego-46/
END:VEVENT
BEGIN:VEVENT
DTSTART;TZID=UTC:20260110T180000
DTEND;TZID=UTC:20260110T200000
DTSTAMP:20260422T041119
CREATED:20251231T232355Z
LAST-MODIFIED:20251231T232355Z
UID:11900-1768068000-1768075200@nicoskailua.com
SUMMARY:Walt Keale
DESCRIPTION:Keale is nephew to the Hawaiian music legend\, Uncle Moe Keale\, and first-cousin to Skippy and Israel IZ Kamakawiwo’ole. His music brings forward the legacy of the Keale family.
URL:https://nicoskailua.com/music/walt-keale-88/
END:VEVENT
END:VCALENDAR