BEGIN:VCALENDAR
VERSION:2.0
PRODID:-//Nico&#039;s Kailua - ECPv6.15.20//NONSGML v1.0//EN
CALSCALE:GREGORIAN
METHOD:PUBLISH
X-ORIGINAL-URL:https://nicoskailua.com
X-WR-CALDESC:Events for Nico&#039;s Kailua
REFRESH-INTERVAL;VALUE=DURATION:PT1H
X-Robots-Tag:noindex
X-PUBLISHED-TTL:PT1H
BEGIN:VTIMEZONE
TZID:UTC
BEGIN:STANDARD
TZOFFSETFROM:+0000
TZOFFSETTO:+0000
TZNAME:UTC
DTSTART:20230101T000000
END:STANDARD
END:VTIMEZONE
BEGIN:VEVENT
DTSTART;TZID=UTC:20240426T180000
DTEND;TZID=UTC:20240426T200000
DTSTAMP:20260423T033314
CREATED:20240404T082633Z
LAST-MODIFIED:20240404T082633Z
UID:4153-1714154400-1714161600@nicoskailua.com
SUMMARY:Kree Kahoa and Malik P
DESCRIPTION:Kree Kahoa and Malik P! Singer/Songwriter from Kaneohe\, sharing her story one lyric at a time.
URL:https://nicoskailua.com/music/kree-kahoa-and-malik-p-18/
END:VEVENT
BEGIN:VEVENT
DTSTART;TZID=UTC:20240427T180000
DTEND;TZID=UTC:20240427T200000
DTSTAMP:20260423T033314
CREATED:20240315T080643Z
LAST-MODIFIED:20240315T080643Z
UID:3932-1714240800-1714248000@nicoskailua.com
SUMMARY:Walt Keale
DESCRIPTION:Keale is nephew to the Hawaiian music legend\, Uncle Moe Keale\, and first-cousin to Skippy and Israel IZ Kamakawiwo’ole. His music brings forward the legacy of the Keale family.
URL:https://nicoskailua.com/music/walt-keale-17/
END:VEVENT
BEGIN:VEVENT
DTSTART;TZID=UTC:20240428T180000
DTEND;TZID=UTC:20240428T200000
DTSTAMP:20260423T033314
CREATED:20240404T094610Z
LAST-MODIFIED:20240404T094610Z
UID:4161-1714327200-1714334400@nicoskailua.com
SUMMARY:Blaine Kia
DESCRIPTION:Blaine Kia of Kamanawa joins us tonight sharing vast repertoire of songs ranging from traditional Hawaiian to Classic Rock and beyond!
URL:https://nicoskailua.com/music/blaine-kia-5/
END:VEVENT
BEGIN:VEVENT
DTSTART;VALUE=DATE:20240429
DTEND;VALUE=DATE:20240430
DTSTAMP:20260423T033314
CREATED:20240315T074849Z
LAST-MODIFIED:20240315T074849Z
UID:3903-1714348800-1714435199@nicoskailua.com
SUMMARY:-CLOSED ALL DAY-
DESCRIPTION:
URL:https://nicoskailua.com/music/closed-all-day-19/
END:VEVENT
BEGIN:VEVENT
DTSTART;TZID=UTC:20240430T180000
DTEND;TZID=UTC:20240430T200000
DTSTAMP:20260423T033314
CREATED:20240315T075056Z
LAST-MODIFIED:20240315T075104Z
UID:3911-1714500000-1714507200@nicoskailua.com
SUMMARY:Hōkū Zuttermeister
DESCRIPTION:Hōkū Zuttermeister was born and raised in Kāne‘ohe\, Hawai‘i\, to parents Carl and Susan Zuttermeister. As Hōkū grew into his musical abilities\, he and his friends found an innate desire to play the music that their kūpuna listened to and performed; the music of the Hawaiian Renaissance as broadcast on the old KCCN 1420AM.    It is from this following that word of Hōkū’s talent started to spread throughout the islands\, as well as the Mainland US and Asia.
URL:https://nicoskailua.com/music/hoku-zuttermeister-18/
END:VEVENT
BEGIN:VEVENT
DTSTART;TZID=UTC:20240501T180000
DTEND;TZID=UTC:20240501T200000
DTSTAMP:20260423T033314
CREATED:20240423T095237Z
LAST-MODIFIED:20240502T072950Z
UID:4421-1714586400-1714593600@nicoskailua.com
SUMMARY:Kama Kakaio
DESCRIPTION:  \nPlease welcome\, Kama Kakaio! Contemporary music to match with the onolicious grindz.
URL:https://nicoskailua.com/music/kama-kakaio-17/
END:VEVENT
BEGIN:VEVENT
DTSTART;TZID=UTC:20240502T180000
DTEND;TZID=UTC:20240502T200000
DTSTAMP:20260423T033314
CREATED:20240423T095558Z
LAST-MODIFIED:20240502T073920Z
UID:4431-1714672800-1714680000@nicoskailua.com
SUMMARY:Greg and Darrel
DESCRIPTION:“ Hawaii born and raised\, Greg Sardinha\, is a talented and veteran steel guitar player.  He has played many genre’s of music but his passion is sharing the music of  the Hawaiian Steel Guitar.  Greg\, has won the 2018 Na Hoku Hanohano Instrumental Album\, with his collaboration with Jeff Peterson and Tsun-Hui Hung\, as well as\, the 2014 Na Hoku Hanohano award for Instrumental Album of the Year for his solo release “Stainless.” ” \n  \n– gregsardinha.com (source)
URL:https://nicoskailua.com/music/greg-and-darrel-18/
END:VEVENT
BEGIN:VEVENT
DTSTART;TZID=UTC:20240503T180000
DTEND;TZID=UTC:20240503T200000
DTSTAMP:20260423T033314
CREATED:20240502T074526Z
LAST-MODIFIED:20240502T074526Z
UID:4577-1714759200-1714766400@nicoskailua.com
SUMMARY:Mark Yim
DESCRIPTION:A long-time member of the Peter Moon Band\, Mark Yim plays all the Hawaii classics
URL:https://nicoskailua.com/music/mark-yim/
END:VEVENT
BEGIN:VEVENT
DTSTART;TZID=UTC:20240504T180000
DTEND;TZID=UTC:20240504T200000
DTSTAMP:20260423T033314
CREATED:20240504T052606Z
LAST-MODIFIED:20240504T052606Z
UID:4609-1714845600-1714852800@nicoskailua.com
SUMMARY:Danny Wassman
DESCRIPTION:Danny Wassman\, of 20 Degrees North\, brings with him his unique sound; remaking songs to his liking. Can you guess the tune? Enjoy!
URL:https://nicoskailua.com/music/danny-wassman-3/
END:VEVENT
BEGIN:VEVENT
DTSTART;TZID=UTC:20240505T180000
DTEND;TZID=UTC:20240505T200000
DTSTAMP:20260423T033314
CREATED:20240502T074309Z
LAST-MODIFIED:20240502T074309Z
UID:4571-1714932000-1714939200@nicoskailua.com
SUMMARY:Chris Rego
DESCRIPTION:Chris Rego is back with his classic rock covers and Hawaiian jams. Come on down to enjoy some fresh fish and fresh tunes.
URL:https://nicoskailua.com/music/chris-rego-8/
END:VEVENT
BEGIN:VEVENT
DTSTART;VALUE=DATE:20240506
DTEND;VALUE=DATE:20240507
DTSTAMP:20260423T033314
CREATED:20240423T094115Z
LAST-MODIFIED:20240423T094115Z
UID:4405-1714953600-1715039999@nicoskailua.com
SUMMARY:-CLOSED ALL DAY-
DESCRIPTION:
URL:https://nicoskailua.com/music/closed-all-day-20/
END:VEVENT
BEGIN:VEVENT
DTSTART;TZID=UTC:20240507T180000
DTEND;TZID=UTC:20240507T200000
DTSTAMP:20260423T033314
CREATED:20240423T094739Z
LAST-MODIFIED:20240502T074153Z
UID:4413-1715104800-1715112000@nicoskailua.com
SUMMARY:Hōkū Zuttermeister
DESCRIPTION:Hōkū Zuttermeister was born and raised in Kāne‘ohe\, Hawai‘i\, to parents Carl and Susan Zuttermeister. As Hōkū grew into his musical abilities\, he and his friends found an innate desire to play the music that their kūpuna listened to and performed; the music of the Hawaiian Renaissance as broadcast on the old KCCN 1420AM.    It is from this following that word of Hōkū’s talent started to spread throughout the islands\, as well as the Mainland US and Asia.
URL:https://nicoskailua.com/music/hoku-zuttermeister-19/
END:VEVENT
BEGIN:VEVENT
DTSTART;TZID=UTC:20240508T180000
DTEND;TZID=UTC:20240508T200000
DTSTAMP:20260423T033314
CREATED:20240423T095358Z
LAST-MODIFIED:20240502T073130Z
UID:4423-1715191200-1715198400@nicoskailua.com
SUMMARY:Kama Kakaio
DESCRIPTION:  \nPlease welcome\, Kama Kakaio! Contemporary music to match with the onolicious grindz.
URL:https://nicoskailua.com/music/kama-kakaio-18/
END:VEVENT
BEGIN:VEVENT
DTSTART;TZID=UTC:20240509T180000
DTEND;TZID=UTC:20240509T200000
DTSTAMP:20260423T033314
CREATED:20240423T095615Z
LAST-MODIFIED:20240502T073943Z
UID:4433-1715277600-1715284800@nicoskailua.com
SUMMARY:Greg and Darrel
DESCRIPTION:“ Hawaii born and raised\, Greg Sardinha\, is a talented and veteran steel guitar player.  He has played many genre’s of music but his passion is sharing the music of  the Hawaiian Steel Guitar.  Greg\, has won the 2018 Na Hoku Hanohano Instrumental Album\, with his collaboration with Jeff Peterson and Tsun-Hui Hung\, as well as\, the 2014 Na Hoku Hanohano award for Instrumental Album of the Year for his solo release “Stainless.” ” \n  \n– gregsardinha.com (source)
URL:https://nicoskailua.com/music/greg-and-darrel-19/
END:VEVENT
BEGIN:VEVENT
DTSTART;TZID=UTC:20240510T180000
DTEND;TZID=UTC:20240510T200000
DTSTAMP:20260423T033314
CREATED:20240423T095814Z
LAST-MODIFIED:20240502T074612Z
UID:4443-1715364000-1715371200@nicoskailua.com
SUMMARY:Kree Kahoa and Malik P
DESCRIPTION:Kree Kahoa and Malik P! Singer/Songwriter from Kaneohe\, sharing her story one lyric at a time.
URL:https://nicoskailua.com/music/kree-kahoa-and-malik-p-20/
END:VEVENT
BEGIN:VEVENT
DTSTART;TZID=UTC:20240511T180000
DTEND;TZID=UTC:20240511T200000
DTSTAMP:20260423T033314
CREATED:20240423T100027Z
LAST-MODIFIED:20240502T074829Z
UID:4453-1715450400-1715457600@nicoskailua.com
SUMMARY:Walt Keale
DESCRIPTION:Keale is nephew to the Hawaiian music legend\, Uncle Moe Keale\, and first-cousin to Skippy and Israel IZ Kamakawiwo’ole. His music brings forward the legacy of the Keale family.
URL:https://nicoskailua.com/music/walt-keale-18/
END:VEVENT
BEGIN:VEVENT
DTSTART;TZID=UTC:20240512T180000
DTEND;TZID=UTC:20240512T200000
DTSTAMP:20260423T033314
CREATED:20240502T074321Z
LAST-MODIFIED:20240502T074321Z
UID:4573-1715536800-1715544000@nicoskailua.com
SUMMARY:Chris Rego
DESCRIPTION:Chris Rego is back with his classic rock covers and Hawaiian jams. Come on down to enjoy some fresh fish and fresh tunes.
URL:https://nicoskailua.com/music/chris-rego-9/
END:VEVENT
BEGIN:VEVENT
DTSTART;VALUE=DATE:20240513
DTEND;VALUE=DATE:20240514
DTSTAMP:20260423T033314
CREATED:20240423T094426Z
LAST-MODIFIED:20240423T094426Z
UID:4407-1715558400-1715644799@nicoskailua.com
SUMMARY:-CLOSED ALL DAY-
DESCRIPTION:
URL:https://nicoskailua.com/music/closed-all-day-21/
END:VEVENT
BEGIN:VEVENT
DTSTART;TZID=UTC:20240514T180000
DTEND;TZID=UTC:20240514T200000
DTSTAMP:20260423T033314
CREATED:20240423T094852Z
LAST-MODIFIED:20240502T074205Z
UID:4415-1715709600-1715716800@nicoskailua.com
SUMMARY:Hōkū Zuttermeister
DESCRIPTION:Hōkū Zuttermeister was born and raised in Kāne‘ohe\, Hawai‘i\, to parents Carl and Susan Zuttermeister. As Hōkū grew into his musical abilities\, he and his friends found an innate desire to play the music that their kūpuna listened to and performed; the music of the Hawaiian Renaissance as broadcast on the old KCCN 1420AM.    It is from this following that word of Hōkū’s talent started to spread throughout the islands\, as well as the Mainland US and Asia.
URL:https://nicoskailua.com/music/hoku-zuttermeister-20/
END:VEVENT
BEGIN:VEVENT
DTSTART;TZID=UTC:20240515T180000
DTEND;TZID=UTC:20240515T200000
DTSTAMP:20260423T033314
CREATED:20240423T095429Z
LAST-MODIFIED:20240502T073018Z
UID:4425-1715796000-1715803200@nicoskailua.com
SUMMARY:Kama Kakaio
DESCRIPTION:  \nPlease welcome\, Kama Kakaio! Contemporary music to match with the onolicious grindz.
URL:https://nicoskailua.com/music/kama-kakaio-19/
END:VEVENT
BEGIN:VEVENT
DTSTART;TZID=UTC:20240516T180000
DTEND;TZID=UTC:20240516T200000
DTSTAMP:20260423T033314
CREATED:20240423T095630Z
LAST-MODIFIED:20240502T073932Z
UID:4435-1715882400-1715889600@nicoskailua.com
SUMMARY:Greg and Darrel
DESCRIPTION:“ Hawaii born and raised\, Greg Sardinha\, is a talented and veteran steel guitar player.  He has played many genre’s of music but his passion is sharing the music of  the Hawaiian Steel Guitar.  Greg\, has won the 2018 Na Hoku Hanohano Instrumental Album\, with his collaboration with Jeff Peterson and Tsun-Hui Hung\, as well as\, the 2014 Na Hoku Hanohano award for Instrumental Album of the Year for his solo release “Stainless.” ” \n  \n– gregsardinha.com (source)
URL:https://nicoskailua.com/music/greg-and-darrel-20/
END:VEVENT
BEGIN:VEVENT
DTSTART;TZID=UTC:20240517T180000
DTEND;TZID=UTC:20240517T200000
DTSTAMP:20260423T033314
CREATED:20240423T095829Z
LAST-MODIFIED:20240502T074621Z
UID:4445-1715968800-1715976000@nicoskailua.com
SUMMARY:Kree Kahoa and Malik P
DESCRIPTION:Kree Kahoa and Malik P! Singer/Songwriter from Kaneohe\, sharing her story one lyric at a time.
URL:https://nicoskailua.com/music/kree-kahoa-and-malik-p-21/
END:VEVENT
BEGIN:VEVENT
DTSTART;TZID=UTC:20240518T180000
DTEND;TZID=UTC:20240518T200000
DTSTAMP:20260423T033314
CREATED:20240423T100043Z
LAST-MODIFIED:20240502T074840Z
UID:4455-1716055200-1716062400@nicoskailua.com
SUMMARY:Walt Keale
DESCRIPTION:Keale is nephew to the Hawaiian music legend\, Uncle Moe Keale\, and first-cousin to Skippy and Israel IZ Kamakawiwo’ole. His music brings forward the legacy of the Keale family.
URL:https://nicoskailua.com/music/walt-keale-19/
END:VEVENT
BEGIN:VEVENT
DTSTART;TZID=UTC:20240519T180000
DTEND;TZID=UTC:20240519T200000
DTSTAMP:20260423T033314
CREATED:20240423T100252Z
LAST-MODIFIED:20240502T074404Z
UID:4459-1716141600-1716148800@nicoskailua.com
SUMMARY:Kawika Kahi'apo
DESCRIPTION:With a laundry list of accomplishments (multiple Hoku Hanohano awardee and Grammy Award winner to name a few)\, this full-blooded Hawaiian needs no further introduction… Gracing us with his presence is Kawika Kahi’apo.
URL:https://nicoskailua.com/music/kawika-kahiapo-3/
END:VEVENT
BEGIN:VEVENT
DTSTART;VALUE=DATE:20240520
DTEND;VALUE=DATE:20240521
DTSTAMP:20260423T033314
CREATED:20240423T094613Z
LAST-MODIFIED:20240423T094613Z
UID:4409-1716163200-1716249599@nicoskailua.com
SUMMARY:-CLOSED ALL DAY-
DESCRIPTION:
URL:https://nicoskailua.com/music/closed-all-day-22/
END:VEVENT
BEGIN:VEVENT
DTSTART;TZID=UTC:20240521T180000
DTEND;TZID=UTC:20240521T200000
DTSTAMP:20260423T033314
CREATED:20240423T094906Z
LAST-MODIFIED:20240502T074226Z
UID:4417-1716314400-1716321600@nicoskailua.com
SUMMARY:Hōkū Zuttermeister
DESCRIPTION:Hōkū Zuttermeister was born and raised in Kāne‘ohe\, Hawai‘i\, to parents Carl and Susan Zuttermeister. As Hōkū grew into his musical abilities\, he and his friends found an innate desire to play the music that their kūpuna listened to and performed; the music of the Hawaiian Renaissance as broadcast on the old KCCN 1420AM.    It is from this following that word of Hōkū’s talent started to spread throughout the islands\, as well as the Mainland US and Asia.
URL:https://nicoskailua.com/music/hoku-zuttermeister-21/
END:VEVENT
BEGIN:VEVENT
DTSTART;TZID=UTC:20240522T180000
DTEND;TZID=UTC:20240522T200000
DTSTAMP:20260423T033314
CREATED:20240423T095449Z
LAST-MODIFIED:20240502T073220Z
UID:4427-1716400800-1716408000@nicoskailua.com
SUMMARY:Kama Kakaio
DESCRIPTION:  \nPlease welcome\, Kama Kakaio! Contemporary music to match with the onolicious grindz.
URL:https://nicoskailua.com/music/kama-kakaio-20/
END:VEVENT
BEGIN:VEVENT
DTSTART;TZID=UTC:20240523T180000
DTEND;TZID=UTC:20240523T200000
DTSTAMP:20260423T033314
CREATED:20240423T095643Z
LAST-MODIFIED:20240502T073958Z
UID:4437-1716487200-1716494400@nicoskailua.com
SUMMARY:Greg and Darrel
DESCRIPTION:“ Hawaii born and raised\, Greg Sardinha\, is a talented and veteran steel guitar player.  He has played many genre’s of music but his passion is sharing the music of  the Hawaiian Steel Guitar.  Greg\, has won the 2018 Na Hoku Hanohano Instrumental Album\, with his collaboration with Jeff Peterson and Tsun-Hui Hung\, as well as\, the 2014 Na Hoku Hanohano award for Instrumental Album of the Year for his solo release “Stainless.” ” \n  \n– gregsardinha.com (source)
URL:https://nicoskailua.com/music/greg-and-darrel-21/
END:VEVENT
BEGIN:VEVENT
DTSTART;TZID=UTC:20240524T180000
DTEND;TZID=UTC:20240524T200000
DTSTAMP:20260423T033314
CREATED:20240423T095842Z
LAST-MODIFIED:20240502T074629Z
UID:4447-1716573600-1716580800@nicoskailua.com
SUMMARY:Kree Kahoa and Malik P
DESCRIPTION:Kree Kahoa and Malik P! Singer/Songwriter from Kaneohe\, sharing her story one lyric at a time.
URL:https://nicoskailua.com/music/kree-kahoa-and-malik-p-22/
END:VEVENT
BEGIN:VEVENT
DTSTART;TZID=UTC:20240525T180000
DTEND;TZID=UTC:20240525T200000
DTSTAMP:20260423T033314
CREATED:20240423T100058Z
LAST-MODIFIED:20240502T074851Z
UID:4457-1716660000-1716667200@nicoskailua.com
SUMMARY:Walt Keale
DESCRIPTION:Keale is nephew to the Hawaiian music legend\, Uncle Moe Keale\, and first-cousin to Skippy and Israel IZ Kamakawiwo’ole. His music brings forward the legacy of the Keale family.
URL:https://nicoskailua.com/music/walt-keale-20/
END:VEVENT
END:VCALENDAR