BEGIN:VCALENDAR
VERSION:2.0
PRODID:-//Nico&#039;s Kailua - ECPv6.15.20//NONSGML v1.0//EN
CALSCALE:GREGORIAN
METHOD:PUBLISH
X-ORIGINAL-URL:https://nicoskailua.com
X-WR-CALDESC:Events for Nico&#039;s Kailua
REFRESH-INTERVAL;VALUE=DURATION:PT1H
X-Robots-Tag:noindex
X-PUBLISHED-TTL:PT1H
BEGIN:VTIMEZONE
TZID:UTC
BEGIN:STANDARD
TZOFFSETFROM:+0000
TZOFFSETTO:+0000
TZNAME:UTC
DTSTART:20240101T000000
END:STANDARD
END:VTIMEZONE
BEGIN:VTIMEZONE
TZID:Pacific/Honolulu
BEGIN:STANDARD
TZOFFSETFROM:-1000
TZOFFSETTO:-1000
TZNAME:HST
DTSTART:20240101T000000
END:STANDARD
END:VTIMEZONE
BEGIN:VEVENT
DTSTART;TZID=UTC:20250622T180000
DTEND;TZID=UTC:20250622T200000
DTSTAMP:20260422T025312
CREATED:20250529T003450Z
LAST-MODIFIED:20250602T195712Z
UID:9377-1750615200-1750622400@nicoskailua.com
SUMMARY:Kawika Kahi'apo
DESCRIPTION:With a laundry list of accomplishments (multiple Hoku Hanohano awardee and Grammy Award winner to name a few)\, this full-blooded Hawaiian needs no further introduction… Gracing us with his presence is Kawika Kahi’apo.
URL:https://nicoskailua.com/music/kawika-kahiapo-13/
END:VEVENT
BEGIN:VEVENT
DTSTART;VALUE=DATE:20250623
DTEND;VALUE=DATE:20250624
DTSTAMP:20260422T025312
CREATED:20250528T234030Z
LAST-MODIFIED:20250528T234030Z
UID:9333-1750636800-1750723199@nicoskailua.com
SUMMARY:-CLOSED ALL DAY-
DESCRIPTION:
URL:https://nicoskailua.com/music/closed-all-day-79/
END:VEVENT
BEGIN:VEVENT
DTSTART;TZID=UTC:20250624T180000
DTEND;TZID=UTC:20250624T200000
DTSTAMP:20260422T025312
CREATED:20250528T235717Z
LAST-MODIFIED:20250602T195712Z
UID:9343-1750788000-1750795200@nicoskailua.com
SUMMARY:Hōkū Zuttermeister
DESCRIPTION:Hōkū Zuttermeister was born and raised in Kāne‘ohe\, Hawai‘i\, to parents Carl and Susan Zuttermeister. As Hōkū grew into his musical abilities\, he and his friends found an innate desire to play the music that their kūpuna listened to and performed; the music of the Hawaiian Renaissance as broadcast on the old KCCN 1420AM.    It is from this following that word of Hōkū’s talent started to spread throughout the islands\, as well as the Mainland US and Asia.
URL:https://nicoskailua.com/music/hoku-zuttermeister-68/
END:VEVENT
BEGIN:VEVENT
DTSTART;TZID=Pacific/Honolulu:20250625T180000
DTEND;TZID=Pacific/Honolulu:20250625T200000
DTSTAMP:20260422T025312
CREATED:20250529T000505Z
LAST-MODIFIED:20250602T195712Z
UID:9351-1750874400-1750881600@nicoskailua.com
SUMMARY:Kealohamele Music
DESCRIPTION:Vaughn Henry “Kealohamele” Claude Kalawa is a Hawaii Grown native Hawaiian. Raised in a family of Musicians\, vocalists\, and entertainers. As you can see\, his given Hawaiian name Kealohamele (To love music) tells a story on its own. \nRelocating to Las Vegas wasn’t an option\, but it became a learning experience. Being able to share his talent of Traditional and Contemporary Hawaiian Music on the mainland and around the world. \nRecently returned to Hawaii to continue in his family’s tradition. Rooting back to the Culture of Hawaii through music\, dance\, and language. \nThe love of music begins here!
URL:https://nicoskailua.com/music/kealohamele-music-10/
END:VEVENT
BEGIN:VEVENT
DTSTART;TZID=UTC:20250626T180000
DTEND;TZID=UTC:20250626T200000
DTSTAMP:20260422T025312
CREATED:20250529T001256Z
LAST-MODIFIED:20250602T195712Z
UID:9359-1750960800-1750968000@nicoskailua.com
SUMMARY:Greg and Darrel
DESCRIPTION:“ Hawaii born and raised\, Greg Sardinha\, is a talented and veteran steel guitar player.  He has played many genre’s of music but his passion is sharing the music of  the Hawaiian Steel Guitar.  Greg\, has won the 2018 Na Hoku Hanohano Instrumental Album\, with his collaboration with Jeff Peterson and Tsun-Hui Hung\, as well as\, the 2014 Na Hoku Hanohano award for Instrumental Album of the Year for his solo release “Stainless.” ” \n  \n– gregsardinha.com (source)
URL:https://nicoskailua.com/music/greg-and-darrel-76/
END:VEVENT
BEGIN:VEVENT
DTSTART;TZID=UTC:20250627T180000
DTEND;TZID=UTC:20250627T200000
DTSTAMP:20260422T025312
CREATED:20250529T002818Z
LAST-MODIFIED:20250602T195712Z
UID:9367-1751047200-1751054400@nicoskailua.com
SUMMARY:Kama Kakaio
DESCRIPTION:Please welcome\, Kama Kakaio! Contemporary music to match with the onolicious grindz.
URL:https://nicoskailua.com/music/kama-kakaio-75/
END:VEVENT
BEGIN:VEVENT
DTSTART;TZID=UTC:20250628T180000
DTEND;TZID=UTC:20250628T200000
DTSTAMP:20260422T025312
CREATED:20250529T003222Z
LAST-MODIFIED:20250602T195712Z
UID:9375-1751133600-1751140800@nicoskailua.com
SUMMARY:Walt Keale
DESCRIPTION:Keale is nephew to the Hawaiian music legend\, Uncle Moe Keale\, and first-cousin to Skippy and Israel IZ Kamakawiwo’ole. His music brings forward the legacy of the Keale family.
URL:https://nicoskailua.com/music/walt-keale-68/
END:VEVENT
BEGIN:VEVENT
DTSTART;TZID=UTC:20250629T180000
DTEND;TZID=UTC:20250629T200000
DTSTAMP:20260422T025312
CREATED:20250529T003626Z
LAST-MODIFIED:20250602T195712Z
UID:9379-1751220000-1751227200@nicoskailua.com
SUMMARY:Blaine Kia
DESCRIPTION:Blaine Kia of Kamanawa joins us tonight sharing vast repertoire of songs ranging from traditional Hawaiian to Classic Rock and beyond!
URL:https://nicoskailua.com/music/blaine-kia-20/
END:VEVENT
BEGIN:VEVENT
DTSTART;VALUE=DATE:20250630
DTEND;VALUE=DATE:20250701
DTSTAMP:20260422T025312
CREATED:20250528T234056Z
LAST-MODIFIED:20250528T234056Z
UID:9335-1751241600-1751327999@nicoskailua.com
SUMMARY:-CLOSED ALL DAY-
DESCRIPTION:
URL:https://nicoskailua.com/music/closed-all-day-80/
END:VEVENT
BEGIN:VEVENT
DTSTART;TZID=UTC:20250701T180000
DTEND;TZID=UTC:20250701T200000
DTSTAMP:20260422T025312
CREATED:20250702T020014Z
LAST-MODIFIED:20250702T020014Z
UID:9783-1751392800-1751400000@nicoskailua.com
SUMMARY:Hōkū Zuttermeister
DESCRIPTION:Hōkū Zuttermeister was born and raised in Kāne‘ohe\, Hawai‘i\, to parents Carl and Susan Zuttermeister. As Hōkū grew into his musical abilities\, he and his friends found an innate desire to play the music that their kūpuna listened to and performed; the music of the Hawaiian Renaissance as broadcast on the old KCCN 1420AM.    It is from this following that word of Hōkū’s talent started to spread throughout the islands\, as well as the Mainland US and Asia.
URL:https://nicoskailua.com/music/hoku-zuttermeister-65/
END:VEVENT
BEGIN:VEVENT
DTSTART;TZID=UTC:20250703T180000
DTEND;TZID=UTC:20250703T200000
DTSTAMP:20260422T025312
CREATED:20250702T020746Z
LAST-MODIFIED:20250702T020746Z
UID:9803-1751565600-1751572800@nicoskailua.com
SUMMARY:Greg and Darrel
DESCRIPTION:“ Hawaii born and raised\, Greg Sardinha\, is a talented and veteran steel guitar player.  He has played many genre’s of music but his passion is sharing the music of  the Hawaiian Steel Guitar.  Greg\, has won the 2018 Na Hoku Hanohano Instrumental Album\, with his collaboration with Jeff Peterson and Tsun-Hui Hung\, as well as\, the 2014 Na Hoku Hanohano award for Instrumental Album of the Year for his solo release “Stainless.” ” \n  \n– gregsardinha.com (source)
URL:https://nicoskailua.com/music/greg-and-darrel-77/
END:VEVENT
BEGIN:VEVENT
DTSTART;TZID=UTC:20250704T180000
DTEND;TZID=UTC:20250704T200000
DTSTAMP:20260422T025312
CREATED:20250702T021124Z
LAST-MODIFIED:20250702T021124Z
UID:9813-1751652000-1751659200@nicoskailua.com
SUMMARY:Kama Kakaio
DESCRIPTION:Please welcome\, Kama Kakaio! Contemporary music to match with the onolicious grindz.
URL:https://nicoskailua.com/music/kama-kakaio-76/
END:VEVENT
BEGIN:VEVENT
DTSTART;TZID=UTC:20250705T180000
DTEND;TZID=UTC:20250705T200000
DTSTAMP:20260422T025312
CREATED:20250702T021617Z
LAST-MODIFIED:20250702T021617Z
UID:9827-1751738400-1751745600@nicoskailua.com
SUMMARY:Walt Keale
DESCRIPTION:Keale is nephew to the Hawaiian music legend\, Uncle Moe Keale\, and first-cousin to Skippy and Israel IZ Kamakawiwo’ole. His music brings forward the legacy of the Keale family.
URL:https://nicoskailua.com/music/walt-keale-69/
END:VEVENT
BEGIN:VEVENT
DTSTART;TZID=UTC:20250706T180000
DTEND;TZID=UTC:20250706T200000
DTSTAMP:20260422T025312
CREATED:20250702T021357Z
LAST-MODIFIED:20250702T021357Z
UID:9821-1751824800-1751832000@nicoskailua.com
SUMMARY:Chris Rego
DESCRIPTION:Chis Rego will entertain you with a wide variety of music\, Ki ho alu (slack-key)\, Hawaiian\, American roots (Blues-Folk-Bluegrass)\, International Brazilian\, Spanish (flamenco)\, and finally Rock and Contemporary Songs. Chris’s professional career began when he joined the Hawaiian music group Kaleo o Kalani.
URL:https://nicoskailua.com/music/chris-rego-37/
END:VEVENT
BEGIN:VEVENT
DTSTART;VALUE=DATE:20250707
DTEND;VALUE=DATE:20250708
DTSTAMP:20260422T025312
CREATED:20250702T015551Z
LAST-MODIFIED:20250702T015551Z
UID:9775-1751846400-1751932799@nicoskailua.com
SUMMARY:-CLOSED ALL DAY-
DESCRIPTION:
URL:https://nicoskailua.com/music/closed-all-day-81/
END:VEVENT
BEGIN:VEVENT
DTSTART;TZID=UTC:20250708T180000
DTEND;TZID=UTC:20250708T200000
DTSTAMP:20260422T025312
CREATED:20250702T020101Z
LAST-MODIFIED:20250702T020101Z
UID:9785-1751997600-1752004800@nicoskailua.com
SUMMARY:Hōkū Zuttermeister
DESCRIPTION:Hōkū Zuttermeister was born and raised in Kāne‘ohe\, Hawai‘i\, to parents Carl and Susan Zuttermeister. As Hōkū grew into his musical abilities\, he and his friends found an innate desire to play the music that their kūpuna listened to and performed; the music of the Hawaiian Renaissance as broadcast on the old KCCN 1420AM.    It is from this following that word of Hōkū’s talent started to spread throughout the islands\, as well as the Mainland US and Asia.
URL:https://nicoskailua.com/music/hoku-zuttermeister-69/
END:VEVENT
BEGIN:VEVENT
DTSTART;TZID=Pacific/Honolulu:20250709T180000
DTEND;TZID=Pacific/Honolulu:20250709T200000
DTSTAMP:20260422T025312
CREATED:20250704T211728Z
LAST-MODIFIED:20250709T022103Z
UID:9873-1752084000-1752091200@nicoskailua.com
SUMMARY:Jesse Kaawa
DESCRIPTION:Providing Professional Local Music; Smoothing Falsettos\, Traditional Favorites\, Contemporary Hits\, and much more
URL:https://nicoskailua.com/music/jessekaawa/
END:VEVENT
BEGIN:VEVENT
DTSTART;TZID=UTC:20250710T180000
DTEND;TZID=UTC:20250710T200000
DTSTAMP:20260422T025312
CREATED:20250702T020849Z
LAST-MODIFIED:20250702T020849Z
UID:9805-1752170400-1752177600@nicoskailua.com
SUMMARY:Greg and Darrel
DESCRIPTION:“ Hawaii born and raised\, Greg Sardinha\, is a talented and veteran steel guitar player.  He has played many genre’s of music but his passion is sharing the music of  the Hawaiian Steel Guitar.  Greg\, has won the 2018 Na Hoku Hanohano Instrumental Album\, with his collaboration with Jeff Peterson and Tsun-Hui Hung\, as well as\, the 2014 Na Hoku Hanohano award for Instrumental Album of the Year for his solo release “Stainless.” ” \n  \n– gregsardinha.com (source)
URL:https://nicoskailua.com/music/greg-and-darrel-78/
END:VEVENT
BEGIN:VEVENT
DTSTART;TZID=UTC:20250711T180000
DTEND;TZID=UTC:20250711T200000
DTSTAMP:20260422T025312
CREATED:20250702T021220Z
LAST-MODIFIED:20250702T021220Z
UID:9815-1752256800-1752264000@nicoskailua.com
SUMMARY:Kama Kakaio
DESCRIPTION:Please welcome\, Kama Kakaio! Contemporary music to match with the onolicious grindz.
URL:https://nicoskailua.com/music/kama-kakaio-77/
END:VEVENT
BEGIN:VEVENT
DTSTART;TZID=UTC:20250712T180000
DTEND;TZID=UTC:20250712T200000
DTSTAMP:20260422T025312
CREATED:20250702T021649Z
LAST-MODIFIED:20250702T021649Z
UID:9829-1752343200-1752350400@nicoskailua.com
SUMMARY:Walt Keale
DESCRIPTION:Keale is nephew to the Hawaiian music legend\, Uncle Moe Keale\, and first-cousin to Skippy and Israel IZ Kamakawiwo’ole. His music brings forward the legacy of the Keale family.
URL:https://nicoskailua.com/music/walt-keale-70/
END:VEVENT
BEGIN:VEVENT
DTSTART;TZID=UTC:20250713T180000
DTEND;TZID=UTC:20250713T200000
DTSTAMP:20260422T025312
CREATED:20250702T021420Z
LAST-MODIFIED:20250702T021420Z
UID:9823-1752429600-1752436800@nicoskailua.com
SUMMARY:Chris Rego
DESCRIPTION:Chis Rego will entertain you with a wide variety of music\, Ki ho alu (slack-key)\, Hawaiian\, American roots (Blues-Folk-Bluegrass)\, International Brazilian\, Spanish (flamenco)\, and finally Rock and Contemporary Songs. Chris’s professional career began when he joined the Hawaiian music group Kaleo o Kalani.
URL:https://nicoskailua.com/music/chris-rego-38/
END:VEVENT
BEGIN:VEVENT
DTSTART;VALUE=DATE:20250714
DTEND;VALUE=DATE:20250715
DTSTAMP:20260422T025312
CREATED:20250702T015635Z
LAST-MODIFIED:20250702T015635Z
UID:9777-1752451200-1752537599@nicoskailua.com
SUMMARY:-CLOSED ALL DAY-
DESCRIPTION:
URL:https://nicoskailua.com/music/closed-all-day-82/
END:VEVENT
BEGIN:VEVENT
DTSTART;TZID=Pacific/Honolulu:20250715T180000
DTEND;TZID=Pacific/Honolulu:20250715T200000
DTSTAMP:20260422T025312
CREATED:20250715T221350Z
LAST-MODIFIED:20250715T221350Z
UID:10000-1752602400-1752609600@nicoskailua.com
SUMMARY:Mike Piranha
DESCRIPTION:In a state with such amazing musical texture as Hawaii\, The Piranha Bros. Band enjoys the distinction of being the only REAL rock & roll band that lives here. Heck\, somebody’s gotta do it!
URL:https://nicoskailua.com/music/mike-piranha/
END:VEVENT
BEGIN:VEVENT
DTSTART;TZID=Pacific/Honolulu:20250716T180000
DTEND;TZID=Pacific/Honolulu:20250716T200000
DTSTAMP:20260422T025312
CREATED:20250704T211750Z
LAST-MODIFIED:20250709T022020Z
UID:9875-1752688800-1752696000@nicoskailua.com
SUMMARY:Jesse Kaawa
DESCRIPTION:Providing Professional Local Music; Smoothing Falsettos\, Traditional Favorites\, Contemporary Hits\, and much more
URL:https://nicoskailua.com/music/kealoha-music-3/
END:VEVENT
BEGIN:VEVENT
DTSTART;TZID=UTC:20250717T180000
DTEND;TZID=UTC:20250717T200000
DTSTAMP:20260422T025312
CREATED:20250702T020911Z
LAST-MODIFIED:20250702T020911Z
UID:9807-1752775200-1752782400@nicoskailua.com
SUMMARY:Greg and Darrel
DESCRIPTION:“ Hawaii born and raised\, Greg Sardinha\, is a talented and veteran steel guitar player.  He has played many genre’s of music but his passion is sharing the music of  the Hawaiian Steel Guitar.  Greg\, has won the 2018 Na Hoku Hanohano Instrumental Album\, with his collaboration with Jeff Peterson and Tsun-Hui Hung\, as well as\, the 2014 Na Hoku Hanohano award for Instrumental Album of the Year for his solo release “Stainless.” ” \n  \n– gregsardinha.com (source)
URL:https://nicoskailua.com/music/greg-and-darrel-79/
END:VEVENT
BEGIN:VEVENT
DTSTART;TZID=UTC:20250718T180000
DTEND;TZID=UTC:20250718T200000
DTSTAMP:20260422T025312
CREATED:20250702T021239Z
LAST-MODIFIED:20250702T021239Z
UID:9817-1752861600-1752868800@nicoskailua.com
SUMMARY:Kama Kakaio
DESCRIPTION:Please welcome\, Kama Kakaio! Contemporary music to match with the onolicious grindz.
URL:https://nicoskailua.com/music/kama-kakaio-78/
END:VEVENT
BEGIN:VEVENT
DTSTART;TZID=Pacific/Honolulu:20250719T180000
DTEND;TZID=Pacific/Honolulu:20250719T200000
DTSTAMP:20260422T025312
CREATED:20250702T021906Z
LAST-MODIFIED:20250702T021906Z
UID:9833-1752948000-1752955200@nicoskailua.com
SUMMARY:Michael Zanderigo and Ilima Chaize
DESCRIPTION:Michael Zanderigo grew up in Honolulu\, Hawaii\, where he began learning ukulele\, guitar\, and singing at a young age! At age 21 he went professional and has performed all over Hawaii\, California\, and New York City. Ilima Chaize is an island girl who loves surfing and singing. She started classical piano at Ellen Masaki Music School at 10 years old\, learned to play guitar with Ken Lykes\, and studied voice with Yvonne Iversen. These are two young talents to keep an eye on for sure!
URL:https://nicoskailua.com/music/michael-zanderigo-and-ilima-chaize-2/
END:VEVENT
BEGIN:VEVENT
DTSTART;TZID=Pacific/Honolulu:20250720T180000
DTEND;TZID=Pacific/Honolulu:20250720T200000
DTSTAMP:20260422T025312
CREATED:20250702T022139Z
LAST-MODIFIED:20250702T022139Z
UID:9835-1753034400-1753041600@nicoskailua.com
SUMMARY:Michael Zanderigo and Ilima Chaize
DESCRIPTION:Michael Zanderigo grew up in Honolulu\, Hawaii\, where he began learning ukulele\, guitar\, and singing at a young age! At age 21 he went professional and has performed all over Hawaii\, California\, and New York City. Ilima Chaize is an island girl who loves surfing and singing. She started classical piano at Ellen Masaki Music School at 10 years old\, learned to play guitar with Ken Lykes\, and studied voice with Yvonne Iversen. These are two young talents to keep an eye on for sure!
URL:https://nicoskailua.com/music/michael-zanderigo-and-ilima-chaize-3/
END:VEVENT
BEGIN:VEVENT
DTSTART;VALUE=DATE:20250721
DTEND;VALUE=DATE:20250722
DTSTAMP:20260422T025312
CREATED:20250702T015742Z
LAST-MODIFIED:20250702T015742Z
UID:9779-1753056000-1753142399@nicoskailua.com
SUMMARY:-CLOSED ALL DAY-
DESCRIPTION:
URL:https://nicoskailua.com/music/closed-all-day-83/
END:VEVENT
BEGIN:VEVENT
DTSTART;TZID=UTC:20250722T180000
DTEND;TZID=UTC:20250722T200000
DTSTAMP:20260422T025312
CREATED:20250702T020402Z
LAST-MODIFIED:20250702T020402Z
UID:9789-1753207200-1753214400@nicoskailua.com
SUMMARY:Hōkū Zuttermeister
DESCRIPTION:Hōkū Zuttermeister was born and raised in Kāne‘ohe\, Hawai‘i\, to parents Carl and Susan Zuttermeister. As Hōkū grew into his musical abilities\, he and his friends found an innate desire to play the music that their kūpuna listened to and performed; the music of the Hawaiian Renaissance as broadcast on the old KCCN 1420AM.    It is from this following that word of Hōkū’s talent started to spread throughout the islands\, as well as the Mainland US and Asia.
URL:https://nicoskailua.com/music/hoku-zuttermeister-71/
END:VEVENT
END:VCALENDAR