BEGIN:VCALENDAR
VERSION:2.0
PRODID:-//Nico&#039;s Kailua - ECPv6.15.20//NONSGML v1.0//EN
CALSCALE:GREGORIAN
METHOD:PUBLISH
X-WR-CALNAME:Nico&#039;s Kailua
X-ORIGINAL-URL:https://nicoskailua.com
X-WR-CALDESC:Events for Nico&#039;s Kailua
REFRESH-INTERVAL;VALUE=DURATION:PT1H
X-Robots-Tag:noindex
X-PUBLISHED-TTL:PT1H
BEGIN:VTIMEZONE
TZID:UTC
BEGIN:STANDARD
TZOFFSETFROM:+0000
TZOFFSETTO:+0000
TZNAME:UTC
DTSTART:20250101T000000
END:STANDARD
END:VTIMEZONE
BEGIN:VTIMEZONE
TZID:Pacific/Honolulu
BEGIN:STANDARD
TZOFFSETFROM:-1000
TZOFFSETTO:-1000
TZNAME:HST
DTSTART:20250101T000000
END:STANDARD
END:VTIMEZONE
BEGIN:VEVENT
DTSTART;TZID=UTC:20260306T180000
DTEND;TZID=UTC:20260306T200000
DTSTAMP:20260423T025529
CREATED:20260228T012217Z
LAST-MODIFIED:20260228T012217Z
UID:12554-1772820000-1772827200@nicoskailua.com
SUMMARY:Kama Kakaio
DESCRIPTION:Please welcome\, Kama Kakaio! Contemporary music to match the onolicious grindz.
URL:https://nicoskailua.com/music/kama-kakaio-105/
END:VEVENT
BEGIN:VEVENT
DTSTART;TZID=UTC:20260305T180000
DTEND;TZID=UTC:20260305T200000
DTSTAMP:20260423T025529
CREATED:20260228T011727Z
LAST-MODIFIED:20260228T011727Z
UID:12546-1772733600-1772740800@nicoskailua.com
SUMMARY:Greg and Darrel
DESCRIPTION:“ Hawaii born and raised\, Greg Sardinha\, is a talented and veteran steel guitar player.  He has played many genre’s of music but his passion is sharing the music of  the Hawaiian Steel Guitar.  Greg\, has won the 2018 Na Hoku Hanohano Instrumental Album\, with his collaboration with Jeff Peterson and Tsun-Hui Hung\, as well as\, the 2014 Na Hoku Hanohano award for Instrumental Album of the Year for his solo release “Stainless.” ” \n  \n– gregsardinha.com (source)
URL:https://nicoskailua.com/music/greg-and-darrel-107/
END:VEVENT
BEGIN:VEVENT
DTSTART;TZID=Pacific/Honolulu:20260304T180000
DTEND;TZID=Pacific/Honolulu:20260304T200000
DTSTAMP:20260423T025529
CREATED:20260228T010938Z
LAST-MODIFIED:20260228T010938Z
UID:12538-1772647200-1772654400@nicoskailua.com
SUMMARY:Jesse Kaawa
DESCRIPTION:Providing Professional Local Music; Smoothing Falsettos\, Traditional Favorites\, Contemporary Hits\, and much more
URL:https://nicoskailua.com/music/jesse-kaawa-27/
END:VEVENT
BEGIN:VEVENT
DTSTART;TZID=UTC:20260303T180000
DTEND;TZID=UTC:20260303T200000
DTSTAMP:20260423T025529
CREATED:20260228T005220Z
LAST-MODIFIED:20260228T005220Z
UID:12532-1772560800-1772568000@nicoskailua.com
SUMMARY:Hōkū Zuttermeister
DESCRIPTION:Hōkū Zuttermeister was born and raised in Kāne‘ohe\, Hawai‘i\, to parents Carl and Susan Zuttermeister. As Hōkū grew into his musical abilities\, he and his friends found an innate desire to play the music that their kūpuna listened to and performed; the music of the Hawaiian Renaissance as broadcast on the old KCCN 1420AM.    It is from this following that word of Hōkū’s talent started to spread throughout the islands\, as well as the Mainland US and Asia.
URL:https://nicoskailua.com/music/hoku-zuttermeister-96/
END:VEVENT
BEGIN:VEVENT
DTSTART;VALUE=DATE:20260302
DTEND;VALUE=DATE:20260303
DTSTAMP:20260423T025529
CREATED:20260228T002256Z
LAST-MODIFIED:20260228T002256Z
UID:12522-1772409600-1772495999@nicoskailua.com
SUMMARY:-CLOSED ALL DAY-
DESCRIPTION:
URL:https://nicoskailua.com/music/closed-all-day-115/
END:VEVENT
BEGIN:VEVENT
DTSTART;TZID=UTC:20260301T180000
DTEND;TZID=UTC:20260301T200000
DTSTAMP:20260423T025529
CREATED:20260228T013256Z
LAST-MODIFIED:20260228T013256Z
UID:12570-1772388000-1772395200@nicoskailua.com
SUMMARY:Chris Rego
DESCRIPTION:Chis Rego will entertain you with a wide variety of music\, Ki ho alu (slack-key)\, Hawaiian\, American roots (Blues-Folk-Bluegrass)\, International Brazilian\, Spanish (flamenco)\, and finally Rock and Contemporary Songs. Chris’s professional career began when he joined the Hawaiian music group Kaleo o Kalani.
URL:https://nicoskailua.com/music/chris-rego-47/
END:VEVENT
BEGIN:VEVENT
DTSTART;TZID=UTC:20260228T180000
DTEND;TZID=UTC:20260228T200000
DTSTAMP:20260423T025529
CREATED:20260126T215235Z
LAST-MODIFIED:20260126T215235Z
UID:12196-1772301600-1772308800@nicoskailua.com
SUMMARY:Walt Keale
DESCRIPTION:Keale is nephew to the Hawaiian music legend\, Uncle Moe Keale\, and first-cousin to Skippy and Israel IZ Kamakawiwo’ole. His music brings forward the legacy of the Keale family.
URL:https://nicoskailua.com/music/walt-keale-95/
END:VEVENT
BEGIN:VEVENT
DTSTART;TZID=UTC:20260227T180000
DTEND;TZID=UTC:20260227T200000
DTSTAMP:20260423T025529
CREATED:20260126T215031Z
LAST-MODIFIED:20260126T215031Z
UID:12188-1772215200-1772222400@nicoskailua.com
SUMMARY:Kama Kakaio
DESCRIPTION:Please welcome\, Kama Kakaio! Contemporary music to match the onolicious grindz.
URL:https://nicoskailua.com/music/kama-kakaio-104/
END:VEVENT
BEGIN:VEVENT
DTSTART;TZID=UTC:20260226T180000
DTEND;TZID=UTC:20260226T200000
DTSTAMP:20260423T025529
CREATED:20260126T214802Z
LAST-MODIFIED:20260126T214802Z
UID:12180-1772128800-1772136000@nicoskailua.com
SUMMARY:Greg and Darrel
DESCRIPTION:“ Hawaii born and raised\, Greg Sardinha\, is a talented and veteran steel guitar player.  He has played many genre’s of music but his passion is sharing the music of  the Hawaiian Steel Guitar.  Greg\, has won the 2018 Na Hoku Hanohano Instrumental Album\, with his collaboration with Jeff Peterson and Tsun-Hui Hung\, as well as\, the 2014 Na Hoku Hanohano award for Instrumental Album of the Year for his solo release “Stainless.” ” \n  \n– gregsardinha.com (source)
URL:https://nicoskailua.com/music/greg-and-darrel-106/
END:VEVENT
BEGIN:VEVENT
DTSTART;TZID=Pacific/Honolulu:20260225T180000
DTEND;TZID=Pacific/Honolulu:20260225T200000
DTSTAMP:20260423T025529
CREATED:20260126T214535Z
LAST-MODIFIED:20260126T214535Z
UID:12172-1772042400-1772049600@nicoskailua.com
SUMMARY:Jesse Kaawa
DESCRIPTION:Providing Professional Local Music; Smoothing Falsettos\, Traditional Favorites\, Contemporary Hits\, and much more
URL:https://nicoskailua.com/music/jesse-kaawa-26/
END:VEVENT
BEGIN:VEVENT
DTSTART;TZID=UTC:20260224T180000
DTEND;TZID=UTC:20260224T200000
DTSTAMP:20260423T025529
CREATED:20260126T214122Z
LAST-MODIFIED:20260126T214122Z
UID:12156-1771956000-1771963200@nicoskailua.com
SUMMARY:Hōkū Zuttermeister
DESCRIPTION:Hōkū Zuttermeister was born and raised in Kāne‘ohe\, Hawai‘i\, to parents Carl and Susan Zuttermeister. As Hōkū grew into his musical abilities\, he and his friends found an innate desire to play the music that their kūpuna listened to and performed; the music of the Hawaiian Renaissance as broadcast on the old KCCN 1420AM.    It is from this following that word of Hōkū’s talent started to spread throughout the islands\, as well as the Mainland US and Asia.
URL:https://nicoskailua.com/music/hoku-zuttermeister-95/
END:VEVENT
BEGIN:VEVENT
DTSTART;VALUE=DATE:20260223
DTEND;VALUE=DATE:20260224
DTSTAMP:20260423T025529
CREATED:20260126T214336Z
LAST-MODIFIED:20260126T214336Z
UID:12164-1771804800-1771891199@nicoskailua.com
SUMMARY:-CLOSED ALL DAY-
DESCRIPTION:
URL:https://nicoskailua.com/music/closed-all-day-114/
END:VEVENT
BEGIN:VEVENT
DTSTART;TZID=UTC:20260221T180000
DTEND;TZID=UTC:20260221T200000
DTSTAMP:20260423T025529
CREATED:20260126T215202Z
LAST-MODIFIED:20260126T215202Z
UID:12194-1771696800-1771704000@nicoskailua.com
SUMMARY:Walt Keale
DESCRIPTION:Keale is nephew to the Hawaiian music legend\, Uncle Moe Keale\, and first-cousin to Skippy and Israel IZ Kamakawiwo’ole. His music brings forward the legacy of the Keale family.
URL:https://nicoskailua.com/music/walt-keale-94/
END:VEVENT
BEGIN:VEVENT
DTSTART;TZID=UTC:20260220T180000
DTEND;TZID=UTC:20260220T200000
DTSTAMP:20260423T025529
CREATED:20260126T215002Z
LAST-MODIFIED:20260126T215002Z
UID:12186-1771610400-1771617600@nicoskailua.com
SUMMARY:Kama Kakaio
DESCRIPTION:Please welcome\, Kama Kakaio! Contemporary music to match the onolicious grindz.
URL:https://nicoskailua.com/music/kama-kakaio-103/
END:VEVENT
BEGIN:VEVENT
DTSTART;TZID=UTC:20260219T180000
DTEND;TZID=UTC:20260219T200000
DTSTAMP:20260423T025529
CREATED:20260126T214718Z
LAST-MODIFIED:20260126T214718Z
UID:12178-1771524000-1771531200@nicoskailua.com
SUMMARY:Greg and Darrel
DESCRIPTION:“ Hawaii born and raised\, Greg Sardinha\, is a talented and veteran steel guitar player.  He has played many genre’s of music but his passion is sharing the music of  the Hawaiian Steel Guitar.  Greg\, has won the 2018 Na Hoku Hanohano Instrumental Album\, with his collaboration with Jeff Peterson and Tsun-Hui Hung\, as well as\, the 2014 Na Hoku Hanohano award for Instrumental Album of the Year for his solo release “Stainless.” ” \n  \n– gregsardinha.com (source)
URL:https://nicoskailua.com/music/greg-and-darrel-105/
END:VEVENT
BEGIN:VEVENT
DTSTART;TZID=Pacific/Honolulu:20260218T180000
DTEND;TZID=Pacific/Honolulu:20260218T200000
DTSTAMP:20260423T025529
CREATED:20260126T214507Z
LAST-MODIFIED:20260126T214507Z
UID:12170-1771437600-1771444800@nicoskailua.com
SUMMARY:Jesse Kaawa
DESCRIPTION:Providing Professional Local Music; Smoothing Falsettos\, Traditional Favorites\, Contemporary Hits\, and much more
URL:https://nicoskailua.com/music/jesse-kaawa-25/
END:VEVENT
BEGIN:VEVENT
DTSTART;TZID=UTC:20260217T180000
DTEND;TZID=UTC:20260217T200000
DTSTAMP:20260423T025529
CREATED:20260126T214056Z
LAST-MODIFIED:20260126T214056Z
UID:12154-1771351200-1771358400@nicoskailua.com
SUMMARY:Hōkū Zuttermeister
DESCRIPTION:Hōkū Zuttermeister was born and raised in Kāne‘ohe\, Hawai‘i\, to parents Carl and Susan Zuttermeister. As Hōkū grew into his musical abilities\, he and his friends found an innate desire to play the music that their kūpuna listened to and performed; the music of the Hawaiian Renaissance as broadcast on the old KCCN 1420AM.    It is from this following that word of Hōkū’s talent started to spread throughout the islands\, as well as the Mainland US and Asia.
URL:https://nicoskailua.com/music/hoku-zuttermeister-94/
END:VEVENT
BEGIN:VEVENT
DTSTART;VALUE=DATE:20260216
DTEND;VALUE=DATE:20260217
DTSTAMP:20260423T025529
CREATED:20260126T214308Z
LAST-MODIFIED:20260126T214308Z
UID:12162-1771200000-1771286399@nicoskailua.com
SUMMARY:-CLOSED ALL DAY-
DESCRIPTION:
URL:https://nicoskailua.com/music/closed-all-day-113/
END:VEVENT
BEGIN:VEVENT
DTSTART;TZID=UTC:20260215T180000
DTEND;TZID=UTC:20260215T200000
DTSTAMP:20260423T025529
CREATED:20260126T215305Z
LAST-MODIFIED:20260126T215338Z
UID:12198-1771178400-1771185600@nicoskailua.com
SUMMARY:Kawika Kahi'apo
DESCRIPTION:With a laundry list of accomplishments (multiple Hoku Hanohano awardee and Grammy Award winner to name a few)\, this full-blooded Hawaiian needs no further introduction… Gracing us with his presence is Kawika Kahi’apo.
URL:https://nicoskailua.com/music/__trashed-2/
END:VEVENT
BEGIN:VEVENT
DTSTART;TZID=UTC:20260214T180000
DTEND;TZID=UTC:20260214T200000
DTSTAMP:20260423T025529
CREATED:20260126T215138Z
LAST-MODIFIED:20260126T215138Z
UID:12192-1771092000-1771099200@nicoskailua.com
SUMMARY:Walt Keale
DESCRIPTION:Keale is nephew to the Hawaiian music legend\, Uncle Moe Keale\, and first-cousin to Skippy and Israel IZ Kamakawiwo’ole. His music brings forward the legacy of the Keale family.
URL:https://nicoskailua.com/music/walt-keale-93/
END:VEVENT
BEGIN:VEVENT
DTSTART;TZID=UTC:20260213T180000
DTEND;TZID=UTC:20260213T200000
DTSTAMP:20260423T025529
CREATED:20260126T214937Z
LAST-MODIFIED:20260126T214937Z
UID:12184-1771005600-1771012800@nicoskailua.com
SUMMARY:Kama Kakaio
DESCRIPTION:Please welcome\, Kama Kakaio! Contemporary music to match the onolicious grindz.
URL:https://nicoskailua.com/music/kama-kakaio-102/
END:VEVENT
BEGIN:VEVENT
DTSTART;TZID=UTC:20260212T180000
DTEND;TZID=UTC:20260212T200000
DTSTAMP:20260423T025529
CREATED:20260126T214654Z
LAST-MODIFIED:20260126T214654Z
UID:12176-1770919200-1770926400@nicoskailua.com
SUMMARY:Greg and Darrel
DESCRIPTION:“ Hawaii born and raised\, Greg Sardinha\, is a talented and veteran steel guitar player.  He has played many genre’s of music but his passion is sharing the music of  the Hawaiian Steel Guitar.  Greg\, has won the 2018 Na Hoku Hanohano Instrumental Album\, with his collaboration with Jeff Peterson and Tsun-Hui Hung\, as well as\, the 2014 Na Hoku Hanohano award for Instrumental Album of the Year for his solo release “Stainless.” ” \n  \n– gregsardinha.com (source)
URL:https://nicoskailua.com/music/greg-and-darrel-104/
END:VEVENT
BEGIN:VEVENT
DTSTART;TZID=Pacific/Honolulu:20260211T180000
DTEND;TZID=Pacific/Honolulu:20260211T200000
DTSTAMP:20260423T025529
CREATED:20260126T214443Z
LAST-MODIFIED:20260126T214443Z
UID:12168-1770832800-1770840000@nicoskailua.com
SUMMARY:Jesse Kaawa
DESCRIPTION:Providing Professional Local Music; Smoothing Falsettos\, Traditional Favorites\, Contemporary Hits\, and much more
URL:https://nicoskailua.com/music/jesse-kaawa-24/
END:VEVENT
BEGIN:VEVENT
DTSTART;TZID=UTC:20260210T180000
DTEND;TZID=UTC:20260210T200000
DTSTAMP:20260423T025529
CREATED:20260126T214034Z
LAST-MODIFIED:20260126T214034Z
UID:12152-1770746400-1770753600@nicoskailua.com
SUMMARY:Hōkū Zuttermeister
DESCRIPTION:Hōkū Zuttermeister was born and raised in Kāne‘ohe\, Hawai‘i\, to parents Carl and Susan Zuttermeister. As Hōkū grew into his musical abilities\, he and his friends found an innate desire to play the music that their kūpuna listened to and performed; the music of the Hawaiian Renaissance as broadcast on the old KCCN 1420AM.    It is from this following that word of Hōkū’s talent started to spread throughout the islands\, as well as the Mainland US and Asia.
URL:https://nicoskailua.com/music/hoku-zuttermeister-93/
END:VEVENT
BEGIN:VEVENT
DTSTART;VALUE=DATE:20260209
DTEND;VALUE=DATE:20260210
DTSTAMP:20260423T025529
CREATED:20260126T214236Z
LAST-MODIFIED:20260126T214236Z
UID:12160-1770595200-1770681599@nicoskailua.com
SUMMARY:-CLOSED ALL DAY-
DESCRIPTION:
URL:https://nicoskailua.com/music/closed-all-day-112/
END:VEVENT
BEGIN:VEVENT
DTSTART;VALUE=DATE:20260208
DTEND;VALUE=DATE:20260209
DTSTAMP:20260423T025529
CREATED:20260126T215426Z
LAST-MODIFIED:20260126T215426Z
UID:12200-1770508800-1770595199@nicoskailua.com
SUMMARY:-CLOSED ALL DAY FOR SUPER BOWL SUNDAY-
DESCRIPTION:CLOSED ALL DAY FOR SUPERBOWL SUNDAY. MAHALO FOR YOUR KOKUA!
URL:https://nicoskailua.com/music/closed-all-day-for-super-bowl-sunday-2/
END:VEVENT
BEGIN:VEVENT
DTSTART;TZID=UTC:20260207T180000
DTEND;TZID=UTC:20260207T200000
DTSTAMP:20260423T025529
CREATED:20260126T215110Z
LAST-MODIFIED:20260126T215110Z
UID:12190-1770487200-1770494400@nicoskailua.com
SUMMARY:Walt Keale
DESCRIPTION:Keale is nephew to the Hawaiian music legend\, Uncle Moe Keale\, and first-cousin to Skippy and Israel IZ Kamakawiwo’ole. His music brings forward the legacy of the Keale family.
URL:https://nicoskailua.com/music/walt-keale-92/
END:VEVENT
BEGIN:VEVENT
DTSTART;TZID=UTC:20260206T180000
DTEND;TZID=UTC:20260206T200000
DTSTAMP:20260423T025529
CREATED:20260126T214851Z
LAST-MODIFIED:20260126T214851Z
UID:12182-1770400800-1770408000@nicoskailua.com
SUMMARY:Kama Kakaio
DESCRIPTION:Please welcome\, Kama Kakaio! Contemporary music to match the onolicious grindz.
URL:https://nicoskailua.com/music/kama-kakaio-101/
END:VEVENT
BEGIN:VEVENT
DTSTART;TZID=UTC:20260205T180000
DTEND;TZID=UTC:20260205T200000
DTSTAMP:20260423T025529
CREATED:20260126T214621Z
LAST-MODIFIED:20260126T214621Z
UID:12174-1770314400-1770321600@nicoskailua.com
SUMMARY:Greg and Darrel
DESCRIPTION:“ Hawaii born and raised\, Greg Sardinha\, is a talented and veteran steel guitar player.  He has played many genre’s of music but his passion is sharing the music of  the Hawaiian Steel Guitar.  Greg\, has won the 2018 Na Hoku Hanohano Instrumental Album\, with his collaboration with Jeff Peterson and Tsun-Hui Hung\, as well as\, the 2014 Na Hoku Hanohano award for Instrumental Album of the Year for his solo release “Stainless.” ” \n  \n– gregsardinha.com (source)
URL:https://nicoskailua.com/music/greg-and-darrel-103/
END:VEVENT
BEGIN:VEVENT
DTSTART;TZID=Pacific/Honolulu:20260204T180000
DTEND;TZID=Pacific/Honolulu:20260204T200000
DTSTAMP:20260423T025529
CREATED:20260126T214422Z
LAST-MODIFIED:20260126T214422Z
UID:12166-1770228000-1770235200@nicoskailua.com
SUMMARY:Jesse Kaawa
DESCRIPTION:Providing Professional Local Music; Smoothing Falsettos\, Traditional Favorites\, Contemporary Hits\, and much more
URL:https://nicoskailua.com/music/jesse-kaawa-23/
END:VEVENT
END:VCALENDAR