BEGIN:VCALENDAR
VERSION:2.0
PRODID:-//Nico&#039;s Kailua - ECPv6.15.20//NONSGML v1.0//EN
CALSCALE:GREGORIAN
METHOD:PUBLISH
X-WR-CALNAME:Nico&#039;s Kailua
X-ORIGINAL-URL:https://nicoskailua.com
X-WR-CALDESC:Events for Nico&#039;s Kailua
REFRESH-INTERVAL;VALUE=DURATION:PT1H
X-Robots-Tag:noindex
X-PUBLISHED-TTL:PT1H
BEGIN:VTIMEZONE
TZID:UTC
BEGIN:STANDARD
TZOFFSETFROM:+0000
TZOFFSETTO:+0000
TZNAME:UTC
DTSTART:20240101T000000
END:STANDARD
END:VTIMEZONE
BEGIN:VEVENT
DTSTART;TZID=UTC:20250202T180000
DTEND;TZID=UTC:20250202T200000
DTSTAMP:20260423T100931
CREATED:20250130T223239Z
LAST-MODIFIED:20250130T223239Z
UID:7563-1738519200-1738526400@nicoskailua.com
SUMMARY:Chris Rego
DESCRIPTION:Chis Rego will entertain you with a wide variety of music\, Ki ho alu (slack-key)\, Hawaiian\, American roots (Blues-Folk-Bluegrass)\, International Brazilian\, Spanish (flamenco)\, and finally Rock and Contemporary Songs. Chris’s professional career began when he joined the Hawaiian music group Kaleo o Kalani.
URL:https://nicoskailua.com/music/chris-rego-28/
END:VEVENT
BEGIN:VEVENT
DTSTART;TZID=UTC:20250201T180000
DTEND;TZID=UTC:20250201T200000
DTSTAMP:20260423T100931
CREATED:20250130T222942Z
LAST-MODIFIED:20250130T224720Z
UID:7559-1738432800-1738440000@nicoskailua.com
SUMMARY:Mark Yim
DESCRIPTION:A long-time member of the Peter Moon Band\, Mark Yim plays all the Hawaii classics
URL:https://nicoskailua.com/music/mark-yim-4/
END:VEVENT
BEGIN:VEVENT
DTSTART;TZID=UTC:20250131T180000
DTEND;TZID=UTC:20250131T200000
DTSTAMP:20260423T100931
CREATED:20241227T232745Z
LAST-MODIFIED:20250101T003149Z
UID:7221-1738346400-1738353600@nicoskailua.com
SUMMARY:Kree Kahoa and Malik P
DESCRIPTION:Kree Kahoa and Malik P! Singer/Songwriter from Kaneohe\, sharing her story one lyric at a time.
URL:https://nicoskailua.com/music/kree-kahoa-and-malik-p-49/
END:VEVENT
BEGIN:VEVENT
DTSTART;TZID=UTC:20250130T180000
DTEND;TZID=UTC:20250130T200000
DTSTAMP:20260423T100931
CREATED:20241227T232411Z
LAST-MODIFIED:20250101T003149Z
UID:7211-1738260000-1738267200@nicoskailua.com
SUMMARY:Greg and Darrel
DESCRIPTION:“ Hawaii born and raised\, Greg Sardinha\, is a talented and veteran steel guitar player.  He has played many genre’s of music but his passion is sharing the music of  the Hawaiian Steel Guitar.  Greg\, has won the 2018 Na Hoku Hanohano Instrumental Album\, with his collaboration with Jeff Peterson and Tsun-Hui Hung\, as well as\, the 2014 Na Hoku Hanohano award for Instrumental Album of the Year for his solo release “Stainless.” ” \n  \n– gregsardinha.com (source)
URL:https://nicoskailua.com/music/greg-and-darrel-55/
END:VEVENT
BEGIN:VEVENT
DTSTART;TZID=UTC:20250129T180000
DTEND;TZID=UTC:20250129T200000
DTSTAMP:20260423T100931
CREATED:20241227T013002Z
LAST-MODIFIED:20250101T003149Z
UID:7193-1738173600-1738180800@nicoskailua.com
SUMMARY:Kama Kakaio
DESCRIPTION:Please welcome\, Kama Kakaio! Contemporary music to match with the onolicious grindz.
URL:https://nicoskailua.com/music/kama-kakaio-55/
END:VEVENT
BEGIN:VEVENT
DTSTART;TZID=UTC:20250128T180000
DTEND;TZID=UTC:20250128T200000
DTSTAMP:20260423T100931
CREATED:20241225T012105Z
LAST-MODIFIED:20250101T003149Z
UID:7179-1738087200-1738094400@nicoskailua.com
SUMMARY:Hōkū Zuttermeister
DESCRIPTION:Hōkū Zuttermeister was born and raised in Kāne‘ohe\, Hawai‘i\, to parents Carl and Susan Zuttermeister. As Hōkū grew into his musical abilities\, he and his friends found an innate desire to play the music that their kūpuna listened to and performed; the music of the Hawaiian Renaissance as broadcast on the old KCCN 1420AM.    It is from this following that word of Hōkū’s talent started to spread throughout the islands\, as well as the Mainland US and Asia.
URL:https://nicoskailua.com/music/hoku-zuttermeister-51/
END:VEVENT
BEGIN:VEVENT
DTSTART;VALUE=DATE:20250127
DTEND;VALUE=DATE:20250128
DTSTAMP:20260423T100931
CREATED:20241225T011536Z
LAST-MODIFIED:20250101T003149Z
UID:7171-1737936000-1738022399@nicoskailua.com
SUMMARY:-CLOSED ALL DAY-
DESCRIPTION:
URL:https://nicoskailua.com/music/closed-all-day-58/
END:VEVENT
BEGIN:VEVENT
DTSTART;TZID=UTC:20250126T180000
DTEND;TZID=UTC:20250126T200000
DTSTAMP:20260423T100931
CREATED:20250101T003442Z
LAST-MODIFIED:20250101T003442Z
UID:7248-1737914400-1737921600@nicoskailua.com
SUMMARY:Blaine Kia
DESCRIPTION:Blaine Kia of Kamanawa joins us tonight sharing vast repertoire of songs ranging from traditional Hawaiian to Classic Rock and beyond!
URL:https://nicoskailua.com/music/blaine-kia-15/
END:VEVENT
BEGIN:VEVENT
DTSTART;TZID=UTC:20250125T180000
DTEND;TZID=UTC:20250125T200000
DTSTAMP:20260423T100931
CREATED:20241227T233007Z
LAST-MODIFIED:20250101T003149Z
UID:7229-1737828000-1737835200@nicoskailua.com
SUMMARY:Walt Keale
DESCRIPTION:Keale is nephew to the Hawaiian music legend\, Uncle Moe Keale\, and first-cousin to Skippy and Israel IZ Kamakawiwo’ole. His music brings forward the legacy of the Keale family.
URL:https://nicoskailua.com/music/walt-keale-48/
END:VEVENT
BEGIN:VEVENT
DTSTART;TZID=UTC:20250124T180000
DTEND;TZID=UTC:20250124T200000
DTSTAMP:20260423T100931
CREATED:20241227T232719Z
LAST-MODIFIED:20250101T003149Z
UID:7219-1737741600-1737748800@nicoskailua.com
SUMMARY:Kree Kahoa and Malik P
DESCRIPTION:Kree Kahoa and Malik P! Singer/Songwriter from Kaneohe\, sharing her story one lyric at a time.
URL:https://nicoskailua.com/music/kree-kahoa-and-malik-p-48/
END:VEVENT
BEGIN:VEVENT
DTSTART;TZID=UTC:20250123T180000
DTEND;TZID=UTC:20250123T200000
DTSTAMP:20260423T100931
CREATED:20241227T232346Z
LAST-MODIFIED:20250101T003149Z
UID:7209-1737655200-1737662400@nicoskailua.com
SUMMARY:Greg and Darrel
DESCRIPTION:“ Hawaii born and raised\, Greg Sardinha\, is a talented and veteran steel guitar player.  He has played many genre’s of music but his passion is sharing the music of  the Hawaiian Steel Guitar.  Greg\, has won the 2018 Na Hoku Hanohano Instrumental Album\, with his collaboration with Jeff Peterson and Tsun-Hui Hung\, as well as\, the 2014 Na Hoku Hanohano award for Instrumental Album of the Year for his solo release “Stainless.” ” \n  \n– gregsardinha.com (source)
URL:https://nicoskailua.com/music/greg-and-darrel-54/
END:VEVENT
BEGIN:VEVENT
DTSTART;TZID=UTC:20250122T180000
DTEND;TZID=UTC:20250122T200000
DTSTAMP:20260423T100931
CREATED:20241227T012922Z
LAST-MODIFIED:20250101T003149Z
UID:7191-1737568800-1737576000@nicoskailua.com
SUMMARY:Kama Kakaio
DESCRIPTION:Please welcome\, Kama Kakaio! Contemporary music to match with the onolicious grindz.
URL:https://nicoskailua.com/music/kama-kakaio-54/
END:VEVENT
BEGIN:VEVENT
DTSTART;TZID=UTC:20250121T180000
DTEND;TZID=UTC:20250121T200000
DTSTAMP:20260423T100931
CREATED:20241225T012029Z
LAST-MODIFIED:20250101T003149Z
UID:7177-1737482400-1737489600@nicoskailua.com
SUMMARY:Hōkū Zuttermeister
DESCRIPTION:Hōkū Zuttermeister was born and raised in Kāne‘ohe\, Hawai‘i\, to parents Carl and Susan Zuttermeister. As Hōkū grew into his musical abilities\, he and his friends found an innate desire to play the music that their kūpuna listened to and performed; the music of the Hawaiian Renaissance as broadcast on the old KCCN 1420AM.    It is from this following that word of Hōkū’s talent started to spread throughout the islands\, as well as the Mainland US and Asia.
URL:https://nicoskailua.com/music/hoku-zuttermeister-50/
END:VEVENT
BEGIN:VEVENT
DTSTART;VALUE=DATE:20250120
DTEND;VALUE=DATE:20250121
DTSTAMP:20260423T100931
CREATED:20241225T011510Z
LAST-MODIFIED:20250101T003149Z
UID:7169-1737331200-1737417599@nicoskailua.com
SUMMARY:-CLOSED ALL DAY-
DESCRIPTION:
URL:https://nicoskailua.com/music/closed-all-day-57/
END:VEVENT
BEGIN:VEVENT
DTSTART;TZID=UTC:20250119T180000
DTEND;TZID=UTC:20250119T200000
DTSTAMP:20260423T100931
CREATED:20250102T220902Z
LAST-MODIFIED:20250102T220902Z
UID:7256-1737309600-1737316800@nicoskailua.com
SUMMARY:Chris Rego
DESCRIPTION:Chis Rego will entertain you with a wide variety of music\, Ki ho alu (slack-key)\, Hawaiian\, American roots (Blues-Folk-Bluegrass)\, International Brazilian\, Spanish (flamenco)\, and finally Rock and Contemporary Songs. Chris’s professional career began when he joined the Hawaiian music group Kaleo o Kalani.
URL:https://nicoskailua.com/music/chris-rego-27/
END:VEVENT
BEGIN:VEVENT
DTSTART;TZID=UTC:20250118T180000
DTEND;TZID=UTC:20250118T200000
DTSTAMP:20260423T100931
CREATED:20241227T232940Z
LAST-MODIFIED:20250101T003149Z
UID:7227-1737223200-1737230400@nicoskailua.com
SUMMARY:Walt Keale
DESCRIPTION:Keale is nephew to the Hawaiian music legend\, Uncle Moe Keale\, and first-cousin to Skippy and Israel IZ Kamakawiwo’ole. His music brings forward the legacy of the Keale family.
URL:https://nicoskailua.com/music/walt-keale-47/
END:VEVENT
BEGIN:VEVENT
DTSTART;TZID=UTC:20250117T180000
DTEND;TZID=UTC:20250117T200000
DTSTAMP:20260423T100931
CREATED:20250101T003348Z
LAST-MODIFIED:20250101T003348Z
UID:7246-1737136800-1737144000@nicoskailua.com
SUMMARY:Chris Rego
DESCRIPTION:Chis Rego will entertain you with a wide variety of music\, Ki ho alu (slack-key)\, Hawaiian\, American roots (Blues-Folk-Bluegrass)\, International Brazilian\, Spanish (flamenco)\, and finally Rock and Contemporary Songs. Chris’s professional career began when he joined the Hawaiian music group Kaleo o Kalani.
URL:https://nicoskailua.com/music/chris-rego-25/
END:VEVENT
BEGIN:VEVENT
DTSTART;TZID=UTC:20250116T180000
DTEND;TZID=UTC:20250116T200000
DTSTAMP:20260423T100931
CREATED:20241227T232022Z
LAST-MODIFIED:20250101T003150Z
UID:7206-1737050400-1737057600@nicoskailua.com
SUMMARY:Greg and Darrel
DESCRIPTION:“ Hawaii born and raised\, Greg Sardinha\, is a talented and veteran steel guitar player.  He has played many genre’s of music but his passion is sharing the music of  the Hawaiian Steel Guitar.  Greg\, has won the 2018 Na Hoku Hanohano Instrumental Album\, with his collaboration with Jeff Peterson and Tsun-Hui Hung\, as well as\, the 2014 Na Hoku Hanohano award for Instrumental Album of the Year for his solo release “Stainless.” ” \n  \n– gregsardinha.com (source)
URL:https://nicoskailua.com/music/greg-and-darrel-53/
END:VEVENT
BEGIN:VEVENT
DTSTART;TZID=UTC:20250115T180000
DTEND;TZID=UTC:20250115T200000
DTSTAMP:20260423T100931
CREATED:20241225T012812Z
LAST-MODIFIED:20250101T003150Z
UID:7183-1736964000-1736971200@nicoskailua.com
SUMMARY:Kama Kakaio
DESCRIPTION:Please welcome\, Kama Kakaio! Contemporary music to match with the onolicious grindz.
URL:https://nicoskailua.com/music/kama-kakaio-53/
END:VEVENT
BEGIN:VEVENT
DTSTART;TZID=UTC:20250114T180000
DTEND;TZID=UTC:20250114T200000
DTSTAMP:20260423T100931
CREATED:20241225T011926Z
LAST-MODIFIED:20250101T003150Z
UID:7175-1736877600-1736884800@nicoskailua.com
SUMMARY:Hōkū Zuttermeister
DESCRIPTION:Hōkū Zuttermeister was born and raised in Kāne‘ohe\, Hawai‘i\, to parents Carl and Susan Zuttermeister. As Hōkū grew into his musical abilities\, he and his friends found an innate desire to play the music that their kūpuna listened to and performed; the music of the Hawaiian Renaissance as broadcast on the old KCCN 1420AM.    It is from this following that word of Hōkū’s talent started to spread throughout the islands\, as well as the Mainland US and Asia.
URL:https://nicoskailua.com/music/hoku-zuttermeister-49/
END:VEVENT
BEGIN:VEVENT
DTSTART;VALUE=DATE:20250113
DTEND;VALUE=DATE:20250114
DTSTAMP:20260423T100931
CREATED:20241225T011435Z
LAST-MODIFIED:20250101T003150Z
UID:7167-1736726400-1736812799@nicoskailua.com
SUMMARY:-CLOSED ALL DAY-
DESCRIPTION:
URL:https://nicoskailua.com/music/closed-all-day-56/
END:VEVENT
BEGIN:VEVENT
DTSTART;TZID=UTC:20250112T180000
DTEND;TZID=UTC:20250112T200000
DTSTAMP:20260423T100931
CREATED:20250102T221034Z
LAST-MODIFIED:20250102T221034Z
UID:7258-1736704800-1736712000@nicoskailua.com
SUMMARY:Kawika Kahi'apo
DESCRIPTION:With a laundry list of accomplishments (multiple Hoku Hanohano awardee and Grammy Award winner to name a few)\, this full-blooded Hawaiian needs no further introduction… Gracing us with his presence is Kawika Kahi’apo.
URL:https://nicoskailua.com/music/kawika-kahiapo-9/
END:VEVENT
BEGIN:VEVENT
DTSTART;TZID=UTC:20250111T180000
DTEND;TZID=UTC:20250111T200000
DTSTAMP:20260423T100931
CREATED:20241227T232914Z
LAST-MODIFIED:20250101T003150Z
UID:7225-1736618400-1736625600@nicoskailua.com
SUMMARY:Walt Keale
DESCRIPTION:Keale is nephew to the Hawaiian music legend\, Uncle Moe Keale\, and first-cousin to Skippy and Israel IZ Kamakawiwo’ole. His music brings forward the legacy of the Keale family.
URL:https://nicoskailua.com/music/walt-keale-46/
END:VEVENT
BEGIN:VEVENT
DTSTART;TZID=UTC:20250109T180000
DTEND;TZID=UTC:20250109T200000
DTSTAMP:20260423T100931
CREATED:20241227T225057Z
LAST-MODIFIED:20250101T003150Z
UID:7204-1736445600-1736452800@nicoskailua.com
SUMMARY:Greg and Darrel
DESCRIPTION:“ Hawaii born and raised\, Greg Sardinha\, is a talented and veteran steel guitar player.  He has played many genre’s of music but his passion is sharing the music of  the Hawaiian Steel Guitar.  Greg\, has won the 2018 Na Hoku Hanohano Instrumental Album\, with his collaboration with Jeff Peterson and Tsun-Hui Hung\, as well as\, the 2014 Na Hoku Hanohano award for Instrumental Album of the Year for his solo release “Stainless.” ” \n  \n– gregsardinha.com (source)
URL:https://nicoskailua.com/music/greg-and-darrel-52/
END:VEVENT
BEGIN:VEVENT
DTSTART;TZID=UTC:20250108T180000
DTEND;TZID=UTC:20250108T200000
DTSTAMP:20260423T100931
CREATED:20241225T012553Z
LAST-MODIFIED:20250101T003205Z
UID:7181-1736359200-1736366400@nicoskailua.com
SUMMARY:Kama Kakaio
DESCRIPTION:Please welcome\, Kama Kakaio! Contemporary music to match with the onolicious grindz.
URL:https://nicoskailua.com/music/kama-kakaio-52/
END:VEVENT
BEGIN:VEVENT
DTSTART;TZID=UTC:20250107T180000
DTEND;TZID=UTC:20250107T200000
DTSTAMP:20260423T100931
CREATED:20241225T011712Z
LAST-MODIFIED:20250101T003205Z
UID:7173-1736272800-1736280000@nicoskailua.com
SUMMARY:Hōkū Zuttermeister
DESCRIPTION:Hōkū Zuttermeister was born and raised in Kāne‘ohe\, Hawai‘i\, to parents Carl and Susan Zuttermeister. As Hōkū grew into his musical abilities\, he and his friends found an innate desire to play the music that their kūpuna listened to and performed; the music of the Hawaiian Renaissance as broadcast on the old KCCN 1420AM.    It is from this following that word of Hōkū’s talent started to spread throughout the islands\, as well as the Mainland US and Asia.
URL:https://nicoskailua.com/music/hoku-zuttermeister-48/
END:VEVENT
BEGIN:VEVENT
DTSTART;VALUE=DATE:20250106
DTEND;VALUE=DATE:20250107
DTSTAMP:20260423T100931
CREATED:20241225T011322Z
LAST-MODIFIED:20241225T011322Z
UID:7165-1736121600-1736207999@nicoskailua.com
SUMMARY:-CLOSED ALL DAY-
DESCRIPTION:
URL:https://nicoskailua.com/music/closed-all-day-55/
END:VEVENT
BEGIN:VEVENT
DTSTART;TZID=UTC:20250105T180000
DTEND;TZID=UTC:20250105T200000
DTSTAMP:20260423T100931
CREATED:20250102T220835Z
LAST-MODIFIED:20250102T220835Z
UID:7254-1736100000-1736107200@nicoskailua.com
SUMMARY:Chris Rego
DESCRIPTION:Chis Rego will entertain you with a wide variety of music\, Ki ho alu (slack-key)\, Hawaiian\, American roots (Blues-Folk-Bluegrass)\, International Brazilian\, Spanish (flamenco)\, and finally Rock and Contemporary Songs. Chris’s professional career began when he joined the Hawaiian music group Kaleo o Kalani.
URL:https://nicoskailua.com/music/chris-rego-26/
END:VEVENT
BEGIN:VEVENT
DTSTART;TZID=UTC:20250104T180000
DTEND;TZID=UTC:20250104T200000
DTSTAMP:20260423T100931
CREATED:20241227T232847Z
LAST-MODIFIED:20250101T003205Z
UID:7223-1736013600-1736020800@nicoskailua.com
SUMMARY:Walt Keale
DESCRIPTION:Keale is nephew to the Hawaiian music legend\, Uncle Moe Keale\, and first-cousin to Skippy and Israel IZ Kamakawiwo’ole. His music brings forward the legacy of the Keale family.
URL:https://nicoskailua.com/music/walt-keale-44/
END:VEVENT
BEGIN:VEVENT
DTSTART;TZID=UTC:20250103T180000
DTEND;TZID=UTC:20250103T200000
DTSTAMP:20260423T100931
CREATED:20241227T232505Z
LAST-MODIFIED:20250101T003205Z
UID:7213-1735927200-1735934400@nicoskailua.com
SUMMARY:Kree Kahoa and Malik P
DESCRIPTION:Kree Kahoa and Malik P! Singer/Songwriter from Kaneohe\, sharing her story one lyric at a time.
URL:https://nicoskailua.com/music/kree-kahoa-and-malik-p-45/
END:VEVENT
END:VCALENDAR