BEGIN:VCALENDAR
VERSION:2.0
PRODID:-//Nico&#039;s Kailua - ECPv6.15.20//NONSGML v1.0//EN
CALSCALE:GREGORIAN
METHOD:PUBLISH
X-WR-CALNAME:Nico&#039;s Kailua
X-ORIGINAL-URL:https://nicoskailua.com
X-WR-CALDESC:Events for Nico&#039;s Kailua
REFRESH-INTERVAL;VALUE=DURATION:PT1H
X-Robots-Tag:noindex
X-PUBLISHED-TTL:PT1H
BEGIN:VTIMEZONE
TZID:UTC
BEGIN:STANDARD
TZOFFSETFROM:+0000
TZOFFSETTO:+0000
TZNAME:UTC
DTSTART:20240101T000000
END:STANDARD
END:VTIMEZONE
BEGIN:VTIMEZONE
TZID:Pacific/Honolulu
BEGIN:STANDARD
TZOFFSETFROM:-1000
TZOFFSETTO:-1000
TZNAME:HST
DTSTART:20240101T000000
END:STANDARD
END:VTIMEZONE
BEGIN:VEVENT
DTSTART;TZID=UTC:20260115T180000
DTEND;TZID=UTC:20260115T200000
DTSTAMP:20260422T072402
CREATED:20251231T230523Z
LAST-MODIFIED:20251231T230523Z
UID:11882-1768500000-1768507200@nicoskailua.com
SUMMARY:Greg and Darrel
DESCRIPTION:“ Hawaii born and raised\, Greg Sardinha\, is a talented and veteran steel guitar player.  He has played many genre’s of music but his passion is sharing the music of  the Hawaiian Steel Guitar.  Greg\, has won the 2018 Na Hoku Hanohano Instrumental Album\, with his collaboration with Jeff Peterson and Tsun-Hui Hung\, as well as\, the 2014 Na Hoku Hanohano award for Instrumental Album of the Year for his solo release “Stainless.” ” \n  \n– gregsardinha.com (source)
URL:https://nicoskailua.com/music/greg-and-darrel-100/
END:VEVENT
BEGIN:VEVENT
DTSTART;TZID=Pacific/Honolulu:20260114T180000
DTEND;TZID=Pacific/Honolulu:20260114T200000
DTSTAMP:20260422T072402
CREATED:20251231T230011Z
LAST-MODIFIED:20251231T230011Z
UID:11876-1768413600-1768420800@nicoskailua.com
SUMMARY:Jesse Kaawa
DESCRIPTION:Providing Professional Local Music; Smoothing Falsettos\, Traditional Favorites\, Contemporary Hits\, and much more
URL:https://nicoskailua.com/music/jesse-kaawa-22/
END:VEVENT
BEGIN:VEVENT
DTSTART;TZID=UTC:20260113T180000
DTEND;TZID=UTC:20260113T200000
DTSTAMP:20260422T072402
CREATED:20251231T224749Z
LAST-MODIFIED:20251231T224749Z
UID:11864-1768327200-1768334400@nicoskailua.com
SUMMARY:Hōkū Zuttermeister
DESCRIPTION:Hōkū Zuttermeister was born and raised in Kāne‘ohe\, Hawai‘i\, to parents Carl and Susan Zuttermeister. As Hōkū grew into his musical abilities\, he and his friends found an innate desire to play the music that their kūpuna listened to and performed; the music of the Hawaiian Renaissance as broadcast on the old KCCN 1420AM.    It is from this following that word of Hōkū’s talent started to spread throughout the islands\, as well as the Mainland US and Asia.
URL:https://nicoskailua.com/music/hoku-zuttermeister-89/
END:VEVENT
BEGIN:VEVENT
DTSTART;VALUE=DATE:20260112
DTEND;VALUE=DATE:20260113
DTSTAMP:20260422T072402
CREATED:20251231T223807Z
LAST-MODIFIED:20251231T223807Z
UID:11856-1768176000-1768262399@nicoskailua.com
SUMMARY:-CLOSED ALL DAY-
DESCRIPTION:
URL:https://nicoskailua.com/music/closed-all-day-108/
END:VEVENT
BEGIN:VEVENT
DTSTART;TZID=UTC:20260111T180000
DTEND;TZID=UTC:20260111T200000
DTSTAMP:20260422T072402
CREATED:20251231T235048Z
LAST-MODIFIED:20251231T235048Z
UID:11913-1768154400-1768161600@nicoskailua.com
SUMMARY:Chris Rego
DESCRIPTION:Chis Rego will entertain you with a wide variety of music\, Ki ho alu (slack-key)\, Hawaiian\, American roots (Blues-Folk-Bluegrass)\, International Brazilian\, Spanish (flamenco)\, and finally Rock and Contemporary Songs. Chris’s professional career began when he joined the Hawaiian music group Kaleo o Kalani.
URL:https://nicoskailua.com/music/chris-rego-46/
END:VEVENT
BEGIN:VEVENT
DTSTART;TZID=UTC:20260110T180000
DTEND;TZID=UTC:20260110T200000
DTSTAMP:20260422T072402
CREATED:20251231T232355Z
LAST-MODIFIED:20251231T232355Z
UID:11900-1768068000-1768075200@nicoskailua.com
SUMMARY:Walt Keale
DESCRIPTION:Keale is nephew to the Hawaiian music legend\, Uncle Moe Keale\, and first-cousin to Skippy and Israel IZ Kamakawiwo’ole. His music brings forward the legacy of the Keale family.
URL:https://nicoskailua.com/music/walt-keale-88/
END:VEVENT
BEGIN:VEVENT
DTSTART;TZID=UTC:20260109T180000
DTEND;TZID=UTC:20260109T200000
DTSTAMP:20260422T072402
CREATED:20251231T231220Z
LAST-MODIFIED:20251231T231220Z
UID:11890-1767981600-1767988800@nicoskailua.com
SUMMARY:Kama Kakaio
DESCRIPTION:Please welcome\, Kama Kakaio! Contemporary music to match the onolicious grindz.
URL:https://nicoskailua.com/music/kama-kakaio-97/
END:VEVENT
BEGIN:VEVENT
DTSTART;TZID=UTC:20260108T180000
DTEND;TZID=UTC:20260108T200000
DTSTAMP:20260422T072402
CREATED:20251231T230249Z
LAST-MODIFIED:20251231T230249Z
UID:11880-1767895200-1767902400@nicoskailua.com
SUMMARY:Greg and Darrel
DESCRIPTION:“ Hawaii born and raised\, Greg Sardinha\, is a talented and veteran steel guitar player.  He has played many genre’s of music but his passion is sharing the music of  the Hawaiian Steel Guitar.  Greg\, has won the 2018 Na Hoku Hanohano Instrumental Album\, with his collaboration with Jeff Peterson and Tsun-Hui Hung\, as well as\, the 2014 Na Hoku Hanohano award for Instrumental Album of the Year for his solo release “Stainless.” ” \n  \n– gregsardinha.com (source)
URL:https://nicoskailua.com/music/greg-and-darrel-99/
END:VEVENT
BEGIN:VEVENT
DTSTART;TZID=Pacific/Honolulu:20260107T180000
DTEND;TZID=Pacific/Honolulu:20260107T200000
DTSTAMP:20260422T072402
CREATED:20251231T225442Z
LAST-MODIFIED:20251231T225442Z
UID:11870-1767808800-1767816000@nicoskailua.com
SUMMARY:Jesse Kaawa
DESCRIPTION:Providing Professional Local Music; Smoothing Falsettos\, Traditional Favorites\, Contemporary Hits\, and much more
URL:https://nicoskailua.com/music/jesse-kaawa-19/
END:VEVENT
BEGIN:VEVENT
DTSTART;TZID=UTC:20260106T180000
DTEND;TZID=UTC:20260106T200000
DTSTAMP:20260422T072402
CREATED:20251231T224704Z
LAST-MODIFIED:20251231T224704Z
UID:11862-1767722400-1767729600@nicoskailua.com
SUMMARY:Hōkū Zuttermeister
DESCRIPTION:Hōkū Zuttermeister was born and raised in Kāne‘ohe\, Hawai‘i\, to parents Carl and Susan Zuttermeister. As Hōkū grew into his musical abilities\, he and his friends found an innate desire to play the music that their kūpuna listened to and performed; the music of the Hawaiian Renaissance as broadcast on the old KCCN 1420AM.    It is from this following that word of Hōkū’s talent started to spread throughout the islands\, as well as the Mainland US and Asia.
URL:https://nicoskailua.com/music/hoku-zuttermeister-84/
END:VEVENT
BEGIN:VEVENT
DTSTART;VALUE=DATE:20260105
DTEND;VALUE=DATE:20260106
DTSTAMP:20260422T072402
CREATED:20251231T223703Z
LAST-MODIFIED:20251231T223703Z
UID:11854-1767571200-1767657599@nicoskailua.com
SUMMARY:-CLOSED ALL DAY-
DESCRIPTION:
URL:https://nicoskailua.com/music/closed-all-day-107/
END:VEVENT
BEGIN:VEVENT
DTSTART;TZID=UTC:20260104T180000
DTEND;TZID=UTC:20260104T200000
DTSTAMP:20260422T072402
CREATED:20251231T233001Z
LAST-MODIFIED:20251231T233001Z
UID:11908-1767549600-1767556800@nicoskailua.com
SUMMARY:Blaine Kia
DESCRIPTION:Blaine Kia of Kamanawa joins us tonight sharing vast repertoire of songs ranging from traditional Hawaiian to Classic Rock and beyond!
URL:https://nicoskailua.com/music/blaine-kia-23/
END:VEVENT
BEGIN:VEVENT
DTSTART;TZID=UTC:20260103T180000
DTEND;TZID=UTC:20260103T200000
DTSTAMP:20260422T072402
CREATED:20251231T232252Z
LAST-MODIFIED:20251231T232252Z
UID:11898-1767463200-1767470400@nicoskailua.com
SUMMARY:Walt Keale
DESCRIPTION:Keale is nephew to the Hawaiian music legend\, Uncle Moe Keale\, and first-cousin to Skippy and Israel IZ Kamakawiwo’ole. His music brings forward the legacy of the Keale family.
URL:https://nicoskailua.com/music/walt-keale-86/
END:VEVENT
BEGIN:VEVENT
DTSTART;TZID=UTC:20260102T180000
DTEND;TZID=UTC:20260102T200000
DTSTAMP:20260422T072402
CREATED:20251231T230908Z
LAST-MODIFIED:20251231T230908Z
UID:11888-1767376800-1767384000@nicoskailua.com
SUMMARY:Kama Kakaio
DESCRIPTION:Please welcome\, Kama Kakaio! Contemporary music to match the onolicious grindz.
URL:https://nicoskailua.com/music/kama-kakaio-96/
END:VEVENT
BEGIN:VEVENT
DTSTART;VALUE=DATE:20260101
DTEND;VALUE=DATE:20260102
DTSTAMP:20260422T072402
CREATED:20251202T230052Z
LAST-MODIFIED:20251202T230052Z
UID:11534-1767225600-1767311999@nicoskailua.com
SUMMARY:CLOSED ALL DAY NEW YEARS DAY
DESCRIPTION:CLOSED ALL DAY IN OBSERVANCE OF NEW YEARS DAY. WE WILL REOPEN TOMORROW (1/2) DURING NORMAL BUSINESS HOURS. MAHALO AND HAPPY NEW YEAR!
URL:https://nicoskailua.com/music/closed-all-day-new-years-day-2/
END:VEVENT
BEGIN:VEVENT
DTSTART;TZID=UTC:20251231T160000
DTEND;TZID=UTC:20251231T235900
DTSTAMP:20260422T072402
CREATED:20251224T003004Z
LAST-MODIFIED:20251224T003004Z
UID:11767-1767196800-1767225540@nicoskailua.com
SUMMARY:CLOSING AT 4:00 PM NEW YEARS EVE
DESCRIPTION:We are closing our Restaurant at 4:00 p.m. for New Year’s Eve. We will reopen on 1/2/2025 at 11:00 a.m. Mahalo!
URL:https://nicoskailua.com/music/closing-at-400-pm-new-years-eve-2/
END:VEVENT
BEGIN:VEVENT
DTSTART;TZID=UTC:20251230T180000
DTEND;TZID=UTC:20251230T200000
DTSTAMP:20260422T072402
CREATED:20251203T010948Z
LAST-MODIFIED:20251203T010948Z
UID:11578-1767117600-1767124800@nicoskailua.com
SUMMARY:Hōkū Zuttermeister
DESCRIPTION:Hōkū Zuttermeister was born and raised in Kāne‘ohe\, Hawai‘i\, to parents Carl and Susan Zuttermeister. As Hōkū grew into his musical abilities\, he and his friends found an innate desire to play the music that their kūpuna listened to and performed; the music of the Hawaiian Renaissance as broadcast on the old KCCN 1420AM.    It is from this following that word of Hōkū’s talent started to spread throughout the islands\, as well as the Mainland US and Asia.
URL:https://nicoskailua.com/music/hoku-zuttermeister-88/
END:VEVENT
BEGIN:VEVENT
DTSTART;VALUE=DATE:20251229
DTEND;VALUE=DATE:20251230
DTSTAMP:20260422T072402
CREATED:20251202T225723Z
LAST-MODIFIED:20251202T225723Z
UID:11530-1766966400-1767052799@nicoskailua.com
SUMMARY:-CLOSED ALL DAY-
DESCRIPTION:
URL:https://nicoskailua.com/music/closed-all-day-106/
END:VEVENT
BEGIN:VEVENT
DTSTART;TZID=UTC:20251227T180000
DTEND;TZID=UTC:20251227T200000
DTSTAMP:20260422T072402
CREATED:20251203T003253Z
LAST-MODIFIED:20251203T003253Z
UID:11566-1766858400-1766865600@nicoskailua.com
SUMMARY:Walt Keale
DESCRIPTION:Keale is nephew to the Hawaiian music legend\, Uncle Moe Keale\, and first-cousin to Skippy and Israel IZ Kamakawiwo’ole. His music brings forward the legacy of the Keale family.
URL:https://nicoskailua.com/music/walt-keale-87/
END:VEVENT
BEGIN:VEVENT
DTSTART;TZID=UTC:20251226T180000
DTEND;TZID=UTC:20251226T200000
DTSTAMP:20260422T072402
CREATED:20251203T002418Z
LAST-MODIFIED:20251203T002418Z
UID:11558-1766772000-1766779200@nicoskailua.com
SUMMARY:Kama Kakaio
DESCRIPTION:Please welcome\, Kama Kakaio! Contemporary music to match the onolicious grindz.
URL:https://nicoskailua.com/music/kama-kakaio-95/
END:VEVENT
BEGIN:VEVENT
DTSTART;VALUE=DATE:20251225
DTEND;VALUE=DATE:20251226
DTSTAMP:20260422T072402
CREATED:20251202T225937Z
LAST-MODIFIED:20251202T225937Z
UID:11532-1766620800-1766707199@nicoskailua.com
SUMMARY:CLOSED ALL DAY CHRISTMAS
DESCRIPTION:CLOSED ALL DAY IN OBSERVANCE OF CHRISTMAS. WE WILL REOPEN TOMORROW (12/26) DURING NORMAL BUSINESS HOURS. MAHALO AND MERRY CHRISTMAS!
URL:https://nicoskailua.com/music/closed-all-day-christmas-2/
END:VEVENT
BEGIN:VEVENT
DTSTART;TZID=UTC:20251224T160000
DTEND;TZID=UTC:20251224T235900
DTSTAMP:20260422T072402
CREATED:20251223T234135Z
LAST-MODIFIED:20251223T234135Z
UID:11701-1766592000-1766620740@nicoskailua.com
SUMMARY:CLOSING AT 4:00PM CHRISTMAS EVE
DESCRIPTION:We are closing our Restaurant at 4:00 pm for Christmas Eve. We will reopen on 12/26 at 11:00 am. Mahalo!
URL:https://nicoskailua.com/music/closing-at-400pm-christmas-eve-2/
END:VEVENT
BEGIN:VEVENT
DTSTART;TZID=UTC:20251223T180000
DTEND;TZID=UTC:20251223T200000
DTSTAMP:20260422T072402
CREATED:20251203T010910Z
LAST-MODIFIED:20251203T010910Z
UID:11576-1766512800-1766520000@nicoskailua.com
SUMMARY:Hōkū Zuttermeister
DESCRIPTION:Hōkū Zuttermeister was born and raised in Kāne‘ohe\, Hawai‘i\, to parents Carl and Susan Zuttermeister. As Hōkū grew into his musical abilities\, he and his friends found an innate desire to play the music that their kūpuna listened to and performed; the music of the Hawaiian Renaissance as broadcast on the old KCCN 1420AM.    It is from this following that word of Hōkū’s talent started to spread throughout the islands\, as well as the Mainland US and Asia.
URL:https://nicoskailua.com/music/hoku-zuttermeister-87/
END:VEVENT
BEGIN:VEVENT
DTSTART;VALUE=DATE:20251222
DTEND;VALUE=DATE:20251223
DTSTAMP:20260422T072402
CREATED:20251202T225622Z
LAST-MODIFIED:20251202T225622Z
UID:11528-1766361600-1766447999@nicoskailua.com
SUMMARY:-CLOSED ALL DAY-
DESCRIPTION:
URL:https://nicoskailua.com/music/closed-all-day-105/
END:VEVENT
BEGIN:VEVENT
DTSTART;TZID=UTC:20251221T180000
DTEND;TZID=UTC:20251221T200000
DTSTAMP:20260422T072402
CREATED:20251203T010621Z
LAST-MODIFIED:20251203T010621Z
UID:11572-1766340000-1766347200@nicoskailua.com
SUMMARY:Chris Rego
DESCRIPTION:Chis Rego will entertain you with a wide variety of music\, Ki ho alu (slack-key)\, Hawaiian\, American roots (Blues-Folk-Bluegrass)\, International Brazilian\, Spanish (flamenco)\, and finally Rock and Contemporary Songs. Chris’s professional career began when he joined the Hawaiian music group Kaleo o Kalani.
URL:https://nicoskailua.com/music/chris-rego-45/
END:VEVENT
BEGIN:VEVENT
DTSTART;TZID=UTC:20251219T180000
DTEND;TZID=UTC:20251219T200000
DTSTAMP:20260422T072402
CREATED:20251203T001132Z
LAST-MODIFIED:20251203T001132Z
UID:11556-1766167200-1766174400@nicoskailua.com
SUMMARY:Kama Kakaio
DESCRIPTION:Please welcome\, Kama Kakaio! Contemporary music to match the onolicious grindz.
URL:https://nicoskailua.com/music/kama-kakaio-94/
END:VEVENT
BEGIN:VEVENT
DTSTART;TZID=UTC:20251218T180000
DTEND;TZID=UTC:20251218T200000
DTSTAMP:20260422T072402
CREATED:20251202T235249Z
LAST-MODIFIED:20251202T235249Z
UID:11548-1766080800-1766088000@nicoskailua.com
SUMMARY:Greg and Darrel
DESCRIPTION:“ Hawaii born and raised\, Greg Sardinha\, is a talented and veteran steel guitar player.  He has played many genre’s of music but his passion is sharing the music of  the Hawaiian Steel Guitar.  Greg\, has won the 2018 Na Hoku Hanohano Instrumental Album\, with his collaboration with Jeff Peterson and Tsun-Hui Hung\, as well as\, the 2014 Na Hoku Hanohano award for Instrumental Album of the Year for his solo release “Stainless.” ” \n  \n– gregsardinha.com (source)
URL:https://nicoskailua.com/music/greg-and-darrel-98/
END:VEVENT
BEGIN:VEVENT
DTSTART;TZID=Pacific/Honolulu:20251217T180000
DTEND;TZID=Pacific/Honolulu:20251217T200000
DTSTAMP:20260422T072402
CREATED:20251202T231640Z
LAST-MODIFIED:20251202T231640Z
UID:11540-1765994400-1766001600@nicoskailua.com
SUMMARY:Jesse Kaawa
DESCRIPTION:Providing Professional Local Music; Smoothing Falsettos\, Traditional Favorites\, Contemporary Hits\, and much more
URL:https://nicoskailua.com/music/jesse-kaawa-18/
END:VEVENT
BEGIN:VEVENT
DTSTART;VALUE=DATE:20251215
DTEND;VALUE=DATE:20251216
DTSTAMP:20260422T072402
CREATED:20251202T225457Z
LAST-MODIFIED:20251202T225457Z
UID:11526-1765756800-1765843199@nicoskailua.com
SUMMARY:-CLOSED ALL DAY-
DESCRIPTION:
URL:https://nicoskailua.com/music/closed-all-day-104/
END:VEVENT
BEGIN:VEVENT
DTSTART;TZID=Pacific/Honolulu:20251214T180000
DTEND;TZID=Pacific/Honolulu:20251214T200000
DTSTAMP:20260422T072402
CREATED:20251203T010505Z
LAST-MODIFIED:20251203T010505Z
UID:11570-1765735200-1765742400@nicoskailua.com
SUMMARY:Kamanawa Christmas
DESCRIPTION:The enchanting harmonies started in 2008 when Blaine Kia and Kalei Kahalewai became one. That one became “KAMANAWA”. Enjoy their music this holiday season!
URL:https://nicoskailua.com/music/kamanawa-christmas/
END:VEVENT
END:VCALENDAR